Workbook

Sheet PANEL DE CONTROL DISTRITAL
A1: INSTITUTO NACIONAL ELECTORAL SISTEMA DE GESTIÓN DE LA CALIDAD ESTADO DE MÉXICO
M2: Fecha de corte: 22/01/2024 | Q2: Version: 0
A4: TABLERO DE CONTROL DISTRITAL DE PROCESOS SUSTANTIVOS DEL SISTEMA DE GESTIÓN DE LA CALIDAD
A5: CAMPAÑA ANUAL INTENSA 2023
A6: Número | B6: PROCESOS SUSTANTIVOS E INDICADORES | I6: % AVANCE REGISTRADO | K6: % AVANCE REGISTRADO | M6: % AVANCE REGISTRADO | O6: % AVANCE REGISTRADO | Q6: % AVANCE REGISTRADO | S6: % AVANCE REGISTRADO | U6: % AVANCE REGISTRADO | W6: % AVANCE REGISTRADO | Y6: % AVANCE REGISTRADO | AA6: % AVANCE REGISTRADO | AC6: % AVANCE REGISTRADO | AE6: % AVANCE REGISTRADO | AG6: % AVANCE REGISTRADO | AI6: % AVANCE REGISTRADO | AK6: % AVANCE REGISTRADO | AM6: % AVANCE REGISTRADO | AO6: % AVANCE REGISTRADO | AQ6: % AVANCE REGISTRADO | AS6: % AVANCE REGISTRADO | AU6: % AVANCE REGISTRADO | AW6: % AVANCE REGISTRADO | AY6: % AVANCE REGISTRADO | BA6: % AVANCE REGISTRADO | BC6: % AVANCE REGISTRADO | BE6: % AVANCE REGISTRADO | BG6: % AVANCE REGISTRADO | BI6: % AVANCE REGISTRADO | BK6: % AVANCE REGISTRADO | BM6: % AVANCE REGISTRADO | BO6: % AVANCE REGISTRADO | BQ6: % AVANCE REGISTRADO | BS6: % AVANCE REGISTRADO | BU6: % AVANCE REGISTRADO | BW6: % AVANCE REGISTRADO | BY6: % AVANCE REGISTRADO | CA6: % AVANCE REGISTRADO | CC6: % AVANCE REGISTRADO | CE6: % AVANCE REGISTRADO | CG6: % AVANCE REGISTRADO | CI6: % AVANCE REGISTRADO | CK6: % AVANCE REGISTRADO
B7: DESCRIPCIÓN | E7: MEDICIÓN
B8: Proceso | C8: Dueño de Proceso | D8: Indicador | E8: Cálculo | F8: Periodo | G8: Estimado | H8: Nominativo | I8: Distrito 01 | K8: Distrito 02 | M8: Distrito 03 | O8: Distrito 04 | Q8: Distrito 05 | S8: Distrito 06 | U8: Distrito 07 | W8: Distrito 08 | Y8: Distrito 09 | AA8: Distrito 10 | AC8: Distrito 11 | AE8: Distrito 12 | AG8: Distrito 13 | AI8: Distrito 14 | AK8: Distrito 15 | AM8: Distrito 16 | AO8: Distrito 17 | AQ8: Distrito 18 | AS8: Distrito 19 | AU8: Distrito 20 | AW8: Distrito 21 | AY8: Distrito 22 | BA8: Distrito 23 | BC8: Distrito 24 | BE8: Distrito 25 | BG8: Distrito 26 | BI8: Distrito 27 | BK8: Distrito 28 | BM8: Distrito 29 | BO8: Distrito 30 | BQ8: Distrito 31 | BS8: Distrito 32 | BU8: Distrito 33 | BW8: Distrito 34 | BY8: Distrito 35 | CA8: Distrito 36 | CC8: Distrito 37 | CE8: Distrito 38 | CG8: Distrito 39 | CI8: Distrito 40 | CK8: Estatal
A9: 1 | B9: ENTREVISTA | C9: Auxiliar de Atención Ciudadana | D9: Efectividad de la entrevista = | E9: (Número de trámites aplicados / (Número de fichas requisitadas - Notificaciones de improcedencia de trámite)) x 100 | F9: Semanal (remesa) | G9: 0.9 | H9: Número de trámites aplicados | I9: =AVERAGE('150151'!AE10:AE11,'150152'!AE10:AE11,'150153'!AE10:AE11) -> 1 | K9: =AVERAGE('150251'!AE10:AE11,'150253'!AE10:AE11) -> 0.98825421 | M9: =AVERAGE('150351'!AE10:AE11,'150352'!AE10:AE11,'150353'!AE10:AE11) -> 0.99864062 | O9: =AVERAGE('150451'!AE10:AE11) -> 0.99724751 | Q9: =AVERAGE('150551'!AE10:AE11) -> 0.99699536 | S9: =AVERAGE('150651'!AE10:AE11,'150652'!AE10:AE11) -> 0.98706 | U9: =AVERAGE('150751'!AE10:AE11) -> 0.98779669 | W9: =AVERAGE('150851'!AE10:AE11) -> 0.99761348 | Y9: =AVERAGE('150951'!AE10:AE11,'150952'!AE10:AE11,'150953'!AE10:AE11,'150954'!AE10:AE11) -> 1 | AA9: =AVERAGE('151051'!AE10:AE11) -> 0.99986922 | AC9: =AVERAGE('151151'!AE10:AE11) -> 0.98661922 | AE9: =AVERAGE('151251'!AE10:AE11,'151252'!AE10:AE11,'151253'!AE10:AE11) -> 0.99788381 | AG9: =AVERAGE('151351'!AE10:AE11) -> 1 | AI9: =AVERAGE('151452'!AE10:AE11,'151453'!AE10:AE11) -> 1 | AK9: =AVERAGE('151551'!AE10:AE11) -> 1 | AM9: =AVERAGE('151651'!AE10:AE11,'151652'!AE10:AE11) -> 0.99234459 | AO9: =AVERAGE('151751'!AE10:AE11) -> 1 | AQ9: =AVERAGE('151851'!AE10:AE11,'151852'!AE10:AE11,'151853'!AE10:AE11) -> 0.99720861 | AS9: =AVERAGE('151951'!AE10:AE11,'151952'!AE10:AE11) -> 1 | AU9: =AVERAGE('152052'!AE10:AE11,'152053'!AE10:AE11,'152054'!AE10:AE11) -> 0.99640342 | AW9: =AVERAGE('152151'!AE10:AE11,'152152'!AE10:AE11) -> 1.0001218 | AY9: =AVERAGE('152251'!AE10:AE11,'152252'!AE10:AE11) -> 0.98011776 | BA9: =AVERAGE('152351'!AE10:AE11,'152352'!AE10:AE11,'152353'!AE10:AE11) -> 0.99914413 | BC9: =AVERAGE('152451'!AE10:AE11) -> 0.99940256 | BE9: =AVERAGE('152551'!AE10:AE11) -> 0.9963596 | BG9: =AVERAGE('152651'!AE10:AE11) -> 0.9978398 | BI9: =AVERAGE('152751'!AE10:AE11,'152752'!AE10:AE11,'152753'!AE10:AE11) -> 0.99894002 | BK9: =AVERAGE('152851'!AE10:AE11,'152853'!AE10:AE11) -> 0.99726704 | BM9: =AVERAGE('152951'!AE10:AE11) -> 0.98315848 | BO9: =AVERAGE('153051'!AE10:AE11,'153052'!AE10:AE11) -> 0.99988522 | BQ9: =AVERAGE('153151'!AE10:AE11) -> 1 | BS9: =AVERAGE('153251'!AE10:AE11) -> 0.99658219 | BU9: =AVERAGE('153351'!AE10:AE11) -> 1 | BW9: =AVERAGE('153451'!AE10:AE11) -> 1 | BY9: =AVERAGE('153551'!AE10:AE11,'153552'!AE10:AE11,'153553'!AE10:AE11) -> 0.99970062 | CA9: =AVERAGE('153651'!AE10:AE11,'153652'!AE10:AE11,'153653'!AE10:AE11,'153654'!AE10:AE11) -> 1 | CC9: =AVERAGE('153753'!AE10:AE11,'153752'!AE10:AE11) -> 0.99699668 | CE9: =AVERAGE('153851'!AE10:AE11,'153852'!AE10:AE11) -> 1 | CG9: =AVERAGE('153951'!AE10:AE11) -> 1 | CI9: =AVERAGE('154051'!AE10:AE11,'154052'!AE10:AE11,'154053'!AE10:AE11) -> 0.99818448 | CK9: =AVERAGE(I9,K9,M9,O9,Q9,S9,U9,W9,Y9,AA9,AC9,AE9,AG9,AI9,AK9,AM9,AO9,AQ9,AS9,AU9,AW9,AY9,BA9,BC9,BE9,BG9,BI9,BK9,BM9,BO9,BQ9,BS9,BU9,BW9,BY9,CA9,CC9,CE9,CG9,CI9) -> 0.99669093
H10: Número de fichas requisitadas - Notificaciones de improcedencia de trámite
A12: 2 | B12: TRÁMITE | C12: Operador de Equipo Tecnológico | D12: Trámites exitosos efectivos= | E12: (Número de trámites exitosos / Número de trámites aplicados) x 100 | F12: Semanal (remesa) | G12: 0.9 | H12: Número de trámites exitosos | I12: =AVERAGE('150151'!AE13:AE14,'150152'!AE13:AE14,'150153'!AE13:AE14) -> 0.99754931 | K12: =AVERAGE('150251'!AE13:AE14,'150253'!AE13:AE14) -> 0.99016696 | M12: =AVERAGE('150351'!AE13:AE14,'150352'!AE13:AE14,'150353'!AE13:AE14) -> 0.98393981 | O12: =AVERAGE('150451'!AE13:AE14) -> 0.9985138 | Q12: =AVERAGE('150551'!AE13:AE14) -> 0.99954338 | S12: =AVERAGE('150651'!AE13:AE14,'150652'!AE13:AE14) -> 0.99758103 | U12: =AVERAGE('150751'!AE13:AE14) -> 0.99705316 | W12: =AVERAGE('150851'!AE13:AE14) -> 0.99804554 | Y12: =AVERAGE('150951'!AE13:AE14,'150952'!AE13:AE14,'150953'!AE13:AE14,'150954'!AE13:AE14) -> 0.99729633 | AA12: =AVERAGE('151051'!AE13:AE14) -> 0.99581444 | AC12: =AVERAGE('151151'!AE13:AE14) -> 0.99575475 | AE12: =AVERAGE('151251'!AE13:AE14,'151252'!AE13:AE14,'151253'!AE13:AE14) -> 0.99653054 | AG12: =AVERAGE('151351'!AE13:AE14) -> 0.99499071 | AI12: =AVERAGE('151452'!AE13:AE14,'151453'!AE13:AE14) -> 0.99834639 | AK12: =AVERAGE('151551'!AE13:AE14) -> 0.99646863 | AM12: =AVERAGE('151651'!AE13:AE14,'151652'!AE13:AE14) -> 0.9973909 | AO12: =AVERAGE('151751'!AE13:AE14) -> 0.98756408 | AQ12: =AVERAGE('151851'!AE13:AE14,'151852'!AE13:AE14,'151853'!AE13:AE14) -> 0.98718827 | AS12: =AVERAGE('151951'!AE13:AE14,'151952'!AE13:AE14) -> 0.99530942 | AU12: =AVERAGE('152052'!AE13:AE14,'152053'!AE13:AE14,'152054'!AE13:AE14) -> 0.99022372 | AW12: =AVERAGE('152151'!AE13:AE14,'152152'!AE13:AE14) -> 0.99388358 | AY12: =AVERAGE('152251'!AE13:AE14,'152252'!AE13:AE14) -> 0.99587081 | BA12: =AVERAGE('152351'!AE13:AE14,'152352'!AE13:AE14,'152353'!AE13:AE14) -> 0.99829941 | BC12: =AVERAGE('152451'!AE13:AE14) -> 1 | BE12: =AVERAGE('152551'!AE13:AE14) -> 0.99403869 | BG12: =AVERAGE('152651'!AE13:AE14) -> 0.99769545 | BI12: =AVERAGE('152751'!AE13:AE14,'152752'!AE13:AE14,'152753'!AE13:AE14) -> 0.99800418 | BK12: =AVERAGE('152851'!AE13:AE14,'152853'!AE13:AE14) -> 0.99637265 | BM12: =AVERAGE('152951'!AE13:AE14) -> 0.99872355 | BO12: =AVERAGE('153051'!AE13:AE14,'153052'!AE13:AE14) -> 0.99412055 | BQ12: =AVERAGE('153151'!AE13:AE14) -> 0.99734126 | BS12: =AVERAGE('153251'!AE13:AE14) -> 0.99653811 | BU12: =AVERAGE('153351'!AE13:AE14) -> 0.99632861 | BW12: =AVERAGE('153451'!AE13:AE14) -> 0.99556191 | BY12: =AVERAGE('153551'!AE13:AE14,'153552'!AE13:AE14,'153553'!AE13:AE14) -> 0.9961051 | CA12: =AVERAGE('153651'!AE13:AE14,'153652'!AE13:AE14,'153653'!AE13:AE14,'153654'!AE13:AE14) -> 0.98949335 | CC12: =AVERAGE('153753'!AE13:AE14,'153752'!AE13:AE14) -> 0.99290115 | CE12: =AVERAGE('153851'!AE13:AE14,'153852'!AE13:AE14) -> 0.99381585 | CG12: =AVERAGE('153951'!AE13:AE14) -> 0.99925518 | CI12: =AVERAGE('154051'!AE13:AE14,'154052'!AE13:AE14,'154053'!AE13:AE14) -> 0.99725819 | CK12: =AVERAGE(I12,K12,M12,O12,Q12,S12,U12,W12,Y12,AA12,AC12,AE12,AG12,AI12,AK12,AM12,AO12,AQ12,AS12,AU12,AW12,AY12,BA12,BC12,BE12,BG12,BI12,BK12,BM12,BO12,BQ12,BS12,BU12,BW12,BY12,CA12,CC12,CE12,CG12,CI12) -> 0.99542197
H13: Número de trámites aplicados
A15: 3 | B15: TRANSFERENCIA | C15: Responsable de Módulo | D15: Transacciones exitosas = | E15: (Número de Archivos de Transacción aceptados /Total de Archivos de Transacción procesados) x100 | F15: Semanal (remesa) | G15: 0.9 | H15: Número de Archivos de Transacción aceptados | I15: =AVERAGE('150151'!AE16:AE17,'150152'!AE16:AE17,'150153'!AE16:AE17) -> 1 | K15: =AVERAGE('150251'!AE16:AE17,'150253'!AE16:AE17) -> 0.99997297 | M15: =AVERAGE('150351'!AE16:AE17,'150352'!AE16:AE17,'150353'!AE16:AE17) -> 0.99971246 | O15: =AVERAGE('150451'!AE16:AE17) -> 1 | Q15: =AVERAGE('150551'!AE16:AE17) -> 1 | S15: =AVERAGE('150651'!AE16:AE17,'150652'!AE16:AE17) -> 1 | U15: =AVERAGE('150751'!AE16:AE17) -> 0.99996222 | W15: =AVERAGE('150851'!AE16:AE17) -> 0.99863275 | Y15: =AVERAGE('150951'!AE16:AE17,'150952'!AE16:AE17,'150953'!AE16:AE17,'150954'!AE16:AE17) -> 1 | AA15: =AVERAGE('151051'!AE16:AE17) -> 1 | AC15: =AVERAGE('151151'!AE16:AE17) -> 1 | AE15: =AVERAGE('151251'!AE16:AE17,'151252'!AE16:AE17,'151253'!AE16:AE17) -> 1 | AG15: =AVERAGE('151351'!AE16:AE17) -> 1 | AI15: =AVERAGE('151452'!AE16:AE17,'151453'!AE16:AE17) -> 1 | AK15: =AVERAGE('151551'!AE16:AE17) -> 1 | AM15: =AVERAGE('151651'!AE16:AE17,'151652'!AE16:AE17) -> 1 | AO15: =AVERAGE('151751'!AE16:AE17) -> 0.9991688 | AQ15: =AVERAGE('151851'!AE16:AE17,'151852'!AE16:AE17,'151853'!AE16:AE17) -> 1.0000172 | AS15: =AVERAGE('151951'!AE16:AE17,'151952'!AE16:AE17) -> 1 | AU15: =AVERAGE('152052'!AE16:AE17,'152053'!AE16:AE17,'152054'!AE16:AE17) -> 0.99960691 | AW15: =AVERAGE('152151'!AE16:AE17,'152152'!AE16:AE17) -> 1 | AY15: =AVERAGE('152251'!AE16:AE17,'152252'!AE16:AE17) -> 0.99997552 | BA15: =AVERAGE('152351'!AE16:AE17,'152352'!AE16:AE17,'152353'!AE16:AE17) -> 0.99980467 | BC15: =AVERAGE('152451'!AE16:AE17) -> 1 | BE15: =AVERAGE('152551'!AE16:AE17) -> 1 | BG15: =AVERAGE('152651'!AE16:AE17) -> 1 | BI15: =AVERAGE('152751'!AE16:AE17,'152752'!AE16:AE17,'152753'!AE16:AE17) -> 1 | BK15: =AVERAGE('152851'!AE16:AE17,'152853'!AE16:AE17) -> 1 | BM15: =AVERAGE('152951'!AE16:AE17) -> 0.99979576 | BO15: =AVERAGE('153051'!AE16:AE17,'153052'!AE16:AE17) -> 0.99998109 | BQ15: =AVERAGE('153151'!AE16:AE17) -> 1 | BS15: =AVERAGE('153251'!AE16:AE17) -> 1 | BU15: =AVERAGE('153351'!AE16:AE17) -> 1 | BW15: =AVERAGE('153451'!AE16:AE17) -> 1 | BY15: =AVERAGE('153551'!AE16:AE17,'153552'!AE16:AE17,'153553'!AE16:AE17) -> 1 | CA15: =AVERAGE('153651'!AE16:AE17,'153652'!AE16:AE17,'153653'!AE16:AE17,'153654'!AE16:AE17) -> 1 | CC15: =AVERAGE('153753'!AE16:AE17,'153752'!AE16:AE17) -> 1 | CE15: =AVERAGE('153851'!AE16:AE17,'153852'!AE16:AE17) -> 1 | CG15: =AVERAGE('153951'!AE16:AE17) -> 1 | CI15: =AVERAGE('154051'!AE16:AE17,'154052'!AE16:AE17,'154053'!AE16:AE17) -> 1 | CK15: =AVERAGE(I15,K15,M15,O15,Q15,S15,U15,W15,Y15,AA15,AC15,AE15,AG15,AI15,AK15,AM15,AO15,AQ15,AS15,AU15,AW15,AY15,BA15,BC15,BE15,BG15,BI15,BK15,BM15,BO15,BQ15,BS15,BU15,BW15,BY15,CA15,CC15,CE15,CG15,CI15) -> 0.99991576
H16: Total de Archivos de Transacción procesados
A18: 4 | B18: CONCILIACIÓN | C18: Responsable de Módulo | D18: Credenciales disponibles para entrega = | E18: ((Credenciales recibidas - Credenciales inconsistentes) / Credenciales recibidas) x 100 | F18: Semanal (remesa) | G18: 0.9 | H18: Credenciales Recibidas - Credenciales inconsistentes | I18: =AVERAGE('150151'!AE19:AE20,'150152'!AE19:AE20,'150153'!AE19:AE20) -> 1 | K18: =AVERAGE('150251'!AE19:AE20,'150253'!AE19:AE20) -> 0.99971045 | M18: =AVERAGE('150351'!AE19:AE20,'150352'!AE19:AE20,'150353'!AE19:AE20) -> 1 | O18: =AVERAGE('150451'!AE19:AE20) -> 1 | Q18: =AVERAGE('150551'!AE19:AE20) -> 1 | S18: =AVERAGE('150651'!AE19:AE20,'150652'!AE19:AE20) -> 1 | U18: =AVERAGE('150751'!AE19:AE20) -> 1 | W18: =AVERAGE('150851'!AE19:AE20) -> 1 | Y18: =AVERAGE('150951'!AE19:AE20,'150952'!AE19:AE20,'150953'!AE19:AE20,'150954'!AE19:AE20) -> 1 | AA18: =AVERAGE('151051'!AE19:AE20) -> 1 | AC18: =AVERAGE('151151'!AE19:AE20) -> 1 | AE18: =AVERAGE('151251'!AE19:AE20,'151252'!AE19:AE20,'151253'!AE19:AE20) -> 1 | AG18: =AVERAGE('151351'!AE19:AE20) -> 1 | AI18: =AVERAGE('151452'!AE19:AE20,'151453'!AE19:AE20) -> 1 | AK18: =AVERAGE('151551'!AE19:AE20) -> 1 | AM18: =AVERAGE('151651'!AE19:AE20,'151652'!AE19:AE20) -> 1 | AO18: =AVERAGE('151751'!AE19:AE20) -> 1 | AQ18: =AVERAGE('151851'!AE19:AE20,'151852'!AE19:AE20,'151853'!AE19:AE20) -> 0.99997385 | AS18: =AVERAGE('151951'!AE19:AE20,'151952'!AE19:AE20) -> 1 | AU18: =AVERAGE('152052'!AE19:AE20,'152053'!AE19:AE20,'152054'!AE19:AE20) -> 1 | AW18: =AVERAGE('152151'!AE19:AE20,'152152'!AE19:AE20) -> 1 | AY18: =AVERAGE('152251'!AE19:AE20,'152252'!AE19:AE20) -> 0.99886177 | BA18: =AVERAGE('152351'!AE19:AE20,'152352'!AE19:AE20,'152353'!AE19:AE20) -> 1 | BC18: =AVERAGE('152451'!AE19:AE20) -> 1 | BE18: =AVERAGE('152551'!AE19:AE20) -> 1 | BG18: =AVERAGE('152651'!AE19:AE20) -> 1 | BI18: =AVERAGE('152751'!AE19:AE20,'152752'!AE19:AE20,'152753'!AE19:AE20) -> 1 | BK18: =AVERAGE('152851'!AE19:AE20,'152853'!AE19:AE20) -> 1 | BM18: =AVERAGE('152951'!AE19:AE20) -> 1 | BO18: =AVERAGE('153051'!AE19:AE20,'153052'!AE19:AE20) -> 1 | BQ18: =AVERAGE('153151'!AE19:AE20) -> 1 | BS18: =AVERAGE('153251'!AE19:AE20) -> 1 | BU18: =AVERAGE('153351'!AE19:AE20) -> 0.99996096 | BW18: =AVERAGE('153451'!AE19:AE20) -> 1 | BY18: =AVERAGE('153551'!AE19:AE20,'153552'!AE19:AE20,'153553'!AE19:AE20) -> 1 | CA18: =AVERAGE('153651'!AE19:AE20,'153652'!AE19:AE20,'153653'!AE19:AE20,'153654'!AE19:AE20) -> 1 | CC18: =AVERAGE('153753'!AE19:AE20,'153752'!AE19:AE20) -> 1 | CE18: =AVERAGE('153851'!AE19:AE20,'153852'!AE19:AE20) -> 1 | CG18: =AVERAGE('153951'!AE19:AE20) -> 1 | CI18: =AVERAGE('154051'!AE19:AE20,'154052'!AE19:AE20,'154053'!AE19:AE20) -> 1 | CK18: =AVERAGE(I18,K18,M18,O18,Q18,S18,U18,W18,Y18,AA18,AC18,AE18,AG18,AI18,AK18,AM18,AO18,AQ18,AS18,AU18,AW18,AY18,BA18,BC18,BE18,BG18,BI18,BK18,BM18,BO18,BQ18,BS18,BU18,BW18,BY18,CA18,CC18,CE18,CG18,CI18) -> 0.99996268
H19: Credenciales recibidas
A21: 5 | B21: CONCILIACIÓN | C21: Responsable de Módulo | D21: Credenciales disponibles para entrega = | E21: (Credenciales en resguardo / Credenciales totales en SIIRFE disponibles para entrega) x 100 | F21: Semanal (remesa) | G21: 1 | H21: Credenciales en resguardo | I21: =AVERAGE('150151'!AE22:AE23,'150152'!AE22:AE23,'150153'!AE22:AE23) -> 1 | K21: =AVERAGE('150251'!AE22:AE23,'150253'!AE22:AE23) -> 1 | M21: =AVERAGE('150351'!AE22:AE23,'150352'!AE22:AE23,'150353'!AE22:AE23) -> 1 | O21: =AVERAGE('150451'!AE22:AE23) -> 1 | Q21: =AVERAGE('150551'!AE22:AE23) -> 1 | S21: =AVERAGE('150651'!AE22:AE23,'150652'!AE22:AE23) -> 1 | U21: =AVERAGE('150751'!AE22:AE23) -> 1 | W21: =AVERAGE('150851'!AE22:AE23) -> 1 | Y21: =AVERAGE('150951'!AE22:AE23,'150952'!AE22:AE23,'150953'!AE22:AE23,'150954'!AE22:AE23) -> 1 | AA21: =AVERAGE('151051'!AE22:AE23) -> 1 | AC21: =AVERAGE('151151'!AE22:AE23) -> 1 | AE21: =AVERAGE('151251'!AE22:AE23,'151252'!AE22:AE23,'151253'!AE22:AE23) -> 1 | AG21: =AVERAGE('151351'!AE22:AE23) -> 1 | AI21: =AVERAGE('151452'!AE22:AE23,'151453'!AE22:AE23) -> 1 | AK21: =AVERAGE('151551'!AE22:AE23) -> 1 | AM21: =AVERAGE('151651'!AE22:AE23,'151652'!AE22:AE23) -> 1 | AO21: =AVERAGE('151751'!AE22:AE23) -> 1 | AQ21: =AVERAGE('151851'!AE22:AE23,'151852'!AE22:AE23,'151853'!AE22:AE23) -> 1 | AS21: =AVERAGE('151951'!AE22:AE23,'151952'!AE22:AE23) -> 1 | AU21: =AVERAGE('152052'!AE22:AE23,'152053'!AE22:AE23,'152054'!AE22:AE23) -> 1 | AW21: =AVERAGE('152151'!AE22:AE23,'152152'!AE22:AE23) -> 1 | AY21: =AVERAGE('152251'!AE22:AE23,'152252'!AE22:AE23) -> 1 | BA21: =AVERAGE('152351'!AE22:AE23,'152352'!AE22:AE23,'152353'!AE22:AE23) -> 1 | BC21: =AVERAGE('152451'!AE22:AE23) -> 1 | BE21: =AVERAGE('152551'!AE22:AE23) -> 1 | BG21: =AVERAGE('152651'!AE22:AE23) -> 1 | BI21: =AVERAGE('152751'!AE22:AE23,'152752'!AE22:AE23,'152753'!AE22:AE23) -> 1 | BK21: =AVERAGE('152851'!AE22:AE23,'152853'!AE22:AE23) -> 1 | BM21: =AVERAGE('152951'!AE22:AE23) -> 1 | BO21: =AVERAGE('153051'!AE22:AE23,'153052'!AE22:AE23) -> 1.0000179 | BQ21: =AVERAGE('153151'!AE22:AE23) -> 1 | BS21: =AVERAGE('153251'!AE22:AE23) -> 1 | BU21: =AVERAGE('153351'!AE22:AE23) -> 1 | BW21: =AVERAGE('153451'!AE22:AE23) -> 1 | BY21: =AVERAGE('153551'!AE22:AE23,'153552'!AE22:AE23,'153553'!AE22:AE23) -> 1 | CA21: =AVERAGE('153651'!AE22:AE23,'153652'!AE22:AE23,'153653'!AE22:AE23,'153654'!AE22:AE23) -> 1 | CC21: =AVERAGE('153753'!AE22:AE23,'153752'!AE22:AE23) -> 1 | CE21: =AVERAGE('153851'!AE22:AE23,'153852'!AE22:AE23) -> 1 | CG21: =AVERAGE('153951'!AE22:AE23) -> 1 | CI21: =AVERAGE('154051'!AE22:AE23,'154052'!AE22:AE23,'154053'!AE22:AE23) -> 1 | CK21: =AVERAGE(I21,K21,M21,O21,Q21,S21,U21,W21,Y21,AA21,AC21,AE21,AG21,AI21,AK21,AM21,AO21,AQ21,AS21,AU21,AW21,AY21,BA21,BC21,BE21,BG21,BI21,BK21,BM21,BO21,BQ21,BS21,BU21,BW21,BY21,CA21,CC21,CE21,CG21,CI21) -> 1.0000004
H22: Credenciales totales en SIIRFE disponibles para entrega
A24: 6 | B24: ENTREGA | C24: Operador de Equipo Tecnológico | D24: Efectividad de entrega de CPV en MAC = | E24: (Total de credenciales entregadas / Total de credenciales solicitadas) x 100 | F24: Semanal (remesa) | G24: 0.9 | H24: Total de credenciales entregadas | I24: =AVERAGE('150151'!AE25:AE26,'150152'!AE25:AE26,'150153'!AE25:AE26) -> 0.99678164 | K24: =AVERAGE('150251'!AE25:AE26,'150253'!AE25:AE26) -> 0.99935809 | M24: =AVERAGE('150351'!AE25:AE26,'150352'!AE25:AE26,'150353'!AE25:AE26) -> 0.99303194 | O24: =AVERAGE('150451'!AE25:AE26) -> 0.99920311 | Q24: =AVERAGE('150551'!AE25:AE26) -> 0.99728425 | S24: =AVERAGE('150651'!AE25:AE26,'150652'!AE25:AE26) -> 0.99758126 | U24: =AVERAGE('150751'!AE25:AE26) -> 0.99521149 | W24: =AVERAGE('150851'!AE25:AE26) -> 0.99988547 | Y24: =AVERAGE('150951'!AE25:AE26,'150952'!AE25:AE26,'150953'!AE25:AE26,'150954'!AE25:AE26) -> 0.99728423 | AA24: =AVERAGE('151051'!AE25:AE26) -> 1 | AC24: =AVERAGE('151151'!AE25:AE26) -> 0.99970011 | AE24: =AVERAGE('151251'!AE25:AE26,'151252'!AE25:AE26,'151253'!AE25:AE26) -> 0.99629892 | AG24: =AVERAGE('151351'!AE25:AE26) -> 0.9990566 | AI24: =AVERAGE('151452'!AE25:AE26,'151453'!AE25:AE26) -> 0.99962754 | AK24: =AVERAGE('151551'!AE25:AE26) -> 1 | AM24: =AVERAGE('151651'!AE25:AE26,'151652'!AE25:AE26) -> 0.99966519 | AO24: =AVERAGE('151751'!AE25:AE26) -> 1 | AQ24: =AVERAGE('151851'!AE25:AE26,'151852'!AE25:AE26,'151853'!AE25:AE26) -> 0.99913358 | AS24: =AVERAGE('151951'!AE25:AE26,'151952'!AE25:AE26) -> 1 | AU24: =AVERAGE('152052'!AE25:AE26,'152053'!AE25:AE26,'152054'!AE25:AE26) -> 0.99642667 | AW24: =AVERAGE('152151'!AE25:AE26,'152152'!AE25:AE26) -> 0.99898067 | AY24: =AVERAGE('152251'!AE25:AE26,'152252'!AE25:AE26) -> 0.9954368 | BA24: =AVERAGE('152351'!AE25:AE26,'152352'!AE25:AE26,'152353'!AE25:AE26) -> 0.99933993 | BC24: =AVERAGE('152451'!AE25:AE26) -> 0.99955789 | BE24: =AVERAGE('152551'!AE25:AE26) -> 0.98765588 | BG24: =AVERAGE('152651'!AE25:AE26) -> 0.99669541 | BI24: =AVERAGE('152751'!AE25:AE26,'152752'!AE25:AE26,'152753'!AE25:AE26) -> 0.99428166 | BK24: =AVERAGE('152851'!AE25:AE26,'152853'!AE25:AE26) -> 0.99921987 | BM24: =AVERAGE('152951'!AE25:AE26) -> 0.99744891 | BO24: =AVERAGE('153051'!AE25:AE26,'153052'!AE25:AE26) -> 0.99961926 | BQ24: =AVERAGE('153151'!AE25:AE26) -> 1 | BS24: =AVERAGE('153251'!AE25:AE26) -> 1 | BU24: =AVERAGE('153351'!AE25:AE26) -> 1 | BW24: =AVERAGE('153451'!AE25:AE26) -> 0.99833785 | BY24: =AVERAGE('153551'!AE25:AE26,'153552'!AE25:AE26,'153553'!AE25:AE26) -> 0.9998244 | CA24: =AVERAGE('153651'!AE25:AE26,'153652'!AE25:AE26,'153653'!AE25:AE26,'153654'!AE25:AE26) -> 1 | CC24: =AVERAGE('153753'!AE25:AE26,'153752'!AE25:AE26) -> 0.99962368 | CE24: =AVERAGE('153851'!AE25:AE26,'153852'!AE25:AE26) -> 1 | CG24: =AVERAGE('153951'!AE25:AE26) -> 1 | CI24: =AVERAGE('154051'!AE25:AE26,'154052'!AE25:AE26,'154053'!AE25:AE26) -> 0.9991351 | CK24: =AVERAGE(I24,K24,M24,O24,Q24,S24,U24,W24,Y24,AA24,AC24,AE24,AG24,AI24,AK24,AM24,AO24,AQ24,AS24,AU24,AW24,AY24,BA24,BC24,BE24,BG24,BI24,BK24,BM24,BO24,BQ24,BS24,BU24,BW24,BY24,CA24,CC24,CE24,CG24,CI24) -> 0.99826718
H25: Total de credenciales solicitadas

Sheet 150151
A1: ='PANEL DE CONTROL DISTRITAL'!A1:Q1 -> INSTITUTO NACIONAL ELECTORAL SISTEMA DE GESTIÓN DE LA CALIDAD ESTADO DE MÉXICO
D2: Distrito | E2: 1 | F2: Módulo | H2: 150151 | X2: ='PANEL DE CONTROL DISTRITAL'!M2 -> Fecha de corte: 22/01/2024
A4: TABLERO DE CONTROL DE PROCESOS SUSTANTIVOS DEL SISTEMA DE GESTIÓN DE LA CALIDAD
A6: ='PANEL DE CONTROL DISTRITAL'!A6 -> Número | B6: ='PANEL DE CONTROL DISTRITAL'!B6 -> PROCESOS SUSTANTIVOS E INDICADORES | I6: SEMANA OPERATIVA | AE6: % AVANCE REGISTRADO
B7: ='PANEL DE CONTROL DISTRITAL'!B7 -> DESCRIPCIÓN | E7: ='PANEL DE CONTROL DISTRITAL'!E7 -> MEDICIÓN | I7: ='PANEL DE CONTROL DISTRITAL'!A5 -> CAMPAÑA ANUAL INTENSA 2023
B9: ='PANEL DE CONTROL DISTRITAL'!B8 -> Proceso | C9: ='PANEL DE CONTROL DISTRITAL'!C8 -> Dueño de Proceso | D9: ='PANEL DE CONTROL DISTRITAL'!D8 -> Indicador | E9: ='PANEL DE CONTROL DISTRITAL'!E8 -> Cálculo | F9: ='PANEL DE CONTROL DISTRITAL'!F8 -> Periodo | G9: ='PANEL DE CONTROL DISTRITAL'!G8 -> Estimado | H9: ='PANEL DE CONTROL DISTRITAL'!H8 -> Nominativo | I9: 2023-37 | J9: 2023-38 | K9: 2023-39 | L9: 2023-40 | M9: 2023-41 | N9: 2023-42 | O9: 2023-43 | P9: 2023-44 | Q9: 2023-45 | R9: 2023-46 | S9: 2023-47 | T9: 2023-48 | U9: 2023-49 | V9: 2023-50 | W9: 2023-51 | X9: 2023-52 | Y9: 2023-53 | Z9: 2023-54 | AA9: 2024-01 | AB9: 2024-02 | AC9: 2024-03 | AD9: 2024-04
A10: ='PANEL DE CONTROL DISTRITAL'!A9 -> 1 | B10: ='PANEL DE CONTROL DISTRITAL'!B9 -> ENTREVISTA | C10: ='PANEL DE CONTROL DISTRITAL'!C9 -> Auxiliar de Atención Ciudadana | D10: ='PANEL DE CONTROL DISTRITAL'!D9 -> Efectividad de la entrevista = | E10: ='PANEL DE CONTROL DISTRITAL'!E9 -> (Número de trámites aplicados / (Número de fichas requisitadas - Notificaciones de improcedencia de trámite)) x 100 | F10: ='PANEL DE CONTROL DISTRITAL'!F9 -> Semanal (remesa) | G10: ='PANEL DE CONTROL DISTRITAL'!G9 -> 0.9 | H10: ='PANEL DE CONTROL DISTRITAL'!H9 -> Número de trámites aplicados | I10: 84 | J10: 448 | K10: 377 | L10: 397 | M10: 450 | N10: 368 | O10: 379 | P10: 412 | Q10: 400 | R10: 328 | S10: 476 | T10: 515 | U10: 574 | V10: 826 | W10: 830 | X10: 724 | Y10: 781 | Z10: 655 | AA10: 837 | AB10: 1209 | AC10: 1742 | AD10: 434 | AE10: =IFERROR(SUM(I10:AD10)/SUM(I11:AD11),0) -> 1
H11: ='PANEL DE CONTROL DISTRITAL'!H10 -> Número de fichas requisitadas - Notificaciones de improcedencia de trámite | I11: 84 | J11: 448 | K11: 377 | L11: 397 | M11: 450 | N11: 368 | O11: 379 | P11: 412 | Q11: 400 | R11: 328 | S11: 476 | T11: 515 | U11: 574 | V11: 826 | W11: 830 | X11: 724 | Y11: 781 | Z11: 655 | AA11: 837 | AB11: 1209 | AC11: 1742 | AD11: 434
A13: ='PANEL DE CONTROL DISTRITAL'!A12 -> 2 | B13: ='PANEL DE CONTROL DISTRITAL'!B12 -> TRÁMITE | C13: ='PANEL DE CONTROL DISTRITAL'!C12 -> Operador de Equipo Tecnológico | D13: ='PANEL DE CONTROL DISTRITAL'!D12 -> Trámites exitosos efectivos= | E13: ='PANEL DE CONTROL DISTRITAL'!E12 -> (Número de trámites exitosos / Número de trámites aplicados) x 100 | F13: ='PANEL DE CONTROL DISTRITAL'!F12 -> Semanal (remesa) | G13: ='PANEL DE CONTROL DISTRITAL'!G12 -> 0.9 | H13: ='PANEL DE CONTROL DISTRITAL'!H12 -> Número de trámites exitosos | I13: 84 | J13: 446 | K13: 377 | L13: 397 | M13: 450 | N13: 367 | O13: 379 | P13: 412 | Q13: 398 | R13: 327 | S13: 476 | T13: 515 | U13: 574 | V13: 820 | W13: 828 | X13: 723 | Y13: 781 | Z13: 655 | AA13: 837 | AB13: 1208 | AC13: 1737 | AD13: 434 | AE13: =IFERROR(SUM(I13:AD13)/SUM(I14:AD14),0) -> 0.99841462
H14: ='PANEL DE CONTROL DISTRITAL'!H13 -> Número de trámites aplicados | I14: 84 | J14: 448 | K14: 377 | L14: 397 | M14: 450 | N14: 368 | O14: 379 | P14: 412 | Q14: 400 | R14: 328 | S14: 476 | T14: 515 | U14: 574 | V14: 826 | W14: 830 | X14: 724 | Y14: 781 | Z14: 655 | AA14: 837 | AB14: 1209 | AC14: 1742 | AD14: 434
A16: ='PANEL DE CONTROL DISTRITAL'!A15 -> 3 | B16: ='PANEL DE CONTROL DISTRITAL'!B15 -> TRANSFERENCIA | C16: ='PANEL DE CONTROL DISTRITAL'!C15 -> Responsable de Módulo | D16: ='PANEL DE CONTROL DISTRITAL'!D15 -> Transacciones exitosas = | E16: ='PANEL DE CONTROL DISTRITAL'!E15 -> (Número de Archivos de Transacción aceptados /Total de Archivos de Transacción procesados) x100 | F16: ='PANEL DE CONTROL DISTRITAL'!F15 -> Semanal (remesa) | G16: ='PANEL DE CONTROL DISTRITAL'!G15 -> 0.9 | H16: ='PANEL DE CONTROL DISTRITAL'!H15 -> Número de Archivos de Transacción aceptados | I16: 84 | J16: 448 | K16: 377 | L16: 397 | M16: 450 | N16: 368 | O16: 379 | P16: 412 | Q16: 400 | R16: 328 | S16: 476 | T16: 515 | U16: 574 | V16: 826 | W16: 830 | X16: 724 | Y16: 781 | Z16: 655 | AA16: 837 | AB16: 1209 | AC16: 1742 | AD16: 434 | AE16: =IFERROR(SUM(I16:AD16)/SUM(I17:AD17),0) -> 1
H17: ='PANEL DE CONTROL DISTRITAL'!H16 -> Total de Archivos de Transacción procesados | I17: 84 | J17: 448 | K17: 377 | L17: 397 | M17: 450 | N17: 368 | O17: 379 | P17: 412 | Q17: 400 | R17: 328 | S17: 476 | T17: 515 | U17: 574 | V17: 826 | W17: 830 | X17: 724 | Y17: 781 | Z17: 655 | AA17: 837 | AB17: 1209 | AC17: 1742 | AD17: 434
A19: ='PANEL DE CONTROL DISTRITAL'!A18 -> 4 | B19: ='PANEL DE CONTROL DISTRITAL'!B18 -> CONCILIACIÓN | C19: ='PANEL DE CONTROL DISTRITAL'!C18 -> Responsable de Módulo | D19: ='PANEL DE CONTROL DISTRITAL'!D18 -> Credenciales disponibles para entrega = | E19: ='PANEL DE CONTROL DISTRITAL'!E18 -> ((Credenciales recibidas - Credenciales inconsistentes) / Credenciales recibidas) x 100 | F19: ='PANEL DE CONTROL DISTRITAL'!F18 -> Semanal (remesa) | G19: ='PANEL DE CONTROL DISTRITAL'!G18 -> 0.9 | H19: ='PANEL DE CONTROL DISTRITAL'!H18 -> Credenciales Recibidas - Credenciales inconsistentes | I19: 92 | J19: 351 | K19: 404 | L19: 409 | M19: 399 | N19: 450 | O19: 348 | P19: 410 | Q19: 407 | R19: 319 | S19: 406 | T19: 487 | U19: 431 | V19: 381 | W19: 1077 | X19: 815 | Y19: 624 | Z19: 447 | AA19: 751 | AB19: 1479 | AC19: 841 | AD19: 0 | AE19: =IFERROR(SUM(I19:AD19)/SUM(I20:AD20),0) -> 1
H20: ='PANEL DE CONTROL DISTRITAL'!H19 -> Credenciales recibidas | I20: 92 | J20: 351 | K20: 404 | L20: 409 | M20: 399 | N20: 450 | O20: 348 | P20: 410 | Q20: 407 | R20: 319 | S20: 406 | T20: 487 | U20: 431 | V20: 381 | W20: 1077 | X20: 815 | Y20: 624 | Z20: 447 | AA20: 751 | AB20: 1479 | AC20: 841 | AD20: 0
A22: ='PANEL DE CONTROL DISTRITAL'!A21 -> 5 | B22: ='PANEL DE CONTROL DISTRITAL'!B21 -> CONCILIACIÓN | C22: ='PANEL DE CONTROL DISTRITAL'!C21 -> Responsable de Módulo | D22: ='PANEL DE CONTROL DISTRITAL'!D21 -> Credenciales disponibles para entrega = | E22: ='PANEL DE CONTROL DISTRITAL'!E21 -> (Credenciales en resguardo / Credenciales totales en SIIRFE disponibles para entrega) x 100 | F22: ='PANEL DE CONTROL DISTRITAL'!F21 -> Semanal (remesa) | G22: ='PANEL DE CONTROL DISTRITAL'!G21 -> 1 | H22: ='PANEL DE CONTROL DISTRITAL'!H21 -> Credenciales en resguardo | I22: 829 | J22: 758 | K22: 751 | L22: 705 | M22: 705 | N22: 737 | O22: 655 | P22: 679 | Q22: 696 | R22: 701 | S22: 648 | T22: 743 | U22: 697 | V22: 567 | W22: 905 | X22: 953 | Y22: 783 | Z22: 492 | AA22: 563 | AB22: 1195 | AC22: 1410 | AD22: 1344 | AE22: =IFERROR(SUM(I22:AD22)/SUM(I23:AD23),0) -> 1
H23: ='PANEL DE CONTROL DISTRITAL'!H22 -> Credenciales totales en SIIRFE disponibles para entrega | I23: 829 | J23: 758 | K23: 751 | L23: 705 | M23: 705 | N23: 737 | O23: 655 | P23: 679 | Q23: 696 | R23: 701 | S23: 648 | T23: 743 | U23: 697 | V23: 567 | W23: 905 | X23: 953 | Y23: 783 | Z23: 492 | AA23: 563 | AB23: 1195 | AC23: 1410 | AD23: 1344
A25: ='PANEL DE CONTROL DISTRITAL'!A24 -> 6 | B25: ='PANEL DE CONTROL DISTRITAL'!B24 -> ENTREGA | C25: ='PANEL DE CONTROL DISTRITAL'!C24 -> Operador de Equipo Tecnológico | D25: ='PANEL DE CONTROL DISTRITAL'!D24 -> Efectividad de entrega de CPV en MAC = | E25: ='PANEL DE CONTROL DISTRITAL'!E24 -> (Total de credenciales entregadas / Total de credenciales solicitadas) x 100 | F25: ='PANEL DE CONTROL DISTRITAL'!F24 -> Semanal (remesa) | G25: ='PANEL DE CONTROL DISTRITAL'!G24 -> 0.9 | H25: ='PANEL DE CONTROL DISTRITAL'!H24 -> Total de credenciales entregadas | I25: 119 | J25: 412 | K25: 405 | L25: 455 | M25: 395 | N25: 413 | O25: 430 | P25: 386 | Q25: 390 | R25: 314 | S25: 455 | T25: 392 | U25: 477 | V25: 511 | W25: 721 | X25: 763 | Y25: 794 | Z25: 738 | AA25: 680 | AB25: 847 | AC25: 622 | AD25: 66 | AE25: =IFERROR(SUM(I25:AD25)/SUM(I26:AD26),0) -> 0.99953661
H26: ='PANEL DE CONTROL DISTRITAL'!H25 -> Total de credenciales solicitadas | I26: 120 | J26: 412 | K26: 405 | L26: 457 | M26: 395 | N26: 413 | O26: 431 | P26: 387 | Q26: 390 | R26: 314 | S26: 455 | T26: 392 | U26: 477 | V26: 511 | W26: 721 | X26: 763 | Y26: 794 | Z26: 738 | AA26: 680 | AB26: 847 | AC26: 622 | AD26: 66
B27: *Registre el valor nominal solicitado en la celda, el resultado proporcional esta automatizado.
I29: Semaforización
J30: Valor que requiere atención y justificación en el apartado de observaciones
J31: Valor suficiente
J32: Valor esperado
B34: CUADRO DE OBSERVACIONES
B35: Descripción | H35: No conformidad

Sheet 150152
A1: ='PANEL DE CONTROL DISTRITAL'!A1:Q1 -> INSTITUTO NACIONAL ELECTORAL SISTEMA DE GESTIÓN DE LA CALIDAD ESTADO DE MÉXICO
D2: Distrito | E2: 1 | F2: Módulo | H2: 150152 | X2: ='PANEL DE CONTROL DISTRITAL'!M2 -> Fecha de corte: 22/01/2024
A4: TABLERO DE CONTROL DE PROCESOS SUSTANTIVOS DEL SISTEMA DE GESTIÓN DE LA CALIDAD
A6: ='PANEL DE CONTROL DISTRITAL'!A6 -> Número | B6: ='PANEL DE CONTROL DISTRITAL'!B6 -> PROCESOS SUSTANTIVOS E INDICADORES | I6: SEMANA OPERATIVA | AE6: % AVANCE REGISTRADO
B7: ='PANEL DE CONTROL DISTRITAL'!B7 -> DESCRIPCIÓN | E7: ='PANEL DE CONTROL DISTRITAL'!E7 -> MEDICIÓN | I7: ='PANEL DE CONTROL DISTRITAL'!A5 -> CAMPAÑA ANUAL INTENSA 2023
B9: ='PANEL DE CONTROL DISTRITAL'!B8 -> Proceso | C9: ='PANEL DE CONTROL DISTRITAL'!C8 -> Dueño de Proceso | D9: ='PANEL DE CONTROL DISTRITAL'!D8 -> Indicador | E9: ='PANEL DE CONTROL DISTRITAL'!E8 -> Cálculo | F9: ='PANEL DE CONTROL DISTRITAL'!F8 -> Periodo | G9: ='PANEL DE CONTROL DISTRITAL'!G8 -> Estimado | H9: ='PANEL DE CONTROL DISTRITAL'!H8 -> Nominativo | I9: ='150151'!I9 -> 2023-37 | J9: ='150151'!J9 -> 2023-38 | K9: ='150151'!K9 -> 2023-39 | L9: ='150151'!L9 -> 2023-40 | M9: ='150151'!M9 -> 2023-41 | N9: ='150151'!N9 -> 2023-42 | O9: ='150151'!O9 -> 2023-43 | P9: ='150151'!P9 -> 2023-44 | ... X9: ='150151'!X9 -> 2023-52 | Y9: 2023-53 | Z9: 2023-54 | AA9: 2024-01 | AB9: 2024-02 | AC9: 2024-03 | AD9: 2024-04
A10: ='PANEL DE CONTROL DISTRITAL'!A9 -> 1 | B10: ='PANEL DE CONTROL DISTRITAL'!B9 -> ENTREVISTA | C10: ='PANEL DE CONTROL DISTRITAL'!C9 -> Auxiliar de Atención Ciudadana | D10: ='PANEL DE CONTROL DISTRITAL'!D9 -> Efectividad de la entrevista = | E10: ='PANEL DE CONTROL DISTRITAL'!E9 -> (Número de trámites aplicados / (Número de fichas requisitadas - Notificaciones de improcedencia de trámite)) x 100 | F10: ='PANEL DE CONTROL DISTRITAL'!F9 -> Semanal (remesa) | G10: ='PANEL DE CONTROL DISTRITAL'!G9 -> 0.9 | H10: ='PANEL DE CONTROL DISTRITAL'!H9 -> Número de trámites aplicados | I10: 56 | J10: 345 | K10: 342 | L10: 301 | M10: 214 | N10: 204 | O10: 236 | P10: 205 | Q10: 232 | R10: 132 | S10: 207 | T10: 230 | U10: 276 | V10: 420 | W10: 440 | X10: 404 | Y10: 429 | Z10: 275 | AA10: 376 | AB10: 553 | AC10: 685 | AD10: 196 | AE10: =IFERROR(SUM(I10:AD10)/SUM(I11:AD11),0) -> 1
H11: ='PANEL DE CONTROL DISTRITAL'!H10 -> Número de fichas requisitadas - Notificaciones de improcedencia de trámite | I11: 56 | J11: 345 | K11: 342 | L11: 301 | M11: 214 | N11: 204 | O11: 236 | P11: 205 | Q11: 232 | R11: 132 | S11: 207 | T11: 230 | U11: 276 | V11: 420 | W11: 440 | X11: 404 | Y11: 429 | Z11: 275 | AA11: 376 | AB11: 553 | AC11: 685 | AD11: 196
A13: ='PANEL DE CONTROL DISTRITAL'!A12 -> 2 | B13: ='PANEL DE CONTROL DISTRITAL'!B12 -> TRÁMITE | C13: ='PANEL DE CONTROL DISTRITAL'!C12 -> Operador de Equipo Tecnológico | D13: ='PANEL DE CONTROL DISTRITAL'!D12 -> Trámites exitosos efectivos= | E13: ='PANEL DE CONTROL DISTRITAL'!E12 -> (Número de trámites exitosos / Número de trámites aplicados) x 100 | F13: ='PANEL DE CONTROL DISTRITAL'!F12 -> Semanal (remesa) | G13: ='PANEL DE CONTROL DISTRITAL'!G12 -> 0.9 | H13: ='PANEL DE CONTROL DISTRITAL'!H12 -> Número de trámites exitosos | I13: 56 | J13: 345 | K13: 341 | L13: 301 | M13: 214 | N13: 204 | O13: 236 | P13: 205 | Q13: 232 | R13: 132 | S13: 206 | T13: 229 | U13: 276 | V13: 418 | W13: 440 | X13: 404 | Y13: 429 | Z13: 274 | AA13: 376 | AB13: 550 | AC13: 684 | AD13: 195 | AE13: =IFERROR(SUM(I13:AB13)/SUM(I14:AB14),0) -> 0.99846861
H14: ='PANEL DE CONTROL DISTRITAL'!H13 -> Número de trámites aplicados | I14: 56 | J14: 345 | K14: 342 | L14: 301 | M14: 214 | N14: 204 | O14: 236 | P14: 205 | Q14: 232 | R14: 132 | S14: 207 | T14: 230 | U14: 276 | V14: 420 | W14: 440 | X14: 404 | Y14: 429 | Z14: 275 | AA14: 376 | AB14: 553 | AC14: 685 | AD14: 196
A16: ='PANEL DE CONTROL DISTRITAL'!A15 -> 3 | B16: ='PANEL DE CONTROL DISTRITAL'!B15 -> TRANSFERENCIA | C16: ='PANEL DE CONTROL DISTRITAL'!C15 -> Responsable de Módulo | D16: ='PANEL DE CONTROL DISTRITAL'!D15 -> Transacciones exitosas = | E16: ='PANEL DE CONTROL DISTRITAL'!E15 -> (Número de Archivos de Transacción aceptados /Total de Archivos de Transacción procesados) x100 | F16: ='PANEL DE CONTROL DISTRITAL'!F15 -> Semanal (remesa) | G16: ='PANEL DE CONTROL DISTRITAL'!G15 -> 0.9 | H16: ='PANEL DE CONTROL DISTRITAL'!H15 -> Número de Archivos de Transacción aceptados | I16: 56 | J16: 345 | K16: 342 | L16: 301 | M16: 214 | N16: 204 | O16: 236 | P16: 205 | Q16: 232 | R16: 132 | S16: 207 | T16: 230 | U16: 276 | V16: 420 | W16: 440 | X16: 404 | Y16: 429 | Z16: 275 | AA16: 376 | AB16: 553 | AC16: 685 | AD16: 196 | AE16: =IFERROR(SUM(I16:AD16)/SUM(I17:AD17),0) -> 1
H17: ='PANEL DE CONTROL DISTRITAL'!H16 -> Total de Archivos de Transacción procesados | I17: 56 | J17: 345 | K17: 342 | L17: 301 | M17: 214 | N17: 204 | O17: 236 | P17: 205 | Q17: 232 | R17: 132 | S17: 207 | T17: 230 | U17: 276 | V17: 420 | W17: 440 | X17: 404 | Y17: 429 | Z17: 275 | AA17: 376 | AB17: 553 | AC17: 685 | AD17: 196
A19: ='PANEL DE CONTROL DISTRITAL'!A18 -> 4 | B19: ='PANEL DE CONTROL DISTRITAL'!B18 -> CONCILIACIÓN | C19: ='PANEL DE CONTROL DISTRITAL'!C18 -> Responsable de Módulo | D19: ='PANEL DE CONTROL DISTRITAL'!D18 -> Credenciales disponibles para entrega = | E19: ='PANEL DE CONTROL DISTRITAL'!E18 -> ((Credenciales recibidas - Credenciales inconsistentes) / Credenciales recibidas) x 100 | F19: ='PANEL DE CONTROL DISTRITAL'!F18 -> Semanal (remesa) | G19: ='PANEL DE CONTROL DISTRITAL'!G18 -> 0.9 | H19: ='PANEL DE CONTROL DISTRITAL'!H18 -> Credenciales Recibidas - Credenciales inconsistentes | I19: 0 | J19: 187 | K19: 351 | L19: 301 | M19: 305 | N19: 185 | O19: 247 | P19: 236 | Q19: 180 | R19: 179 | S19: 190 | T19: 229 | U19: 168 | V19: 227 | W19: 529 | X19: 417 | Y19: 329 | Z19: 289 | AA19: 331 | AB19: 696 | AC19: 336 | AD19: 0 | AE19: =IFERROR(SUM(I19:AD19)/SUM(I20:AD20),0) -> 1
H20: ='PANEL DE CONTROL DISTRITAL'!H19 -> Credenciales recibidas | I20: 0 | J20: 187 | K20: 351 | L20: 301 | M20: 305 | N20: 185 | O20: 247 | P20: 236 | Q20: 180 | R20: 179 | S20: 190 | T20: 229 | U20: 168 | V20: 227 | W20: 529 | X20: 417 | Y20: 329 | Z20: 289 | AA20: 331 | AB20: 696 | AC20: 336 | AD20: 0
A22: ='PANEL DE CONTROL DISTRITAL'!A21 -> 5 | B22: ='PANEL DE CONTROL DISTRITAL'!B21 -> CONCILIACIÓN | C22: ='PANEL DE CONTROL DISTRITAL'!C21 -> Responsable de Módulo | D22: ='PANEL DE CONTROL DISTRITAL'!D21 -> Credenciales disponibles para entrega = | E22: ='PANEL DE CONTROL DISTRITAL'!E21 -> (Credenciales en resguardo / Credenciales totales en SIIRFE disponibles para entrega) x 100 | F22: ='PANEL DE CONTROL DISTRITAL'!F21 -> Semanal (remesa) | G22: ='PANEL DE CONTROL DISTRITAL'!G21 -> 1 | H22: ='PANEL DE CONTROL DISTRITAL'!H21 -> Credenciales en resguardo | I22: 445 | J22: 373 | K22: 716 | L22: 747 | M22: 626 | N22: 511 | O22: 589 | P22: 638 | Q22: 531 | R22: 509 | S22: 504 | T22: 536 | U22: 557 | V22: 513 | W22: 904 | X22: 982 | Y22: 693 | Z22: 604 | AA22: 635 | AB22: 1002 | AC22: 899 | AD22: 879 | AE22: =IFERROR(SUM(I22:AD22)/SUM(I23:AD23),0) -> 1
H23: ='PANEL DE CONTROL DISTRITAL'!H22 -> Credenciales totales en SIIRFE disponibles para entrega | I23: 445 | J23: 373 | K23: 716 | L23: 747 | M23: 626 | N23: 511 | O23: 589 | P23: 638 | Q23: 531 | R23: 509 | S23: 504 | T23: 536 | U23: 557 | V23: 513 | W23: 904 | X23: 982 | Y23: 693 | Z23: 604 | AA23: 635 | AB23: 1002 | AC23: 899 | AD23: 879
A25: ='PANEL DE CONTROL DISTRITAL'!A24 -> 6 | B25: ='PANEL DE CONTROL DISTRITAL'!B24 -> ENTREGA | C25: ='PANEL DE CONTROL DISTRITAL'!C24 -> Operador de Equipo Tecnológico | D25: ='PANEL DE CONTROL DISTRITAL'!D24 -> Efectividad de entrega de CPV en MAC = | E25: ='PANEL DE CONTROL DISTRITAL'!E24 -> (Total de credenciales entregadas / Total de credenciales solicitadas) x 100 | F25: ='PANEL DE CONTROL DISTRITAL'!F24 -> Semanal (remesa) | G25: ='PANEL DE CONTROL DISTRITAL'!G24 -> 0.9 | H25: ='PANEL DE CONTROL DISTRITAL'!H24 -> Total de credenciales entregadas | I25: 149 | J25: 259 | K25: 4 | L25: 270 | M25: 418 | N25: 287 | O25: 169 | P25: 187 | Q25: 287 | R25: 201 | S25: 192 | T25: 197 | U25: 147 | V25: 271 | W25: 138 | X25: 333 | Y25: 618 | Z25: 378 | AA25: 300 | AB25: 329 | AC25: 437 | AD25: 20 | AE25: =IFERROR(SUM(I25:AD25)/SUM(I26:AD26),0) -> 0.99946371
H26: ='PANEL DE CONTROL DISTRITAL'!H25 -> Total de credenciales solicitadas | I26: 149 | J26: 259 | K26: 4 | L26: 270 | M26: 420 | N26: 287 | O26: 170 | P26: 187 | Q26: 287 | R26: 201 | S26: 192 | T26: 197 | U26: 147 | V26: 271 | W26: 138 | X26: 333 | Y26: 618 | Z26: 378 | AA26: 300 | AB26: 329 | AC26: 437 | AD26: 20
B27: *Registre el valor nominal solicitado en la celda, el resultado proporcional esta automatizado.
I29: Semaforización
J30: Valor que requiere atención y justificación en el apartado de observaciones
J31: Valor suficiente
J32: Valor esperado
B34: CUADRO DE OBSERVACIONES
B35: Descripción | H35: No conformidad

Sheet 150153
A1: ='PANEL DE CONTROL DISTRITAL'!A1:Q1 -> INSTITUTO NACIONAL ELECTORAL SISTEMA DE GESTIÓN DE LA CALIDAD ESTADO DE MÉXICO
D2: Distrito | E2: 1 | F2: Módulo | H2: 150153 | X2: ='PANEL DE CONTROL DISTRITAL'!M2 -> Fecha de corte: 22/01/2024
A4: TABLERO DE CONTROL DE PROCESOS SUSTANTIVOS DEL SISTEMA DE GESTIÓN DE LA CALIDAD
A6: ='PANEL DE CONTROL DISTRITAL'!A6 -> Número | B6: ='PANEL DE CONTROL DISTRITAL'!B6 -> PROCESOS SUSTANTIVOS E INDICADORES | I6: SEMANA OPERATIVA | AE6: % AVANCE REGISTRADO
B7: ='PANEL DE CONTROL DISTRITAL'!B7 -> DESCRIPCIÓN | E7: ='PANEL DE CONTROL DISTRITAL'!E7 -> MEDICIÓN | I7: ='PANEL DE CONTROL DISTRITAL'!A5 -> CAMPAÑA ANUAL INTENSA 2023
B9: ='PANEL DE CONTROL DISTRITAL'!B8 -> Proceso | C9: ='PANEL DE CONTROL DISTRITAL'!C8 -> Dueño de Proceso | D9: ='PANEL DE CONTROL DISTRITAL'!D8 -> Indicador | E9: ='PANEL DE CONTROL DISTRITAL'!E8 -> Cálculo | F9: ='PANEL DE CONTROL DISTRITAL'!F8 -> Periodo | G9: ='PANEL DE CONTROL DISTRITAL'!G8 -> Estimado | H9: ='PANEL DE CONTROL DISTRITAL'!H8 -> Nominativo | I9: ='150151'!I9 -> 2023-37 | J9: ='150151'!J9 -> 2023-38 | K9: ='150151'!K9 -> 2023-39 | L9: ='150151'!L9 -> 2023-40 | M9: ='150151'!M9 -> 2023-41 | N9: ='150151'!N9 -> 2023-42 | O9: ='150151'!O9 -> 2023-43 | P9: ='150151'!P9 -> 2023-44 | ... X9: ='150151'!X9 -> 2023-52 | Y9: 2023-53 | Z9: 2023-54 | AA9: 2024-01 | AB9: 2024-02 | AC9: 2024-03 | AD9: 2024-04
A10: ='PANEL DE CONTROL DISTRITAL'!A9 -> 1 | B10: ='PANEL DE CONTROL DISTRITAL'!B9 -> ENTREVISTA | C10: ='PANEL DE CONTROL DISTRITAL'!C9 -> Auxiliar de Atención Ciudadana | D10: ='PANEL DE CONTROL DISTRITAL'!D9 -> Efectividad de la entrevista = | E10: ='PANEL DE CONTROL DISTRITAL'!E9 -> (Número de trámites aplicados / (Número de fichas requisitadas - Notificaciones de improcedencia de trámite)) x 100 | F10: ='PANEL DE CONTROL DISTRITAL'!F9 -> Semanal (remesa) | G10: ='PANEL DE CONTROL DISTRITAL'!G9 -> 0.9 | H10: ='PANEL DE CONTROL DISTRITAL'!H9 -> Número de trámites aplicados | I10: 88 | J10: 493 | K10: 233 | L10: 320 | M10: 189 | N10: 253 | O10: 166 | P10: 252 | Q10: 164 | R10: 195 | S10: 177 | T10: 298 | U10: 174 | V10: 340 | W10: 343 | X10: 339 | Y10: 201 | Z10: 222 | AA10: 177 | AB10: 674 | AC10: 879 | AD10: 198 | AE10: =IFERROR(SUM(I10:AD10)/SUM(I11:AD11),0) -> 1
H11: ='PANEL DE CONTROL DISTRITAL'!H10 -> Número de fichas requisitadas - Notificaciones de improcedencia de trámite | I11: 88 | J11: 493 | K11: 233 | L11: 320 | M11: 189 | N11: 253 | O11: 166 | P11: 252 | Q11: 164 | R11: 195 | S11: 177 | T11: 298 | U11: 174 | V11: 340 | W11: 343 | X11: 339 | Y11: 201 | Z11: 222 | AA11: 177 | AB11: 674 | AC11: 879 | AD11: 198
A13: ='PANEL DE CONTROL DISTRITAL'!A12 -> 2 | B13: ='PANEL DE CONTROL DISTRITAL'!B12 -> TRÁMITE | C13: ='PANEL DE CONTROL DISTRITAL'!C12 -> Operador de Equipo Tecnológico | D13: ='PANEL DE CONTROL DISTRITAL'!D12 -> Trámites exitosos efectivos= | E13: ='PANEL DE CONTROL DISTRITAL'!E12 -> (Número de trámites exitosos / Número de trámites aplicados) x 100 | F13: ='PANEL DE CONTROL DISTRITAL'!F12 -> Semanal (remesa) | G13: ='PANEL DE CONTROL DISTRITAL'!G12 -> 0.9 | H13: ='PANEL DE CONTROL DISTRITAL'!H12 -> Número de trámites exitosos | I13: 88 | J13: 490 | K13: 232 | L13: 316 | M13: 188 | N13: 253 | O13: 164 | P13: 252 | Q13: 164 | R13: 192 | S13: 176 | T13: 298 | U13: 172 | V13: 339 | W13: 341 | X13: 339 | Y13: 200 | Z13: 222 | AA13: 177 | AB13: 673 | AC13: 877 | AD13: 195 | AE13: =IFERROR(SUM(I13:AD13)/SUM(I14:AD14),0) -> 0.99576471
H14: ='PANEL DE CONTROL DISTRITAL'!H13 -> Número de trámites aplicados | I14: 88 | J14: 493 | K14: 233 | L14: 320 | M14: 189 | N14: 253 | O14: 166 | P14: 252 | Q14: 164 | R14: 195 | S14: 177 | T14: 298 | U14: 174 | V14: 340 | W14: 343 | X14: 339 | Y14: 201 | Z14: 222 | AA14: 177 | AB14: 674 | AC14: 879 | AD14: 198
A16: ='PANEL DE CONTROL DISTRITAL'!A15 -> 3 | B16: ='PANEL DE CONTROL DISTRITAL'!B15 -> TRANSFERENCIA | C16: ='PANEL DE CONTROL DISTRITAL'!C15 -> Responsable de Módulo | D16: ='PANEL DE CONTROL DISTRITAL'!D15 -> Transacciones exitosas = | E16: ='PANEL DE CONTROL DISTRITAL'!E15 -> (Número de Archivos de Transacción aceptados /Total de Archivos de Transacción procesados) x100 | F16: ='PANEL DE CONTROL DISTRITAL'!F15 -> Semanal (remesa) | G16: ='PANEL DE CONTROL DISTRITAL'!G15 -> 0.9 | H16: ='PANEL DE CONTROL DISTRITAL'!H15 -> Número de Archivos de Transacción aceptados | I16: 88 | J16: 493 | K16: 233 | L16: 320 | M16: 189 | N16: 253 | O16: 166 | P16: 252 | Q16: 164 | R16: 195 | S16: 177 | T16: 298 | U16: 174 | V16: 340 | W16: 343 | X16: 339 | Y16: 201 | Z16: 222 | AA16: 177 | AB16: 674 | AC16: 879 | AD16: 198 | AE16: =IFERROR(SUM(I16:AD16)/SUM(I17:AD17),0) -> 1
H17: ='PANEL DE CONTROL DISTRITAL'!H16 -> Total de Archivos de Transacción procesados | I17: 88 | J17: 493 | K17: 233 | L17: 320 | M17: 189 | N17: 253 | O17: 166 | P17: 252 | Q17: 164 | R17: 195 | S17: 177 | T17: 298 | U17: 174 | V17: 340 | W17: 343 | X17: 339 | Y17: 201 | Z17: 222 | AA17: 177 | AB17: 674 | AC17: 879 | AD17: 198
A19: ='PANEL DE CONTROL DISTRITAL'!A18 -> 4 | B19: ='PANEL DE CONTROL DISTRITAL'!B18 -> CONCILIACIÓN | C19: ='PANEL DE CONTROL DISTRITAL'!C18 -> Responsable de Módulo | D19: ='PANEL DE CONTROL DISTRITAL'!D18 -> Credenciales disponibles para entrega = | E19: ='PANEL DE CONTROL DISTRITAL'!E18 -> ((Credenciales recibidas - Credenciales inconsistentes) / Credenciales recibidas) x 100 | F19: ='PANEL DE CONTROL DISTRITAL'!F18 -> Semanal (remesa) | G19: ='PANEL DE CONTROL DISTRITAL'!G18 -> 0.9 | H19: ='PANEL DE CONTROL DISTRITAL'!H18 -> Credenciales Recibidas - Credenciales inconsistentes | I19: 0 | J19: 0 | K19: 0 | L19: 1.037 | M19: 276 | N19: 144 | O19: 200 | P19: 253 | Q19: 169 | R19: 163 | S19: 195 | T19: 240 | U19: 227 | V19: 124 | W19: 419 | X19: 336 | Y19: 285 | Z19: 112 | AA19: 226 | AB19: 470 | AC19: 489 | AD19: 0 | AE19: =IFERROR(SUM(I19:AD19)/SUM(I20:AD20),0) -> 1
H20: ='PANEL DE CONTROL DISTRITAL'!H19 -> Credenciales recibidas | I20: 0 | J20: 0 | K20: 0 | L20: 1.037 | M20: 276 | N20: 144 | O20: 200 | P20: 253 | Q20: 169 | R20: 163 | S20: 195 | T20: 240 | U20: 227 | V20: 124 | W20: 419 | X20: 336 | Y20: 285 | Z20: 112 | AA20: 226 | AB20: 470 | AC20: 489 | AD20: 0
A22: ='PANEL DE CONTROL DISTRITAL'!A21 -> 5 | B22: ='PANEL DE CONTROL DISTRITAL'!B21 -> CONCILIACIÓN | C22: ='PANEL DE CONTROL DISTRITAL'!C21 -> Responsable de Módulo | D22: ='PANEL DE CONTROL DISTRITAL'!D21 -> Credenciales disponibles para entrega = | E22: ='PANEL DE CONTROL DISTRITAL'!E21 -> (Credenciales en resguardo / Credenciales totales en SIIRFE disponibles para entrega) x 100 | F22: ='PANEL DE CONTROL DISTRITAL'!F21 -> Semanal (remesa) | G22: ='PANEL DE CONTROL DISTRITAL'!G21 -> 1 | H22: ='PANEL DE CONTROL DISTRITAL'!H21 -> Credenciales en resguardo | I22: 53 | J22: 51 | K22: 40 | L22: 738 | M22: 761 | N22: 512 | O22: 332 | P22: 379 | Q22: 344 | R22: 317 | S22: 353 | T22: 367 | U22: 473 | V22: 282 | W22: 480 | X22: 395 | Y22: 338 | Z22: 209 | AA22: 333 | AB22: 580 | AC22: 628 | AD22: 531 | AE22: =IFERROR(SUM(I22:AD22)/SUM(I23:AD23),0) -> 1
H23: ='PANEL DE CONTROL DISTRITAL'!H22 -> Credenciales totales en SIIRFE disponibles para entrega | I23: 53 | J23: 51 | K23: 40 | L23: 738 | M23: 761 | N23: 512 | O23: 332 | P23: 379 | Q23: 344 | R23: 317 | S23: 353 | T23: 367 | U23: 473 | V23: 282 | W23: 480 | X23: 395 | Y23: 338 | Z23: 209 | AA23: 333 | AB23: 580 | AC23: 628 | AD23: 531
A25: ='PANEL DE CONTROL DISTRITAL'!A24 -> 6 | B25: ='PANEL DE CONTROL DISTRITAL'!B24 -> ENTREGA | C25: ='PANEL DE CONTROL DISTRITAL'!C24 -> Operador de Equipo Tecnológico | D25: ='PANEL DE CONTROL DISTRITAL'!D24 -> Efectividad de entrega de CPV en MAC = | E25: ='PANEL DE CONTROL DISTRITAL'!E24 -> (Total de credenciales entregadas / Total de credenciales solicitadas) x 100 | F25: ='PANEL DE CONTROL DISTRITAL'!F24 -> Semanal (remesa) | G25: ='PANEL DE CONTROL DISTRITAL'!G24 -> 0.9 | H25: ='PANEL DE CONTROL DISTRITAL'!H24 -> Total de credenciales entregadas | I25: 0 | J25: 2 | K25: 10 | L25: 339 | M25: 253 | N25: 439 | O25: 380 | P25: 206 | Q25: 204 | R25: 190 | S25: 159 | T25: 226 | U25: 121 | V25: 315 | W25: 221 | X25: 418 | Y25: 342 | Z25: 241 | AA25: 102 | AB25: 223 | AC25: 437 | AD25: 97 | AE25: =IFERROR(SUM(I25:AD25)/SUM(I26:AD26),0) -> 0.99134461
H26: ='PANEL DE CONTROL DISTRITAL'!H25 -> Total de credenciales solicitadas | I26: 0 | J26: 2 | K26: 39 | L26: 351 | M26: 253 | N26: 440 | O26: 380 | P26: 206 | Q26: 204 | R26: 190 | S26: 159 | T26: 226 | U26: 121 | V26: 315 | W26: 221 | X26: 418 | Y26: 342 | Z26: 241 | AA26: 102 | AB26: 223 | AC26: 438 | AD26: 97
B27: *Registre el valor nominal solicitado en la celda, el resultado proporcional esta automatizado.
I29: Semaforización
J30: Valor que requiere atención y justificación en el apartado de observaciones
J31: Valor suficiente
J32: Valor esperado
B34: CUADRO DE OBSERVACIONES
B35: Descripción | H35: No conformidad

Sheet 150251
A1: ='PANEL DE CONTROL DISTRITAL'!A1:Q1 -> INSTITUTO NACIONAL ELECTORAL SISTEMA DE GESTIÓN DE LA CALIDAD ESTADO DE MÉXICO
D2: Distrito | E2: 2 | F2: Módulo | H2: 150251 | X2: ='PANEL DE CONTROL DISTRITAL'!M2 -> Fecha de corte: 22/01/2024
A4: TABLERO DE CONTROL DE PROCESOS SUSTANTIVOS DEL SISTEMA DE GESTIÓN DE LA CALIDAD
A6: ='PANEL DE CONTROL DISTRITAL'!A6 -> Número | B6: ='PANEL DE CONTROL DISTRITAL'!B6 -> PROCESOS SUSTANTIVOS E INDICADORES | I6: SEMANA OPERATIVA | AE6: % AVANCE REGISTRADO
B7: ='PANEL DE CONTROL DISTRITAL'!B7 -> DESCRIPCIÓN | E7: ='PANEL DE CONTROL DISTRITAL'!E7 -> MEDICIÓN | I7: ='PANEL DE CONTROL DISTRITAL'!A5 -> CAMPAÑA ANUAL INTENSA 2023
B9: ='PANEL DE CONTROL DISTRITAL'!B8 -> Proceso | C9: ='PANEL DE CONTROL DISTRITAL'!C8 -> Dueño de Proceso | D9: ='PANEL DE CONTROL DISTRITAL'!D8 -> Indicador | E9: ='PANEL DE CONTROL DISTRITAL'!E8 -> Cálculo | F9: ='PANEL DE CONTROL DISTRITAL'!F8 -> Periodo | G9: ='PANEL DE CONTROL DISTRITAL'!G8 -> Estimado | H9: ='PANEL DE CONTROL DISTRITAL'!H8 -> Nominativo | I9: ='150151'!I9 -> 2023-37 | J9: ='150151'!J9 -> 2023-38 | K9: ='150151'!K9 -> 2023-39 | L9: ='150151'!L9 -> 2023-40 | M9: ='150151'!M9 -> 2023-41 | N9: ='150151'!N9 -> 2023-42 | O9: ='150151'!O9 -> 2023-43 | P9: ='150151'!P9 -> 2023-44 | ... X9: ='150151'!X9 -> 2023-52 | Y9: 2023-53 | Z9: 2023-54 | AA9: 2024-01 | AB9: 2024-02 | AC9: 2024-03 | AD9: 2024-04
A10: ='PANEL DE CONTROL DISTRITAL'!A9 -> 1 | B10: ='PANEL DE CONTROL DISTRITAL'!B9 -> ENTREVISTA | C10: ='PANEL DE CONTROL DISTRITAL'!C9 -> Auxiliar de Atención Ciudadana | D10: ='PANEL DE CONTROL DISTRITAL'!D9 -> Efectividad de la entrevista = | E10: ='PANEL DE CONTROL DISTRITAL'!E9 -> (Número de trámites aplicados / (Número de fichas requisitadas - Notificaciones de improcedencia de trámite)) x 100 | F10: ='PANEL DE CONTROL DISTRITAL'!F9 -> Semanal (remesa) | G10: ='PANEL DE CONTROL DISTRITAL'!G9 -> 0.9 | H10: ='PANEL DE CONTROL DISTRITAL'!H9 -> Número de trámites aplicados | I10: 118 | J10: 528 | K10: 480 | L10: 571 | M10: 579 | N10: 606 | O10: 562 | P10: 554 | Q10: 548 | R10: 435 | S10: 781 | T10: 658 | U10: 637 | V10: 983 | W10: 854 | X10: 784 | Y10: 791 | Z10: 718 | AA10: 1065 | AB10: 1473 | AC10: 1451 | AD10: 660 | AE10: =IFERROR(SUM(I10:AD10)/SUM(I11:AD11),0) -> 0.99628814
H11: ='PANEL DE CONTROL DISTRITAL'!H10 -> Número de fichas requisitadas - Notificaciones de improcedencia de trámite | I11: 120 | J11: 535 | K11: 483 | L11: 573 | M11: 582 | N11: 613 | O11: 570 | P11: 556 | Q11: 557 | R11: 437 | S11: 782 | T11: 658 | U11: 637 | V11: 984 | W11: 858 | X11: 785 | Y11: 791 | Z11: 719 | AA11: 1067 | AB11: 1477 | AC11: 1451 | AD11: 660
A13: ='PANEL DE CONTROL DISTRITAL'!A12 -> 2 | B13: ='PANEL DE CONTROL DISTRITAL'!B12 -> TRÁMITE | C13: ='PANEL DE CONTROL DISTRITAL'!C12 -> Operador de Equipo Tecnológico | D13: ='PANEL DE CONTROL DISTRITAL'!D12 -> Trámites exitosos efectivos= | E13: ='PANEL DE CONTROL DISTRITAL'!E12 -> (Número de trámites exitosos / Número de trámites aplicados) x 100 | F13: ='PANEL DE CONTROL DISTRITAL'!F12 -> Semanal (remesa) | G13: ='PANEL DE CONTROL DISTRITAL'!G12 -> 0.9 | H13: ='PANEL DE CONTROL DISTRITAL'!H12 -> Número de trámites exitosos | I13: 118 | J13: 527 | K13: 480 | L13: 571 | M13: 576 | N13: 605 | O13: 561 | P13: 554 | Q13: 546 | R13: 435 | S13: 781 | T13: 658 | U13: 635 | V13: 983 | W13: 852 | X13: 783 | Y13: 791 | Z13: 718 | AA13: 1063 | AB13: 1471 | AC13: 1442 | AD13: 655 | AE13: =IFERROR(SUM(I13:AD13)/SUM(I14:AD14),0) -> 0.9981685
H14: ='PANEL DE CONTROL DISTRITAL'!H13 -> Número de trámites aplicados | I14: 118 | J14: 528 | K14: 480 | L14: 571 | M14: 579 | N14: 606 | O14: 562 | P14: 554 | Q14: 548 | R14: 435 | S14: 781 | T14: 658 | U14: 637 | V14: 983 | W14: 854 | X14: 784 | Y14: 791 | Z14: 718 | AA14: 1063 | AB14: 1473 | AC14: 1451 | AD14: 660
A16: ='PANEL DE CONTROL DISTRITAL'!A15 -> 3 | B16: ='PANEL DE CONTROL DISTRITAL'!B15 -> TRANSFERENCIA | C16: ='PANEL DE CONTROL DISTRITAL'!C15 -> Responsable de Módulo | D16: ='PANEL DE CONTROL DISTRITAL'!D15 -> Transacciones exitosas = | E16: ='PANEL DE CONTROL DISTRITAL'!E15 -> (Número de Archivos de Transacción aceptados /Total de Archivos de Transacción procesados) x100 | F16: ='PANEL DE CONTROL DISTRITAL'!F15 -> Semanal (remesa) | G16: ='PANEL DE CONTROL DISTRITAL'!G15 -> 0.9 | H16: ='PANEL DE CONTROL DISTRITAL'!H15 -> Número de Archivos de Transacción aceptados | I16: 118 | J16: 528 | K16: 480 | L16: 571 | M16: 579 | N16: 606 | O16: 562 | P16: 554 | Q16: 548 | R16: 435 | S16: 781 | T16: 658 | U16: 637 | V16: 983 | W16: 854 | X16: 784 | Y16: 791 | Z16: 718 | AA16: 1065 | AB16: 1472 | AC16: 1451 | AD16: 660 | AE16: =IFERROR(SUM(I16:AD16)/SUM(I17:AD17),0) -> 1
H17: ='PANEL DE CONTROL DISTRITAL'!H16 -> Total de Archivos de Transacción procesados | I17: 118 | J17: 528 | K17: 480 | L17: 571 | M17: 579 | N17: 606 | O17: 562 | P17: 554 | Q17: 548 | R17: 435 | S17: 781 | T17: 658 | U17: 637 | V17: 983 | W17: 854 | X17: 784 | Y17: 791 | Z17: 718 | AA17: 1065 | AB17: 1472 | AC17: 1451 | AD17: 660
A18: 698
A19: ='PANEL DE CONTROL DISTRITAL'!A18 -> 4 | B19: ='PANEL DE CONTROL DISTRITAL'!B18 -> CONCILIACIÓN | C19: ='PANEL DE CONTROL DISTRITAL'!C18 -> Responsable de Módulo | D19: ='PANEL DE CONTROL DISTRITAL'!D18 -> Credenciales disponibles para entrega = | E19: ='PANEL DE CONTROL DISTRITAL'!E18 -> ((Credenciales recibidas - Credenciales inconsistentes) / Credenciales recibidas) x 100 | F19: ='PANEL DE CONTROL DISTRITAL'!F18 -> Semanal (remesa) | G19: ='PANEL DE CONTROL DISTRITAL'!G18 -> 0.9 | H19: ='PANEL DE CONTROL DISTRITAL'!H18 -> Credenciales Recibidas - Credenciales inconsistentes | I19: 94 | J19: 616 | K19: 535 | L19: 468 | M19: 573 | N19: 609 | O19: 592 | P19: 531 | Q19: 555 | R19: 443 | S19: 645 | T19: 709 | U19: 553 | V19: 908 | W19: 795 | X19: 917 | Y19: 698 | Z19: 290 | AA19: 687 | AB19: 1539 | AC19: 1277 | AD19: 143 | AE19: =IFERROR(SUM(I19:AD19)/SUM(I20:AD20),0) -> 1
H20: ='PANEL DE CONTROL DISTRITAL'!H19 -> Credenciales recibidas | I20: 94 | J20: 616 | K20: 535 | L20: 468 | M20: 573 | N20: 609 | O20: 592 | P20: 531 | Q20: 555 | R20: 443 | S20: 645 | T20: 709 | U20: 553 | V20: 908 | W20: 795 | X20: 917 | Y20: 698 | Z20: 290 | AA20: 687 | AB20: 1539 | AC20: 1277 | AD20: 143
A22: ='PANEL DE CONTROL DISTRITAL'!A21 -> 5 | B22: ='PANEL DE CONTROL DISTRITAL'!B21 -> CONCILIACIÓN | C22: ='PANEL DE CONTROL DISTRITAL'!C21 -> Responsable de Módulo | D22: ='PANEL DE CONTROL DISTRITAL'!D21 -> Credenciales disponibles para entrega = | E22: ='PANEL DE CONTROL DISTRITAL'!E21 -> (Credenciales en resguardo / Credenciales totales en SIIRFE disponibles para entrega) x 100 | F22: ='PANEL DE CONTROL DISTRITAL'!F21 -> Semanal (remesa) | G22: ='PANEL DE CONTROL DISTRITAL'!G21 -> 1 | H22: ='PANEL DE CONTROL DISTRITAL'!H21 -> Credenciales en resguardo | I22: 1089 | J22: 1126 | K22: 1084 | L22: 990 | M22: 1000 | N22: 1067 | O22: 1091 | P22: 1006 | Q22: 1003 | R22: 990 | S22: 995 | T22: 1050 | U22: 986 | V22: 1323 | W22: 1270 | X22: 1317 | Y22: 1186 | Z22: 725 | AA22: 716 | AB22: 1262 | AC22: 1188 | AD22: 1178 | AE22: =IFERROR(SUM(I22:AD22)/SUM(I23:AD23),0) -> 1
H23: ='PANEL DE CONTROL DISTRITAL'!H22 -> Credenciales totales en SIIRFE disponibles para entrega | I23: 1089 | J23: 1126 | K23: 1084 | L23: 990 | M23: 1000 | N23: 1067 | O23: 1091 | P23: 1006 | Q23: 1003 | R23: 990 | S23: 995 | T23: 1050 | U23: 986 | V23: 1323 | W23: 1270 | X23: 1317 | Y23: 1186 | Z23: 725 | AA23: 716 | AB23: 1262 | AC23: 1188 | AD23: 1178
A25: ='PANEL DE CONTROL DISTRITAL'!A24 -> 6 | B25: ='PANEL DE CONTROL DISTRITAL'!B24 -> ENTREGA | C25: ='PANEL DE CONTROL DISTRITAL'!C24 -> Operador de Equipo Tecnológico | D25: ='PANEL DE CONTROL DISTRITAL'!D24 -> Efectividad de entrega de CPV en MAC = | E25: ='PANEL DE CONTROL DISTRITAL'!E24 -> (Total de credenciales entregadas / Total de credenciales solicitadas) x 100 | F25: ='PANEL DE CONTROL DISTRITAL'!F24 -> Semanal (remesa) | G25: ='PANEL DE CONTROL DISTRITAL'!G24 -> 0.9 | H25: ='PANEL DE CONTROL DISTRITAL'!H24 -> Total de credenciales entregadas | I25: 110 | J25: 548 | K25: 563 | L25: 562 | M25: 563 | N25: 533 | O25: 568 | P25: 616 | Q25: 558 | R25: 456 | S25: 631 | T25: 654 | U25: 617 | V25: 571 | W25: 847 | X25: 870 | Y25: 829 | Z25: 751 | AA25: 696 | AB25: 993 | AC25: 1340 | AD25: 153 | AE25: =IFERROR(SUM(I25:AD25)/SUM(I26:AD26),0) -> 0.99950128
H26: ='PANEL DE CONTROL DISTRITAL'!H25 -> Total de credenciales solicitadas | I26: 110 | J26: 548 | K26: 565 | L26: 562 | M26: 563 | N26: 533 | O26: 569 | P26: 616 | Q26: 558 | R26: 456 | S26: 634 | T26: 655 | U26: 617 | V26: 571 | W26: 847 | X26: 870 | Y26: 829 | Z26: 751 | AA26: 696 | AB26: 993 | AC26: 1340 | AD26: 153
B27: *Registre el valor nominal solicitado en la celda, el resultado proporcional esta automatizado.
I29: Semaforización
J30: Valor que requiere atención y justificación en el apartado de observaciones
J31: Valor suficiente
J32: Valor esperado
B34: CUADRO DE OBSERVACIONES
B35: Descripción | H35: No conformidad

Sheet 150253
A1: ='PANEL DE CONTROL DISTRITAL'!A1:Q1 -> INSTITUTO NACIONAL ELECTORAL SISTEMA DE GESTIÓN DE LA CALIDAD ESTADO DE MÉXICO
D2: Distrito | E2: 2 | F2: Módulo | H2: 150253 | X2: ='PANEL DE CONTROL DISTRITAL'!M2 -> Fecha de corte: 22/01/2024
A4: TABLERO DE CONTROL DE PROCESOS SUSTANTIVOS DEL SISTEMA DE GESTIÓN DE LA CALIDAD
A6: ='PANEL DE CONTROL DISTRITAL'!A6 -> Número | B6: ='PANEL DE CONTROL DISTRITAL'!B6 -> PROCESOS SUSTANTIVOS E INDICADORES | I6: SEMANA OPERATIVA | AE6: % AVANCE REGISTRADO
B7: ='PANEL DE CONTROL DISTRITAL'!B7 -> DESCRIPCIÓN | E7: ='PANEL DE CONTROL DISTRITAL'!E7 -> MEDICIÓN | I7: ='PANEL DE CONTROL DISTRITAL'!A5 -> CAMPAÑA ANUAL INTENSA 2023
B9: ='PANEL DE CONTROL DISTRITAL'!B8 -> Proceso | C9: ='PANEL DE CONTROL DISTRITAL'!C8 -> Dueño de Proceso | D9: ='PANEL DE CONTROL DISTRITAL'!D8 -> Indicador | E9: ='PANEL DE CONTROL DISTRITAL'!E8 -> Cálculo | F9: ='PANEL DE CONTROL DISTRITAL'!F8 -> Periodo | G9: ='PANEL DE CONTROL DISTRITAL'!G8 -> Estimado | H9: ='PANEL DE CONTROL DISTRITAL'!H8 -> Nominativo | I9: ='150151'!I9 -> 2023-37 | J9: ='150151'!J9 -> 2023-38 | K9: ='150151'!K9 -> 2023-39 | L9: ='150151'!L9 -> 2023-40 | M9: ='150151'!M9 -> 2023-41 | N9: ='150151'!N9 -> 2023-42 | O9: ='150151'!O9 -> 2023-43 | P9: ='150151'!P9 -> 2023-44 | ... X9: ='150151'!X9 -> 2023-52 | Y9: 2023-53 | Z9: 2023-54 | AA9: 2024-01 | AB9: 2024-02 | AC9: 2024-03 | AD9: 2024-04
A10: ='PANEL DE CONTROL DISTRITAL'!A9 -> 1 | B10: ='PANEL DE CONTROL DISTRITAL'!B9 -> ENTREVISTA | C10: ='PANEL DE CONTROL DISTRITAL'!C9 -> Auxiliar de Atención Ciudadana | D10: ='PANEL DE CONTROL DISTRITAL'!D9 -> Efectividad de la entrevista = | E10: ='PANEL DE CONTROL DISTRITAL'!E9 -> (Número de trámites aplicados / (Número de fichas requisitadas - Notificaciones de improcedencia de trámite)) x 100 | F10: ='PANEL DE CONTROL DISTRITAL'!F9 -> Semanal (remesa) | G10: ='PANEL DE CONTROL DISTRITAL'!G9 -> 0.9 | H10: ='PANEL DE CONTROL DISTRITAL'!H9 -> Número de trámites aplicados | I10: 119 | J10: 586 | K10: 492 | L10: 615 | M10: 657 | N10: 613 | O10: 861 | P10: 940 | Q10: 804 | R10: 601 | S10: 893 | T10: 1074 | U10: 901 | V10: 1330 | W10: 1237 | X10: 1014 | Y10: 1216 | Z10: 1042 | AA10: 1496 | AB10: 2003 | AC10: 2030 | AD10: 835 | AE10: =IFERROR(SUM(I10:AD10)/SUM(I11:AD11),0) -> 0.98022028
H11: ='PANEL DE CONTROL DISTRITAL'!H10 -> Número de fichas requisitadas - Notificaciones de improcedencia de trámite | I11: 119 | J11: 588 | K11: 492 | L11: 619 | M11: 657 | N11: 638 | O11: 888 | P11: 961 | Q11: 827 | R11: 589 | S11: 950 | T11: 1037 | U11: 903 | V11: 1375 | W11: 1248 | X11: 1069 | Y11: 1248 | Z11: 1083 | AA11: 1533 | AB11: 2055 | AC11: 2069 | AD11: 842
A13: ='PANEL DE CONTROL DISTRITAL'!A12 -> 2 | B13: ='PANEL DE CONTROL DISTRITAL'!B12 -> TRÁMITE | C13: ='PANEL DE CONTROL DISTRITAL'!C12 -> Operador de Equipo Tecnológico | D13: ='PANEL DE CONTROL DISTRITAL'!D12 -> Trámites exitosos efectivos= | E13: ='PANEL DE CONTROL DISTRITAL'!E12 -> (Número de trámites exitosos / Número de trámites aplicados) x 100 | F13: ='PANEL DE CONTROL DISTRITAL'!F12 -> Semanal (remesa) | G13: ='PANEL DE CONTROL DISTRITAL'!G12 -> 0.9 | H13: ='PANEL DE CONTROL DISTRITAL'!H12 -> Número de trámites exitosos | I13: 118 | J13: 586 | K13: 491 | L13: 618 | M13: 657 | N13: 612 | O13: 861 | P13: 939 | Q13: 476 | R13: 600 | S13: 893 | T13: 1072 | U13: 900 | V13: 1324 | W13: 1237 | X13: 1013 | Y13: 1210 | Z13: 1038 | AA13: 1493 | AB13: 1999 | AC13: 2015 | AD13: 830 | AE13: =IFERROR(SUM(I13:AD13)/SUM(I14:AD14),0) -> 0.98216543
H14: ='PANEL DE CONTROL DISTRITAL'!H13 -> Número de trámites aplicados | I14: 119 | J14: 586 | K14: 492 | L14: 619 | M14: 657 | N14: 613 | O14: 861 | P14: 940 | Q14: 804 | R14: 601 | S14: 893 | T14: 1074 | U14: 901 | V14: 1330 | W14: 1237 | X14: 1014 | Y14: 1216 | Z14: 1042 | AA14: 1496 | AB14: 2003 | AC14: 2030 | AD14: 835
A15: 1042
A16: ='PANEL DE CONTROL DISTRITAL'!A15 -> 3 | B16: ='PANEL DE CONTROL DISTRITAL'!B15 -> TRANSFERENCIA | C16: ='PANEL DE CONTROL DISTRITAL'!C15 -> Responsable de Módulo | D16: ='PANEL DE CONTROL DISTRITAL'!D15 -> Transacciones exitosas = | E16: ='PANEL DE CONTROL DISTRITAL'!E15 -> (Número de Archivos de Transacción aceptados /Total de Archivos de Transacción procesados) x100 | F16: ='PANEL DE CONTROL DISTRITAL'!F15 -> Semanal (remesa) | G16: ='PANEL DE CONTROL DISTRITAL'!G15 -> 0.9 | H16: ='PANEL DE CONTROL DISTRITAL'!H15 -> Número de Archivos de Transacción aceptados | I16: 119 | J16: 586 | K16: 492 | L16: 619 | M16: 657 | N16: 613 | O16: 861 | P16: 940 | Q16: 804 | R16: 600 | S16: 893 | T16: 1074 | U16: 901 | V16: 1330 | W16: 1237 | X16: 1014 | Y16: 1216 | Z16: 1042 | AA16: 1495 | AB16: 2003 | AC16: 2030 | AD16: 835 | AE16: =IFERROR(SUM(I16:AB16)/SUM(I17:AB17),0) -> 0.99994594
H17: ='PANEL DE CONTROL DISTRITAL'!H16 -> Total de Archivos de Transacción procesados | I17: 119 | J17: 586 | K17: 492 | L17: 619 | M17: 657 | N17: 613 | O17: 861 | P17: 940 | Q17: 804 | R17: 601 | S17: 893 | T17: 1074 | U17: 901 | V17: 1330 | W17: 1237 | X17: 1014 | Y17: 1216 | Z17: 1042 | AA17: 1495 | AB17: 2003 | AC17: 2030 | AD17: 835
A19: ='PANEL DE CONTROL DISTRITAL'!A18 -> 4 | B19: ='PANEL DE CONTROL DISTRITAL'!B18 -> CONCILIACIÓN | C19: ='PANEL DE CONTROL DISTRITAL'!C18 -> Responsable de Módulo | D19: ='PANEL DE CONTROL DISTRITAL'!D18 -> Credenciales disponibles para entrega = | E19: ='PANEL DE CONTROL DISTRITAL'!E18 -> ((Credenciales recibidas - Credenciales inconsistentes) / Credenciales recibidas) x 100 | F19: ='PANEL DE CONTROL DISTRITAL'!F18 -> Semanal (remesa) | G19: ='PANEL DE CONTROL DISTRITAL'!G18 -> 0.9 | H19: ='PANEL DE CONTROL DISTRITAL'!H18 -> Credenciales Recibidas - Credenciales inconsistentes | I19: 189 | J19: 691 | K19: 580 | L19: 465 | M19: 711 | N19: 533 | O19: 804 | P19: 938 | Q19: 865 | R19: 609 | S19: 780 | T19: 1006 | U19: 660 | V19: 1197 | W19: 1298 | X19: 1324 | Y19: 529 | Z19: 703 | AA19: 855 | AB19: 2521 | AC19: 1650 | AD19: 160 | AE19: =IFERROR(SUM(I19:AB19)/SUM(I20:AB20),0) -> 0.99942089
H20: ='PANEL DE CONTROL DISTRITAL'!H19 -> Credenciales recibidas | I20: 189 | J20: 697 | K20: 583 | L20: 465 | M20: 711 | N20: 533 | O20: 804 | P20: 938 | Q20: 865 | R20: 609 | S20: 780 | T20: 1007 | U20: 660 | V20: 1197 | W20: 1298 | X20: 1324 | Y20: 529 | Z20: 703 | AA20: 855 | AB20: 2521 | AC20: 1650 | AD20: 160
A22: ='PANEL DE CONTROL DISTRITAL'!A21 -> 5 | B22: ='PANEL DE CONTROL DISTRITAL'!B21 -> CONCILIACIÓN | C22: ='PANEL DE CONTROL DISTRITAL'!C21 -> Responsable de Módulo | D22: ='PANEL DE CONTROL DISTRITAL'!D21 -> Credenciales disponibles para entrega = | E22: ='PANEL DE CONTROL DISTRITAL'!E21 -> (Credenciales en resguardo / Credenciales totales en SIIRFE disponibles para entrega) x 100 | F22: ='PANEL DE CONTROL DISTRITAL'!F21 -> Semanal (remesa) | G22: ='PANEL DE CONTROL DISTRITAL'!G21 -> 1 | H22: ='PANEL DE CONTROL DISTRITAL'!H21 -> Credenciales en resguardo | I22: 2000 | J22: 1740 | K22: 1623 | L22: 1398 | M22: 1507 | N22: 1338 | O22: 1536 | P22: 1747 | Q22: 1668 | R22: 1616 | S22: 1562 | T22: 1766 | U22: 1517 | V22: 1777 | W22: 1906 | X22: 2043 | Y22: 1429 | Z22: 1118 | AA22: 1122 | AB22: 2227 | AC22: 1901 | AD22: 1890 | AE22: =IFERROR(SUM(I22:AB22)/SUM(I23:AB23),0) -> 1
H23: ='PANEL DE CONTROL DISTRITAL'!H22 -> Credenciales totales en SIIRFE disponibles para entrega | I23: 2000 | J23: 1740 | K23: 1623 | L23: 1398 | M23: 1507 | N23: 1338 | O23: 1536 | P23: 1747 | Q23: 1668 | R23: 1616 | S23: 1562 | T23: 1766 | U23: 1517 | V23: 1777 | W23: 1906 | X23: 2043 | Y23: 1429 | Z23: 1118 | AA23: 1122 | AB23: 2227 | AC23: 1901 | AD23: 1890
A24: 1014
A25: ='PANEL DE CONTROL DISTRITAL'!A24 -> 6 | B25: ='PANEL DE CONTROL DISTRITAL'!B24 -> ENTREGA | C25: ='PANEL DE CONTROL DISTRITAL'!C24 -> Operador de Equipo Tecnológico | D25: ='PANEL DE CONTROL DISTRITAL'!D24 -> Efectividad de entrega de CPV en MAC = | E25: ='PANEL DE CONTROL DISTRITAL'!E24 -> (Total de credenciales entregadas / Total de credenciales solicitadas) x 100 | F25: ='PANEL DE CONTROL DISTRITAL'!F24 -> Semanal (remesa) | G25: ='PANEL DE CONTROL DISTRITAL'!G24 -> 0.9 | H25: ='PANEL DE CONTROL DISTRITAL'!H24 -> Total de credenciales entregadas | I25: 202 | J25: 910 | K25: 685 | L25: 690 | M25: 602 | N25: 696 | O25: 606 | P25: 727 | Q25: 944 | R25: 661 | S25: 828 | T25: 803 | U25: 907 | V25: 935 | W25: 1156 | X25: 1187 | Y25: 1143 | Z25: 1014 | AA25: 851 | AB25: 1416 | AC25: 1957 | AD25: 171 | AE25: =IFERROR(SUM(I25:AD25)/SUM(I26:AD26),0) -> 0.99921491
H26: ='PANEL DE CONTROL DISTRITAL'!H25 -> Total de credenciales solicitadas | I26: 202 | J26: 910 | K26: 687 | L26: 690 | M26: 602 | N26: 696 | O26: 607 | P26: 727 | Q26: 944 | R26: 661 | S26: 830 | T26: 803 | U26: 909 | V26: 937 | W26: 1156 | X26: 1187 | Y26: 1146 | Z26: 1017 | AA26: 851 | AB26: 1416 | AC26: 1957 | AD26: 171
B27: *Registre el valor nominal solicitado en la celda, el resultado proporcional esta automatizado.
I29: Semaforización
J30: Valor que requiere atención y justificación en el apartado de observaciones
J31: Valor suficiente
J32: Valor esperado
B34: CUADRO DE OBSERVACIONES
B35: Descripción | H35: No conformidad

Sheet 150351
A1: ='PANEL DE CONTROL DISTRITAL'!A1:Q1 -> INSTITUTO NACIONAL ELECTORAL SISTEMA DE GESTIÓN DE LA CALIDAD ESTADO DE MÉXICO
D2: Distrito | E2: 3 | F2: Módulo | H2: 150351 | X2: ='PANEL DE CONTROL DISTRITAL'!M2 -> Fecha de corte: 22/01/2024
A4: TABLERO DE CONTROL DE PROCESOS SUSTANTIVOS DEL SISTEMA DE GESTIÓN DE LA CALIDAD
A6: ='PANEL DE CONTROL DISTRITAL'!A6 -> Número | B6: ='PANEL DE CONTROL DISTRITAL'!B6 -> PROCESOS SUSTANTIVOS E INDICADORES | I6: SEMANA OPERATIVA | AE6: % AVANCE REGISTRADO
B7: ='PANEL DE CONTROL DISTRITAL'!B7 -> DESCRIPCIÓN | E7: ='PANEL DE CONTROL DISTRITAL'!E7 -> MEDICIÓN | I7: ='PANEL DE CONTROL DISTRITAL'!A5 -> CAMPAÑA ANUAL INTENSA 2023
B9: ='PANEL DE CONTROL DISTRITAL'!B8 -> Proceso | C9: ='PANEL DE CONTROL DISTRITAL'!C8 -> Dueño de Proceso | D9: ='PANEL DE CONTROL DISTRITAL'!D8 -> Indicador | E9: ='PANEL DE CONTROL DISTRITAL'!E8 -> Cálculo | F9: ='PANEL DE CONTROL DISTRITAL'!F8 -> Periodo | G9: ='PANEL DE CONTROL DISTRITAL'!G8 -> Estimado | H9: ='PANEL DE CONTROL DISTRITAL'!H8 -> Nominativo | I9: ='150151'!I9 -> 2023-37 | J9: ='150151'!J9 -> 2023-38 | K9: ='150151'!K9 -> 2023-39 | L9: ='150151'!L9 -> 2023-40 | M9: ='150151'!M9 -> 2023-41 | N9: ='150151'!N9 -> 2023-42 | O9: ='150151'!O9 -> 2023-43 | P9: ='150151'!P9 -> 2023-44 | ... X9: ='150151'!X9 -> 2023-52 | Y9: 2023-53 | Z9: 2023-54 | AA9: 2024-01 | AB9: 2024-02 | AC9: 2024-03 | AD9: 2024-04
A10: ='PANEL DE CONTROL DISTRITAL'!A9 -> 1 | B10: ='PANEL DE CONTROL DISTRITAL'!B9 -> ENTREVISTA | C10: ='PANEL DE CONTROL DISTRITAL'!C9 -> Auxiliar de Atención Ciudadana | D10: ='PANEL DE CONTROL DISTRITAL'!D9 -> Efectividad de la entrevista = | E10: ='PANEL DE CONTROL DISTRITAL'!E9 -> (Número de trámites aplicados / (Número de fichas requisitadas - Notificaciones de improcedencia de trámite)) x 100 | F10: ='PANEL DE CONTROL DISTRITAL'!F9 -> Semanal (remesa) | G10: ='PANEL DE CONTROL DISTRITAL'!G9 -> 0.9 | H10: ='PANEL DE CONTROL DISTRITAL'!H9 -> Número de trámites aplicados | I10: 109 | J10: 496 | K10: 492 | L10: 495 | M10: 535 | N10: 521 | O10: 511 | P10: 538 | Q10: 491 | R10: 375 | S10: 651 | T10: 678 | U10: 627 | V10: 960 | W10: 910 | X10: 803 | Y10: 843 | Z10: 631 | AA10: 989 | AB10: 1399 | AC10: 1675 | AD10: 526 | AE10: =IFERROR(SUM(I10:AD10)/SUM(I11:AD11),0) -> 1
H11: ='PANEL DE CONTROL DISTRITAL'!H10 -> Número de fichas requisitadas - Notificaciones de improcedencia de trámite | I11: 109 | J11: 496 | K11: 492 | L11: 495 | M11: 535 | N11: 521 | O11: 511 | P11: 538 | Q11: 491 | R11: 375 | S11: 651 | T11: 678 | U11: 627 | V11: 960 | W11: 910 | X11: 803 | Y11: 843 | Z11: 631 | AA11: 989 | AB11: 1399 | AC11: 1675 | AD11: 526
A13: ='PANEL DE CONTROL DISTRITAL'!A12 -> 2 | B13: ='PANEL DE CONTROL DISTRITAL'!B12 -> TRÁMITE | C13: ='PANEL DE CONTROL DISTRITAL'!C12 -> Operador de Equipo Tecnológico | D13: ='PANEL DE CONTROL DISTRITAL'!D12 -> Trámites exitosos efectivos= | E13: ='PANEL DE CONTROL DISTRITAL'!E12 -> (Número de trámites exitosos / Número de trámites aplicados) x 100 | F13: ='PANEL DE CONTROL DISTRITAL'!F12 -> Semanal (remesa) | G13: ='PANEL DE CONTROL DISTRITAL'!G12 -> 0.9 | H13: ='PANEL DE CONTROL DISTRITAL'!H12 -> Número de trámites exitosos | I13: 109 | J13: 495 | K13: 492 | L13: 486 | M13: 533 | N13: 520 | O13: 508 | P13: 536 | Q13: 490 | R13: 373 | S13: 650 | T13: 678 | U13: 513 | V13: 959 | W13: 909 | X13: 802 | Y13: 842 | Z13: 630 | AA13: 988 | AB13: 1399 | AC13: 1672 | AD13: 526 | AE13: =IFERROR(SUM(I13:AD13)/SUM(I14:AD14),0) -> 0.99055985
H14: ='PANEL DE CONTROL DISTRITAL'!H13 -> Número de trámites aplicados | I14: 109 | J14: 496 | K14: 492 | L14: 495 | M14: 535 | N14: 521 | O14: 511 | P14: 538 | Q14: 491 | R14: 375 | S14: 651 | T14: 678 | U14: 627 | V14: 960 | W14: 910 | X14: 803 | Y14: 842 | Z14: 631 | AA14: 989 | AB14: 1399 | AC14: 1675 | AD14: 526
A16: ='PANEL DE CONTROL DISTRITAL'!A15 -> 3 | B16: ='PANEL DE CONTROL DISTRITAL'!B15 -> TRANSFERENCIA | C16: ='PANEL DE CONTROL DISTRITAL'!C15 -> Responsable de Módulo | D16: ='PANEL DE CONTROL DISTRITAL'!D15 -> Transacciones exitosas = | E16: ='PANEL DE CONTROL DISTRITAL'!E15 -> (Número de Archivos de Transacción aceptados /Total de Archivos de Transacción procesados) x100 | F16: ='PANEL DE CONTROL DISTRITAL'!F15 -> Semanal (remesa) | G16: ='PANEL DE CONTROL DISTRITAL'!G15 -> 0.9 | H16: ='PANEL DE CONTROL DISTRITAL'!H15 -> Número de Archivos de Transacción aceptados | I16: 109 | J16: 496 | K16: 492 | L16: 495 | M16: 535 | N16: 521 | O16: 511 | P16: 538 | Q16: 491 | R16: 375 | S16: 651 | T16: 678 | U16: 627 | V16: 960 | W16: 910 | X16: 803 | Y16: 843 | Z16: 631 | AA16: 989 | AB16: 1399 | AC16: 1675 | AD16: 526 | AE16: =IFERROR(SUM(I16:AD16)/SUM(I17:AD17),0) -> 1
H17: ='PANEL DE CONTROL DISTRITAL'!H16 -> Total de Archivos de Transacción procesados | I17: 109 | J17: 496 | K17: 492 | L17: 495 | M17: 535 | N17: 521 | O17: 511 | P17: 538 | Q17: 491 | R17: 375 | S17: 651 | T17: 678 | U17: 627 | V17: 960 | W17: 910 | X17: 803 | Y17: 843 | Z17: 631 | AA17: 989 | AB17: 1399 | AC17: 1675 | AD17: 526
A19: ='PANEL DE CONTROL DISTRITAL'!A18 -> 4 | B19: ='PANEL DE CONTROL DISTRITAL'!B18 -> CONCILIACIÓN | C19: ='PANEL DE CONTROL DISTRITAL'!C18 -> Responsable de Módulo | D19: ='PANEL DE CONTROL DISTRITAL'!D18 -> Credenciales disponibles para entrega = | E19: ='PANEL DE CONTROL DISTRITAL'!E18 -> ((Credenciales recibidas - Credenciales inconsistentes) / Credenciales recibidas) x 100 | F19: ='PANEL DE CONTROL DISTRITAL'!F18 -> Semanal (remesa) | G19: ='PANEL DE CONTROL DISTRITAL'!G18 -> 0.9 | H19: ='PANEL DE CONTROL DISTRITAL'!H18 -> Credenciales Recibidas - Credenciales inconsistentes | I19: 0 | J19: 793 | K19: 485 | L19: 506 | M19: 381 | N19: 660 | O19: 530 | P19: 487 | Q19: 543 | R19: 379 | S19: 618 | T19: 522 | U19: 691 | V19: 386 | W19: 1250 | X19: 870 | Y19: 541 | Z19: 654 | AA19: 752 | AB19: 1140 | AC19: 1050 | AD19: 0 | AE19: =IFERROR(SUM(I19:AD19)/SUM(I20:AD20),0) -> 1
H20: ='PANEL DE CONTROL DISTRITAL'!H19 -> Credenciales recibidas | I20: 0 | J20: 793 | K20: 485 | L20: 506 | M20: 381 | N20: 660 | O20: 530 | P20: 487 | Q20: 543 | R20: 379 | S20: 618 | T20: 522 | U20: 691 | V20: 386 | W20: 1250 | X20: 870 | Y20: 541 | Z20: 654 | AA20: 752 | AB20: 1140 | AC20: 1050 | AD20: 0
A22: ='PANEL DE CONTROL DISTRITAL'!A21 -> 5 | B22: ='PANEL DE CONTROL DISTRITAL'!B21 -> CONCILIACIÓN | C22: ='PANEL DE CONTROL DISTRITAL'!C21 -> Responsable de Módulo | D22: ='PANEL DE CONTROL DISTRITAL'!D21 -> Credenciales disponibles para entrega = | E22: ='PANEL DE CONTROL DISTRITAL'!E21 -> (Credenciales en resguardo / Credenciales totales en SIIRFE disponibles para entrega) x 100 | F22: ='PANEL DE CONTROL DISTRITAL'!F21 -> Semanal (remesa) | G22: ='PANEL DE CONTROL DISTRITAL'!G21 -> 1 | H22: ='PANEL DE CONTROL DISTRITAL'!H21 -> Credenciales en resguardo | I22: 869 | J22: 1.031 | K22: 975 | L22: 947 | M22: 804 | N22: 936 | O22: 966 | P22: 935 | Q22: 961 | R22: 928 | S22: 933 | T22: 865 | U22: 1.004 | V22: 679 | W22: 1043 | X22: 1108 | Y22: 839 | Z22: 759 | AA22: 859 | AB22: 1442 | AC22: 1590 | AD22: 1568 | AE22: =IFERROR(SUM(I22:AD22)/SUM(I23:AD23),0) -> 1
H23: ='PANEL DE CONTROL DISTRITAL'!H22 -> Credenciales totales en SIIRFE disponibles para entrega | I23: 869 | J23: 1.031 | K23: 975 | L23: 947 | M23: 804 | N23: 936 | O23: 966 | P23: 935 | Q23: 961 | R23: 928 | S23: 933 | T23: 865 | U23: 1.004 | V23: 679 | W23: 1043 | X23: 1108 | Y23: 839 | Z23: 759 | AA23: 859 | AB23: 1442 | AC23: 1590 | AD23: 1568
A25: ='PANEL DE CONTROL DISTRITAL'!A24 -> 6 | B25: ='PANEL DE CONTROL DISTRITAL'!B24 -> ENTREGA | C25: ='PANEL DE CONTROL DISTRITAL'!C24 -> Operador de Equipo Tecnológico | D25: ='PANEL DE CONTROL DISTRITAL'!D24 -> Efectividad de entrega de CPV en MAC = | E25: ='PANEL DE CONTROL DISTRITAL'!E24 -> (Total de credenciales entregadas / Total de credenciales solicitadas) x 100 | F25: ='PANEL DE CONTROL DISTRITAL'!F24 -> Semanal (remesa) | G25: ='PANEL DE CONTROL DISTRITAL'!G24 -> 0.9 | H25: ='PANEL DE CONTROL DISTRITAL'!H24 -> Total de credenciales entregadas | I25: 150 | J25: 609 | K25: 530 | L25: 534 | M25: 522 | N25: 522 | O25: 500 | P25: 538 | Q25: 517 | R25: 412 | S25: 605 | T25: 590 | U25: 552 | V25: 711 | W25: 886 | X25: 801 | Y25: 810 | Z25: 734 | AA25: 652 | AB25: 557 | AC25: 894 | AD25: 22 | AE25: =IFERROR(SUM(I25:AD25)/SUM(I26:AD26),0) -> 0.99520025
H26: ='PANEL DE CONTROL DISTRITAL'!H25 -> Total de credenciales solicitadas | I26: 150 | J26: 609 | K26: 530 | L26: 534 | M26: 522 | N26: 524 | O26: 500 | P26: 539 | Q26: 518 | R26: 413 | S26: 605 | T26: 590 | U26: 552 | V26: 711 | W26: 888 | X26: 801 | Y26: 810 | Z26: 734 | AA26: 706 | AB26: 557 | AC26: 894 | AD26: 22
B27: *Registre el valor nominal solicitado en la celda, el resultado proporcional esta automatizado.
I29: Semaforización
J30: Valor que requiere atención y justificación en el apartado de observaciones
J31: Valor suficiente
J32: Valor esperado
B34: CUADRO DE OBSERVACIONES
B35: Descripción | H35: No conformidad

Sheet 150352
A1: ='PANEL DE CONTROL DISTRITAL'!A1:Q1 -> INSTITUTO NACIONAL ELECTORAL SISTEMA DE GESTIÓN DE LA CALIDAD ESTADO DE MÉXICO
D2: Distrito | E2: 3 | F2: Módulo | H2: 150352 | X2: ='PANEL DE CONTROL DISTRITAL'!M2 -> Fecha de corte: 22/01/2024
A4: TABLERO DE CONTROL DE PROCESOS SUSTANTIVOS DEL SISTEMA DE GESTIÓN DE LA CALIDAD
A6: ='PANEL DE CONTROL DISTRITAL'!A6 -> Número | B6: ='PANEL DE CONTROL DISTRITAL'!B6 -> PROCESOS SUSTANTIVOS E INDICADORES | I6: SEMANA OPERATIVA | AE6: % AVANCE REGISTRADO
B7: ='PANEL DE CONTROL DISTRITAL'!B7 -> DESCRIPCIÓN | E7: ='PANEL DE CONTROL DISTRITAL'!E7 -> MEDICIÓN | I7: ='PANEL DE CONTROL DISTRITAL'!A5 -> CAMPAÑA ANUAL INTENSA 2023
B9: ='PANEL DE CONTROL DISTRITAL'!B8 -> Proceso | C9: ='PANEL DE CONTROL DISTRITAL'!C8 -> Dueño de Proceso | D9: ='PANEL DE CONTROL DISTRITAL'!D8 -> Indicador | E9: ='PANEL DE CONTROL DISTRITAL'!E8 -> Cálculo | F9: ='PANEL DE CONTROL DISTRITAL'!F8 -> Periodo | G9: ='PANEL DE CONTROL DISTRITAL'!G8 -> Estimado | H9: ='PANEL DE CONTROL DISTRITAL'!H8 -> Nominativo | I9: ='150151'!I9 -> 2023-37 | J9: ='150151'!J9 -> 2023-38 | K9: ='150151'!K9 -> 2023-39 | L9: ='150151'!L9 -> 2023-40 | M9: ='150151'!M9 -> 2023-41 | N9: ='150151'!N9 -> 2023-42 | O9: ='150151'!O9 -> 2023-43 | P9: ='150151'!P9 -> 2023-44 | ... X9: ='150151'!X9 -> 2023-52 | Y9: 2023-53 | Z9: 2023-54 | AA9: 2024-01 | AB9: 2024-02 | AC9: 2024-03 | AD9: 2024-04
A10: ='PANEL DE CONTROL DISTRITAL'!A9 -> 1 | B10: ='PANEL DE CONTROL DISTRITAL'!B9 -> ENTREVISTA | C10: ='PANEL DE CONTROL DISTRITAL'!C9 -> Auxiliar de Atención Ciudadana | D10: ='PANEL DE CONTROL DISTRITAL'!D9 -> Efectividad de la entrevista = | E10: ='PANEL DE CONTROL DISTRITAL'!E9 -> (Número de trámites aplicados / (Número de fichas requisitadas - Notificaciones de improcedencia de trámite)) x 100 | F10: ='PANEL DE CONTROL DISTRITAL'!F9 -> Semanal (remesa) | G10: ='PANEL DE CONTROL DISTRITAL'!G9 -> 0.9 | H10: ='PANEL DE CONTROL DISTRITAL'!H9 -> Número de trámites aplicados | I10: 86 | J10: 460 | K10: 421 | L10: 504 | M10: 524 | N10: 462 | O10: 509 | P10: 542 | Q10: 479 | R10: 301 | S10: 528 | T10: 598 | U10: 580 | V10: 871 | W10: 778 | X10: 699 | Y10: 708 | Z10: 559 | AA10: 833 | AB10: 1269 | AC10: 1899 | AD10: 476 | AE10: =IFERROR(SUM(I10:AD10)/SUM(I11:AD11),0) -> 1
H11: ='PANEL DE CONTROL DISTRITAL'!H10 -> Número de fichas requisitadas - Notificaciones de improcedencia de trámite | I11: 86 | J11: 460 | K11: 421 | L11: 504 | M11: 524 | N11: 462 | O11: 509 | P11: 542 | Q11: 479 | R11: 301 | S11: 528 | T11: 598 | U11: 580 | V11: 871 | W11: 778 | X11: 699 | Y11: 708 | Z11: 559 | AA11: 833 | AB11: 1269 | AC11: 1899 | AD11: 476
A13: ='PANEL DE CONTROL DISTRITAL'!A12 -> 2 | B13: ='PANEL DE CONTROL DISTRITAL'!B12 -> TRÁMITE | C13: ='PANEL DE CONTROL DISTRITAL'!C12 -> Operador de Equipo Tecnológico | D13: ='PANEL DE CONTROL DISTRITAL'!D12 -> Trámites exitosos efectivos= | E13: ='PANEL DE CONTROL DISTRITAL'!E12 -> (Número de trámites exitosos / Número de trámites aplicados) x 100 | F13: ='PANEL DE CONTROL DISTRITAL'!F12 -> Semanal (remesa) | G13: ='PANEL DE CONTROL DISTRITAL'!G12 -> 0.9 | H13: ='PANEL DE CONTROL DISTRITAL'!H12 -> Número de trámites exitosos | I13: 86 | J13: 459 | K13: 420 | L13: 503 | M13: 188 | N13: 462 | O13: 508 | P13: 541 | Q13: 466 | R13: 301 | S13: 527 | T13: 595 | U13: 579 | V13: 869 | W13: 774 | X13: 697 | Y13: 706 | Z13: 557 | AA13: 831 | AB13: 1268 | AC13: 1.892 | AD13: 475 | AE13: =IFERROR(SUM(I13:AD13)/SUM(I14:AD14),0) -> 0.96923373
H14: ='PANEL DE CONTROL DISTRITAL'!H13 -> Número de trámites aplicados | I14: 86 | J14: 460 | K14: 421 | L14: 504 | M14: 524 | N14: 462 | O14: 509 | P14: 542 | Q14: 479 | R14: 301 | S14: 528 | T14: 598 | U14: 580 | V14: 871 | W14: 778 | X14: 699 | Y14: 708 | Z14: 559 | AA14: 833 | AB14: 1269 | AC14: 1.899 | AD14: 476
A16: ='PANEL DE CONTROL DISTRITAL'!A15 -> 3 | B16: ='PANEL DE CONTROL DISTRITAL'!B15 -> TRANSFERENCIA | C16: ='PANEL DE CONTROL DISTRITAL'!C15 -> Responsable de Módulo | D16: ='PANEL DE CONTROL DISTRITAL'!D15 -> Transacciones exitosas = | E16: ='PANEL DE CONTROL DISTRITAL'!E15 -> (Número de Archivos de Transacción aceptados /Total de Archivos de Transacción procesados) x100 | F16: ='PANEL DE CONTROL DISTRITAL'!F15 -> Semanal (remesa) | G16: ='PANEL DE CONTROL DISTRITAL'!G15 -> 0.9 | H16: ='PANEL DE CONTROL DISTRITAL'!H15 -> Número de Archivos de Transacción aceptados | I16: 86 | J16: 460 | K16: 421 | L16: 504 | M16: 524 | N16: 462 | O16: 509 | P16: 542 | Q16: 479 | R16: 301 | S16: 528 | T16: 598 | U16: 580 | V16: 871 | W16: 778 | X16: 699 | Y16: 708 | Z16: 559 | AA16: 833 | AB16: 1269 | AC16: 1899 | AD16: 476 | AE16: =IFERROR(SUM(I16:AD16)/SUM(I17:AD17),0) -> 1
H17: ='PANEL DE CONTROL DISTRITAL'!H16 -> Total de Archivos de Transacción procesados | I17: 86 | J17: 460 | K17: 421 | L17: 504 | M17: 524 | N17: 462 | O17: 509 | P17: 542 | Q17: 479 | R17: 301 | S17: 528 | T17: 598 | U17: 580 | V17: 871 | W17: 778 | X17: 699 | Y17: 708 | Z17: 559 | AA17: 833 | AB17: 1269 | AC17: 1899 | AD17: 476
A19: ='PANEL DE CONTROL DISTRITAL'!A18 -> 4 | B19: ='PANEL DE CONTROL DISTRITAL'!B18 -> CONCILIACIÓN | C19: ='PANEL DE CONTROL DISTRITAL'!C18 -> Responsable de Módulo | D19: ='PANEL DE CONTROL DISTRITAL'!D18 -> Credenciales disponibles para entrega = | E19: ='PANEL DE CONTROL DISTRITAL'!E18 -> ((Credenciales recibidas - Credenciales inconsistentes) / Credenciales recibidas) x 100 | F19: ='PANEL DE CONTROL DISTRITAL'!F18 -> Semanal (remesa) | G19: ='PANEL DE CONTROL DISTRITAL'!G18 -> 0.9 | H19: ='PANEL DE CONTROL DISTRITAL'!H18 -> Credenciales Recibidas - Credenciales inconsistentes | I19: 0 | J19: 648 | K19: 434 | L19: 449 | M19: 386 | N19: 635 | O19: 462 | P19: 526 | Q19: 540 | R19: 373 | S19: 512 | T19: 425 | U19: 591 | V19: 414 | W19: 1074 | X19: 769 | Y19: 493 | Z19: 520 | AA19: 663 | AB19: 964 | AC19: 961 | AD19: 0 | AE19: =IFERROR(SUM(I19:AD19)/SUM(I20:AD20),0) -> 1
H20: ='PANEL DE CONTROL DISTRITAL'!H19 -> Credenciales recibidas | I20: 0 | J20: 648 | K20: 434 | L20: 449 | M20: 386 | N20: 635 | O20: 462 | P20: 526 | Q20: 540 | R20: 373 | S20: 512 | T20: 425 | U20: 591 | V20: 414 | W20: 1074 | X20: 769 | Y20: 493 | Z20: 520 | AA20: 663 | AB20: 964 | AC20: 961 | AD20: 0
A22: ='PANEL DE CONTROL DISTRITAL'!A21 -> 5 | B22: ='PANEL DE CONTROL DISTRITAL'!B21 -> CONCILIACIÓN | C22: ='PANEL DE CONTROL DISTRITAL'!C21 -> Responsable de Módulo | D22: ='PANEL DE CONTROL DISTRITAL'!D21 -> Credenciales disponibles para entrega = | E22: ='PANEL DE CONTROL DISTRITAL'!E21 -> (Credenciales en resguardo / Credenciales totales en SIIRFE disponibles para entrega) x 100 | F22: ='PANEL DE CONTROL DISTRITAL'!F21 -> Semanal (remesa) | G22: ='PANEL DE CONTROL DISTRITAL'!G21 -> 1 | H22: ='PANEL DE CONTROL DISTRITAL'!H21 -> Credenciales en resguardo | I22: 611 | J22: 766 | K22: 727 | L22: 691 | M22: 603 | N22: 740 | O22: 475 | P22: 765 | Q22: 777 | R22: 759 | S22: 724 | T22: 713 | U22: 851 | V22: 655 | W22: 974 | X22: 942 | Y22: 679 | Z22: 627 | AA22: 663 | AB22: 820 | AC22: 988 | AD22: 928 | AE22: =IFERROR(SUM(I22:AD22)/SUM(I23:AD23),0) -> 1
H23: ='PANEL DE CONTROL DISTRITAL'!H22 -> Credenciales totales en SIIRFE disponibles para entrega | I23: 611 | J23: 766 | K23: 727 | L23: 691 | M23: 603 | N23: 740 | O23: 475 | P23: 765 | Q23: 777 | R23: 759 | S23: 724 | T23: 713 | U23: 851 | V23: 655 | W23: 974 | X23: 942 | Y23: 679 | Z23: 627 | AA23: 663 | AB23: 820 | AC23: 988 | AD23: 928
A25: ='PANEL DE CONTROL DISTRITAL'!A24 -> 6 | B25: ='PANEL DE CONTROL DISTRITAL'!B24 -> ENTREGA | C25: ='PANEL DE CONTROL DISTRITAL'!C24 -> Operador de Equipo Tecnológico | D25: ='PANEL DE CONTROL DISTRITAL'!D24 -> Efectividad de entrega de CPV en MAC = | E25: ='PANEL DE CONTROL DISTRITAL'!E24 -> (Total de credenciales entregadas / Total de credenciales solicitadas) x 100 | F25: ='PANEL DE CONTROL DISTRITAL'!F24 -> Semanal (remesa) | G25: ='PANEL DE CONTROL DISTRITAL'!G24 -> 0.9 | H25: ='PANEL DE CONTROL DISTRITAL'!H24 -> Total de credenciales entregadas | I25: 119 | J25: 493 | K25: 464 | L25: 485 | M25: 469 | N25: 494 | O25: 477 | P25: 486 | Q25: 528 | R25: 391 | S25: 544 | T25: 436 | U25: 453 | V25: 610 | W25: 755 | X25: 800 | Y25: 756 | Z25: 572 | AA25: 627 | AB25: 807 | AC25: 785 | AD25: 60 | AE25: =IFERROR(SUM(I25:AD25)/SUM(I26:AD26),0) -> 0.99230835
H26: ='PANEL DE CONTROL DISTRITAL'!H25 -> Total de credenciales solicitadas | I26: 119 | J26: 494 | K26: 464 | L26: 486 | M26: 469 | N26: 495 | O26: 477 | P26: 487 | Q26: 529 | R26: 392 | S26: 544 | T26: 437 | U26: 453 | V26: 611 | W26: 756 | X26: 803 | Y26: 757 | Z26: 576 | AA26: 673 | AB26: 833 | AC26: 786 | AD26: 60
B27: *Registre el valor nominal solicitado en la celda, el resultado proporcional esta automatizado.
I29: Semaforización
J30: Valor que requiere atención y justificación en el apartado de observaciones
J31: Valor suficiente
J32: Valor esperado
B34: CUADRO DE OBSERVACIONES
B35: Descripción | H35: No conformidad

Sheet 150353
A1: ='PANEL DE CONTROL DISTRITAL'!A1:Q1 -> INSTITUTO NACIONAL ELECTORAL SISTEMA DE GESTIÓN DE LA CALIDAD ESTADO DE MÉXICO
D2: Distrito | E2: 3 | F2: Módulo | H2: 150353 | X2: ='PANEL DE CONTROL DISTRITAL'!M2 -> Fecha de corte: 22/01/2024
A4: TABLERO DE CONTROL DE PROCESOS SUSTANTIVOS DEL SISTEMA DE GESTIÓN DE LA CALIDAD
A6: ='PANEL DE CONTROL DISTRITAL'!A6 -> Número | B6: ='PANEL DE CONTROL DISTRITAL'!B6 -> PROCESOS SUSTANTIVOS E INDICADORES | I6: SEMANA OPERATIVA | AE6: % AVANCE REGISTRADO
B7: ='PANEL DE CONTROL DISTRITAL'!B7 -> DESCRIPCIÓN | E7: ='PANEL DE CONTROL DISTRITAL'!E7 -> MEDICIÓN | I7: ='PANEL DE CONTROL DISTRITAL'!A5 -> CAMPAÑA ANUAL INTENSA 2023
B9: ='PANEL DE CONTROL DISTRITAL'!B8 -> Proceso | C9: ='PANEL DE CONTROL DISTRITAL'!C8 -> Dueño de Proceso | D9: ='PANEL DE CONTROL DISTRITAL'!D8 -> Indicador | E9: ='PANEL DE CONTROL DISTRITAL'!E8 -> Cálculo | F9: ='PANEL DE CONTROL DISTRITAL'!F8 -> Periodo | G9: ='PANEL DE CONTROL DISTRITAL'!G8 -> Estimado | H9: ='PANEL DE CONTROL DISTRITAL'!H8 -> Nominativo | I9: ='150151'!I9 -> 2023-37 | J9: ='150151'!J9 -> 2023-38 | K9: ='150151'!K9 -> 2023-39 | L9: ='150151'!L9 -> 2023-40 | M9: ='150151'!M9 -> 2023-41 | N9: ='150151'!N9 -> 2023-42 | O9: ='150151'!O9 -> 2023-43 | P9: ='150151'!P9 -> 2023-44 | ... X9: ='150151'!X9 -> 2023-52 | Y9: 2023-53 | Z9: 2023-54 | AA9: 2024-01 | AB9: 2024-02 | AC9: 2024-03 | AD9: 2024-04
A10: ='PANEL DE CONTROL DISTRITAL'!A9 -> 1 | B10: ='PANEL DE CONTROL DISTRITAL'!B9 -> ENTREVISTA | C10: ='PANEL DE CONTROL DISTRITAL'!C9 -> Auxiliar de Atención Ciudadana | D10: ='PANEL DE CONTROL DISTRITAL'!D9 -> Efectividad de la entrevista = | E10: ='PANEL DE CONTROL DISTRITAL'!E9 -> (Número de trámites aplicados / (Número de fichas requisitadas - Notificaciones de improcedencia de trámite)) x 100 | F10: ='PANEL DE CONTROL DISTRITAL'!F9 -> Semanal (remesa) | G10: ='PANEL DE CONTROL DISTRITAL'!G9 -> 0.9 | H10: ='PANEL DE CONTROL DISTRITAL'!H9 -> Número de trámites aplicados | I10: 34 | J10: 227 | K10: 63 | L10: 134 | M10: 132 | N10: 159 | O10: 176 | P10: 122 | Q10: 136 | R10: 105 | S10: 94 | T10: 197 | U10: 113 | V10: 293 | W10: 332 | X10: 99 | Y10: 273 | Z10: 204 | AA10: 205 | AB10: 603 | AC10: 659 | AD10: 280 | AE10: =IFERROR(SUM(I10:AD10)/SUM(I11:AD11),0) -> 0.99592187
H11: ='PANEL DE CONTROL DISTRITAL'!H10 -> Número de fichas requisitadas - Notificaciones de improcedencia de trámite | I11: 37 | J11: 235 | K11: 65 | L11: 138 | M11: 134 | N11: 159 | O11: 176 | P11: 122 | Q11: 136 | R11: 105 | S11: 94 | T11: 197 | U11: 113 | V11: 293 | W11: 332 | X11: 99 | Y11: 273 | Z11: 204 | AA11: 205 | AB11: 603 | AC11: 659 | AD11: 280
A13: ='PANEL DE CONTROL DISTRITAL'!A12 -> 2 | B13: ='PANEL DE CONTROL DISTRITAL'!B12 -> TRÁMITE | C13: ='PANEL DE CONTROL DISTRITAL'!C12 -> Operador de Equipo Tecnológico | D13: ='PANEL DE CONTROL DISTRITAL'!D12 -> Trámites exitosos efectivos= | E13: ='PANEL DE CONTROL DISTRITAL'!E12 -> (Número de trámites exitosos / Número de trámites aplicados) x 100 | F13: ='PANEL DE CONTROL DISTRITAL'!F12 -> Semanal (remesa) | G13: ='PANEL DE CONTROL DISTRITAL'!G12 -> 0.9 | H13: ='PANEL DE CONTROL DISTRITAL'!H12 -> Número de trámites exitosos | I13: 34 | J13: 225 | K13: 63 | L13: 104 | M13: 131 | N13: 157 | O13: 176 | P13: 122 | Q13: 136 | R13: 105 | S13: 94 | T13: 197 | U13: 112 | V13: 293 | W13: 332 | X13: 99 | Y13: 273 | Z13: 204 | AA13: 205 | AB13: 603 | AC13: 658 | AD13: 280 | AE13: =IFERROR(SUM(I13:AD13)/SUM(I14:AD14),0) -> 0.99202586
H14: ='PANEL DE CONTROL DISTRITAL'!H13 -> Número de trámites aplicados | I14: 34 | J14: 227 | K14: 63 | L14: 134 | M14: 132 | N14: 159 | O14: 176 | P14: 122 | Q14: 136 | R14: 105 | S14: 94 | T14: 197 | U14: 113 | V14: 293 | W14: 332 | X14: 99 | Y14: 273 | Z14: 204 | AA14: 205 | AB14: 603 | AC14: 659 | AD14: 280
A16: ='PANEL DE CONTROL DISTRITAL'!A15 -> 3 | B16: ='PANEL DE CONTROL DISTRITAL'!B15 -> TRANSFERENCIA | C16: ='PANEL DE CONTROL DISTRITAL'!C15 -> Responsable de Módulo | D16: ='PANEL DE CONTROL DISTRITAL'!D15 -> Transacciones exitosas = | E16: ='PANEL DE CONTROL DISTRITAL'!E15 -> (Número de Archivos de Transacción aceptados /Total de Archivos de Transacción procesados) x100 | F16: ='PANEL DE CONTROL DISTRITAL'!F15 -> Semanal (remesa) | G16: ='PANEL DE CONTROL DISTRITAL'!G15 -> 0.9 | H16: ='PANEL DE CONTROL DISTRITAL'!H15 -> Número de Archivos de Transacción aceptados | I16: 34 | J16: 225 | K16: 63 | L16: 134 | M16: 131 | N16: 157 | O16: 176 | P16: 122 | Q16: 136 | R16: 105 | S16: 94 | T16: 197 | U16: 112 | V16: 293 | W16: 332 | X16: 99 | Y16: 273 | Z16: 204 | AA16: 205 | AB16: 603 | AC16: 658 | AD16: 280 | AE16: =IFERROR(SUM(I16:AD16)/SUM(I17:AD17),0) -> 0.99913737
H17: ='PANEL DE CONTROL DISTRITAL'!H16 -> Total de Archivos de Transacción procesados | I17: 34 | J17: 225 | K17: 63 | L17: 134 | M17: 132 | N17: 159 | O17: 176 | P17: 122 | Q17: 136 | R17: 105 | S17: 94 | T17: 197 | U17: 113 | V17: 293 | W17: 332 | X17: 99 | Y17: 273 | Z17: 204 | AA17: 205 | AB17: 603 | AC17: 658 | AD17: 280
A19: ='PANEL DE CONTROL DISTRITAL'!A18 -> 4 | B19: ='PANEL DE CONTROL DISTRITAL'!B18 -> CONCILIACIÓN | C19: ='PANEL DE CONTROL DISTRITAL'!C18 -> Responsable de Módulo | D19: ='PANEL DE CONTROL DISTRITAL'!D18 -> Credenciales disponibles para entrega = | E19: ='PANEL DE CONTROL DISTRITAL'!E18 -> ((Credenciales recibidas - Credenciales inconsistentes) / Credenciales recibidas) x 100 | F19: ='PANEL DE CONTROL DISTRITAL'!F18 -> Semanal (remesa) | G19: ='PANEL DE CONTROL DISTRITAL'!G18 -> 0.9 | H19: ='PANEL DE CONTROL DISTRITAL'!H18 -> Credenciales Recibidas - Credenciales inconsistentes | I19: 0 | J19: 0 | K19: 0 | L19: 430 | M19: 130 | N19: 140 | O19: 196 | P19: 150 | Q19: 109 | R19: 90 | S19: 168 | T19: 76 | U19: 188 | V19: 104 | W19: 228 | X19: 418 | Y19: 79 | Z19: 215 | AA19: 221 | AB19: 240 | AC19: 420 | AD19: 0 | AE19: =IFERROR(SUM(I19:AD19)/SUM(I20:AD20),0) -> 1
H20: ='PANEL DE CONTROL DISTRITAL'!H19 -> Credenciales recibidas | I20: 0 | J20: 0 | K20: 0 | L20: 430 | M20: 130 | N20: 140 | O20: 196 | P20: 150 | Q20: 109 | R20: 90 | S20: 168 | T20: 76 | U20: 188 | V20: 104 | W20: 228 | X20: 418 | Y20: 79 | Z20: 215 | AA20: 221 | AB20: 240 | AC20: 420 | AD20: 0
A22: ='PANEL DE CONTROL DISTRITAL'!A21 -> 5 | B22: ='PANEL DE CONTROL DISTRITAL'!B21 -> CONCILIACIÓN | C22: ='PANEL DE CONTROL DISTRITAL'!C21 -> Responsable de Módulo | D22: ='PANEL DE CONTROL DISTRITAL'!D21 -> Credenciales disponibles para entrega = | E22: ='PANEL DE CONTROL DISTRITAL'!E21 -> (Credenciales en resguardo / Credenciales totales en SIIRFE disponibles para entrega) x 100 | F22: ='PANEL DE CONTROL DISTRITAL'!F21 -> Semanal (remesa) | G22: ='PANEL DE CONTROL DISTRITAL'!G21 -> 1 | H22: ='PANEL DE CONTROL DISTRITAL'!H21 -> Credenciales en resguardo | I22: 617 | J22: 198 | K22: 182 | L22: 361 | M22: 364 | N22: 367 | O22: 400 | P22: 441 | Q22: 396 | R22: 350 | S22: 408 | T22: 289 | U22: 396 | V22: 371 | W22: 425 | X22: 695 | Y22: 314 | Z22: 377 | AA22: 564 | AB22: 481 | AC22: 701 | AD22: 695 | AE22: =IFERROR(SUM(I22:AD22)/SUM(I23:AD23),0) -> 1
H23: ='PANEL DE CONTROL DISTRITAL'!H22 -> Credenciales totales en SIIRFE disponibles para entrega | I23: 617 | J23: 198 | K23: 182 | L23: 361 | M23: 364 | N23: 367 | O23: 400 | P23: 441 | Q23: 396 | R23: 350 | S23: 408 | T23: 289 | U23: 396 | V23: 371 | W23: 425 | X23: 695 | Y23: 314 | Z23: 377 | AA23: 564 | AB23: 481 | AC23: 701 | AD23: 695
A25: ='PANEL DE CONTROL DISTRITAL'!A24 -> 6 | B25: ='PANEL DE CONTROL DISTRITAL'!B24 -> ENTREGA | C25: ='PANEL DE CONTROL DISTRITAL'!C24 -> Operador de Equipo Tecnológico | D25: ='PANEL DE CONTROL DISTRITAL'!D24 -> Efectividad de entrega de CPV en MAC = | E25: ='PANEL DE CONTROL DISTRITAL'!E24 -> (Total de credenciales entregadas / Total de credenciales solicitadas) x 100 | F25: ='PANEL DE CONTROL DISTRITAL'!F24 -> Semanal (remesa) | G25: ='PANEL DE CONTROL DISTRITAL'!G24 -> 0.9 | H25: ='PANEL DE CONTROL DISTRITAL'!H24 -> Total de credenciales entregadas | I25: 13 | J25: 419 | K25: 13 | L25: 251 | M25: 137 | N25: 135 | O25: 163 | P25: 109 | Q25: 153 | R25: 136 | S25: 109 | T25: 195 | U25: 81 | V25: 129 | W25: 174 | X25: 147 | Y25: 460 | Z25: 152 | AA25: 34 | AB25: 323 | AC25: 197 | AD25: 6 | AE25: =IFERROR(SUM(I25:AD25)/SUM(I26:AD26),0) -> 0.99158721
H26: ='PANEL DE CONTROL DISTRITAL'!H25 -> Total de credenciales solicitadas | I26: 13 | J26: 421 | K26: 34 | L26: 254 | M26: 137 | N26: 135 | O26: 163 | P26: 110 | Q26: 154 | R26: 137 | S26: 109 | T26: 195 | U26: 81 | V26: 129 | W26: 175 | X26: 147 | Y26: 460 | Z26: 152 | AA26: 34 | AB26: 323 | AC26: 197 | AD26: 6
B27: *Registre el valor nominal solicitado en la celda, el resultado proporcional esta automatizado.
I29: Semaforización
J30: Valor que requiere atención y justificación en el apartado de observaciones
J31: Valor suficiente
J32: Valor esperado
B34: CUADRO DE OBSERVACIONES
B35: Descripción | H35: No conformidad

Sheet 150451
A1: ='PANEL DE CONTROL DISTRITAL'!A1:Q1 -> INSTITUTO NACIONAL ELECTORAL SISTEMA DE GESTIÓN DE LA CALIDAD ESTADO DE MÉXICO
D2: Distrito | E2: 4 | F2: Módulo | H2: 150451 | X2: ='PANEL DE CONTROL DISTRITAL'!M2 -> Fecha de corte: 22/01/2024
A4: TABLERO DE CONTROL DE PROCESOS SUSTANTIVOS DEL SISTEMA DE GESTIÓN DE LA CALIDAD
A6: ='PANEL DE CONTROL DISTRITAL'!A6 -> Número | B6: ='PANEL DE CONTROL DISTRITAL'!B6 -> PROCESOS SUSTANTIVOS E INDICADORES | I6: SEMANA OPERATIVA | AE6: % AVANCE REGISTRADO
B7: ='PANEL DE CONTROL DISTRITAL'!B7 -> DESCRIPCIÓN | E7: ='PANEL DE CONTROL DISTRITAL'!E7 -> MEDICIÓN | I7: ='PANEL DE CONTROL DISTRITAL'!A5 -> CAMPAÑA ANUAL INTENSA 2023
B9: ='PANEL DE CONTROL DISTRITAL'!B8 -> Proceso | C9: ='PANEL DE CONTROL DISTRITAL'!C8 -> Dueño de Proceso | D9: ='PANEL DE CONTROL DISTRITAL'!D8 -> Indicador | E9: ='PANEL DE CONTROL DISTRITAL'!E8 -> Cálculo | F9: ='PANEL DE CONTROL DISTRITAL'!F8 -> Periodo | G9: ='PANEL DE CONTROL DISTRITAL'!G8 -> Estimado | H9: ='PANEL DE CONTROL DISTRITAL'!H8 -> Nominativo | I9: ='150151'!I9 -> 2023-37 | J9: ='150151'!J9 -> 2023-38 | K9: ='150151'!K9 -> 2023-39 | L9: ='150151'!L9 -> 2023-40 | M9: ='150151'!M9 -> 2023-41 | N9: ='150151'!N9 -> 2023-42 | O9: ='150151'!O9 -> 2023-43 | P9: ='150151'!P9 -> 2023-44 | ... X9: ='150151'!X9 -> 2023-52 | Y9: 2023-53 | Z9: 2023-54 | AA9: 2024-01 | AB9: 2024-02 | AC9: 2024-03 | AD9: 2024-04
A10: ='PANEL DE CONTROL DISTRITAL'!A9 -> 1 | B10: ='PANEL DE CONTROL DISTRITAL'!B9 -> ENTREVISTA | C10: ='PANEL DE CONTROL DISTRITAL'!C9 -> Auxiliar de Atención Ciudadana | D10: ='PANEL DE CONTROL DISTRITAL'!D9 -> Efectividad de la entrevista = | E10: ='PANEL DE CONTROL DISTRITAL'!E9 -> (Número de trámites aplicados / (Número de fichas requisitadas - Notificaciones de improcedencia de trámite)) x 100 | F10: ='PANEL DE CONTROL DISTRITAL'!F9 -> Semanal (remesa) | G10: ='PANEL DE CONTROL DISTRITAL'!G9 -> 0.9 | H10: ='PANEL DE CONTROL DISTRITAL'!H9 -> Número de trámites aplicados | I10: 161 | J10: 839 | K10: 759 | L10: 874 | M10: 911 | N10: 928 | O10: 902 | P10: 978 | Q10: 941 | R10: 681 | S10: 1096 | T10: 1136 | U10: 968 | V10: 1319 | W10: 1270 | X10: 1226 | Y10: 1310 | Z10: 1137 | AA10: 1430 | AB10: 1734 | AC10: 1886 | AD10: 1064 | AE10: =IFERROR(SUM(I10:AD10)/SUM(I11:AD11),0) -> 0.99724751
H11: ='PANEL DE CONTROL DISTRITAL'!H10 -> Número de fichas requisitadas - Notificaciones de improcedencia de trámite | I11: 161 | J11: 844 | K11: 763 | L11: 882 | M11: 913 | N11: 931 | O11: 911 | P11: 980 | Q11: 943 | R11: 681 | S11: 1099 | T11: 1139 | U11: 970 | V11: 1323 | W11: 1270 | X11: 1229 | Y11: 1311 | Z11: 1140 | AA11: 1439 | AB11: 1735 | AC11: 1887 | AD11: 1064
A13: ='PANEL DE CONTROL DISTRITAL'!A12 -> 2 | B13: ='PANEL DE CONTROL DISTRITAL'!B12 -> TRÁMITE | C13: ='PANEL DE CONTROL DISTRITAL'!C12 -> Operador de Equipo Tecnológico | D13: ='PANEL DE CONTROL DISTRITAL'!D12 -> Trámites exitosos efectivos= | E13: ='PANEL DE CONTROL DISTRITAL'!E12 -> (Número de trámites exitosos / Número de trámites aplicados) x 100 | F13: ='PANEL DE CONTROL DISTRITAL'!F12 -> Semanal (remesa) | G13: ='PANEL DE CONTROL DISTRITAL'!G12 -> 0.9 | H13: ='PANEL DE CONTROL DISTRITAL'!H12 -> Número de trámites exitosos | I13: 161 | J13: 839 | K13: 759 | L13: 872 | M13: 910 | N13: 925 | O13: 901 | P13: 977 | Q13: 940 | R13: 681 | S13: 1095 | T13: 1135 | U13: 967 | V13: 1316 | W13: 1269 | X13: 1223 | Y13: 1308 | Z13: 1137 | AA13: 1429 | AB13: 1734 | AC13: 1878 | AD13: 1059 | AE13: =IFERROR(SUM(I13:AD13)/SUM(I14:AD14),0) -> 0.9985138
H14: ='PANEL DE CONTROL DISTRITAL'!H13 -> Número de trámites aplicados | I14: 161 | J14: 839 | K14: 759 | L14: 874 | M14: 911 | N14: 928 | O14: 902 | P14: 978 | Q14: 941 | R14: 681 | S14: 1096 | T14: 1136 | U14: 968 | V14: 1319 | W14: 1270 | X14: 1226 | Y14: 1310 | Z14: 1137 | AA14: 1430 | AB14: 1734 | AC14: 1886 | AD14: 1064
A16: ='PANEL DE CONTROL DISTRITAL'!A15 -> 3 | B16: ='PANEL DE CONTROL DISTRITAL'!B15 -> TRANSFERENCIA | C16: ='PANEL DE CONTROL DISTRITAL'!C15 -> Responsable de Módulo | D16: ='PANEL DE CONTROL DISTRITAL'!D15 -> Transacciones exitosas = | E16: ='PANEL DE CONTROL DISTRITAL'!E15 -> (Número de Archivos de Transacción aceptados /Total de Archivos de Transacción procesados) x100 | F16: ='PANEL DE CONTROL DISTRITAL'!F15 -> Semanal (remesa) | G16: ='PANEL DE CONTROL DISTRITAL'!G15 -> 0.9 | H16: ='PANEL DE CONTROL DISTRITAL'!H15 -> Número de Archivos de Transacción aceptados | I16: 161 | J16: 839 | K16: 759 | L16: 874 | M16: 911 | N16: 928 | O16: 902 | P16: 978 | Q16: 941 | R16: 681 | S16: 1096 | T16: 1136 | U16: 968 | V16: 1319 | W16: 1270 | X16: 1226 | Y16: 1310 | Z16: 1137 | AA16: 1430 | AB16: 1734 | AC16: 1886 | AD16: 1064 | AE16: =IFERROR(SUM(I16:AD16)/SUM(H17:AD17),0) -> 1
H17: ='PANEL DE CONTROL DISTRITAL'!H16 -> Total de Archivos de Transacción procesados | I17: 161 | J17: 839 | K17: 759 | L17: 874 | M17: 911 | N17: 928 | O17: 902 | P17: 978 | Q17: 941 | R17: 681 | S17: 1096 | T17: 1136 | U17: 968 | V17: 1319 | W17: 1270 | X17: 1226 | Y17: 1310 | Z17: 1137 | AA17: 1430 | AB17: 1734 | AC17: 1886 | AD17: 1064
A19: ='PANEL DE CONTROL DISTRITAL'!A18 -> 4 | B19: ='PANEL DE CONTROL DISTRITAL'!B18 -> CONCILIACIÓN | C19: ='PANEL DE CONTROL DISTRITAL'!C18 -> Responsable de Módulo | D19: ='PANEL DE CONTROL DISTRITAL'!D18 -> Credenciales disponibles para entrega = | E19: ='PANEL DE CONTROL DISTRITAL'!E18 -> ((Credenciales recibidas - Credenciales inconsistentes) / Credenciales recibidas) x 100 | F19: ='PANEL DE CONTROL DISTRITAL'!F18 -> Semanal (remesa) | G19: ='PANEL DE CONTROL DISTRITAL'!G18 -> 0.9 | H19: ='PANEL DE CONTROL DISTRITAL'!H18 -> Credenciales Recibidas - Credenciales inconsistentes | I19: 134 | J19: 863 | K19: 630 | L19: 971 | M19: 892 | N19: 925 | O19: 909 | P19: 942 | Q19: 976 | R19: 727 | S19: 884 | T19: 1122 | U19: 1142 | V19: 1308 | W19: 802 | X19: 1695 | Y19: 852 | Z19: 704 | AA19: 903 | AB19: 2130 | AC19: 1492 | AD19: 0 | AE19: =IFERROR(SUM(I19:AD19)/SUM(I20:AD20),0) -> 1
H20: ='PANEL DE CONTROL DISTRITAL'!H19 -> Credenciales recibidas | I20: 134 | J20: 863 | K20: 630 | L20: 971 | M20: 892 | N20: 925 | O20: 909 | P20: 942 | Q20: 976 | R20: 727 | S20: 884 | T20: 1122 | U20: 1142 | V20: 1308 | W20: 802 | X20: 1695 | Y20: 852 | Z20: 704 | AA20: 903 | AB20: 2130 | AC20: 1492 | AD20: 0
A22: ='PANEL DE CONTROL DISTRITAL'!A21 -> 5 | B22: ='PANEL DE CONTROL DISTRITAL'!B21 -> CONCILIACIÓN | C22: ='PANEL DE CONTROL DISTRITAL'!C21 -> Responsable de Módulo | D22: ='PANEL DE CONTROL DISTRITAL'!D21 -> Credenciales disponibles para entrega = | E22: ='PANEL DE CONTROL DISTRITAL'!E21 -> (Credenciales en resguardo / Credenciales totales en SIIRFE disponibles para entrega) x 100 | F22: ='PANEL DE CONTROL DISTRITAL'!F21 -> Semanal (remesa) | G22: ='PANEL DE CONTROL DISTRITAL'!G21 -> 1 | H22: ='PANEL DE CONTROL DISTRITAL'!H21 -> Credenciales en resguardo | I22: 1631 | J22: 1643 | K22: 1508 | L22: 1574 | M22: 1609 | N22: 1641 | O22: 1677 | P22: 1666 | Q22: 1723 | R22: 1683 | S22: 1621 | T22: 1815 | U22: 1902 | V22: 2180 | W22: 1781 | X22: 2240 | Y22: 1807 | Z22: 1307 | AA22: 1209 | AB22: 1899 | AC22: 1623 | AD22: 1302 | AE22: =IFERROR(SUM(I22:AD22)/SUM(I23:AD23),0) -> 1
H23: ='PANEL DE CONTROL DISTRITAL'!H22 -> Credenciales totales en SIIRFE disponibles para entrega | I23: 1631 | J23: 1643 | K23: 1508 | L23: 1574 | M23: 1609 | N23: 1641 | O23: 1677 | P23: 1666 | Q23: 1723 | R23: 1683 | S23: 1621 | T23: 1815 | U23: 1902 | V23: 2180 | W23: 1781 | X23: 2240 | Y23: 1807 | Z23: 1307 | AA23: 1209 | AB23: 1899 | AC23: 1623 | AD23: 1302
A25: ='PANEL DE CONTROL DISTRITAL'!A24 -> 6 | B25: ='PANEL DE CONTROL DISTRITAL'!B24 -> ENTREGA | C25: ='PANEL DE CONTROL DISTRITAL'!C24 -> Operador de Equipo Tecnológico | D25: ='PANEL DE CONTROL DISTRITAL'!D24 -> Efectividad de entrega de CPV en MAC = | E25: ='PANEL DE CONTROL DISTRITAL'!E24 -> (Total de credenciales entregadas / Total de credenciales solicitadas) x 100 | F25: ='PANEL DE CONTROL DISTRITAL'!F24 -> Semanal (remesa) | G25: ='PANEL DE CONTROL DISTRITAL'!G24 -> 0.9 | H25: ='PANEL DE CONTROL DISTRITAL'!H24 -> Total de credenciales entregadas | I25: 214 | J25: 826 | K25: 730 | L25: 905 | M25: 857 | N25: 884 | O25: 873 | P25: 953 | Q25: 919 | R25: 767 | S25: 941 | T25: 928 | U25: 1055 | V25: 1030 | W25: 1196 | X25: 1236 | Y25: 1285 | Z25: 1204 | AA25: 1001 | AB25: 1440 | AC25: 1752 | AD25: 320 | AE25: =IFERROR(SUM(I25:AD25)/SUM(I26:AD26),0) -> 0.99920311
H26: ='PANEL DE CONTROL DISTRITAL'!H25 -> Total de credenciales solicitadas | I26: 214 | J26: 826 | K26: 730 | L26: 905 | M26: 857 | N26: 884 | O26: 873 | P26: 956 | Q26: 921 | R26: 767 | S26: 942 | T26: 929 | U26: 1056 | V26: 1030 | W26: 1197 | X26: 1237 | Y26: 1286 | Z26: 1208 | AA26: 1002 | AB26: 1441 | AC26: 1752 | AD26: 320
B27: *Registre el valor nominal solicitado en la celda, el resultado proporcional esta automatizado.
I29: Semaforización
J30: Valor que requiere atención y justificación en el apartado de observaciones
J31: Valor suficiente
J32: Valor esperado
B34: CUADRO DE OBSERVACIONES
B35: Descripción | H35: No conformidad

Sheet 150551
A1: ='PANEL DE CONTROL DISTRITAL'!A1:Q1 -> INSTITUTO NACIONAL ELECTORAL SISTEMA DE GESTIÓN DE LA CALIDAD ESTADO DE MÉXICO
D2: Distrito | E2: 5 | F2: Módulo | H2: 150551 | X2: ='PANEL DE CONTROL DISTRITAL'!M2 -> Fecha de corte: 22/01/2024
A4: TABLERO DE CONTROL DE PROCESOS SUSTANTIVOS DEL SISTEMA DE GESTIÓN DE LA CALIDAD
A6: ='PANEL DE CONTROL DISTRITAL'!A6 -> Número | B6: ='PANEL DE CONTROL DISTRITAL'!B6 -> PROCESOS SUSTANTIVOS E INDICADORES | I6: SEMANA OPERATIVA | AE6: % AVANCE REGISTRADO
B7: ='PANEL DE CONTROL DISTRITAL'!B7 -> DESCRIPCIÓN | E7: ='PANEL DE CONTROL DISTRITAL'!E7 -> MEDICIÓN | I7: ='PANEL DE CONTROL DISTRITAL'!A5 -> CAMPAÑA ANUAL INTENSA 2023
B9: ='PANEL DE CONTROL DISTRITAL'!B8 -> Proceso | C9: ='PANEL DE CONTROL DISTRITAL'!C8 -> Dueño de Proceso | D9: ='PANEL DE CONTROL DISTRITAL'!D8 -> Indicador | E9: ='PANEL DE CONTROL DISTRITAL'!E8 -> Cálculo | F9: ='PANEL DE CONTROL DISTRITAL'!F8 -> Periodo | G9: ='PANEL DE CONTROL DISTRITAL'!G8 -> Estimado | H9: ='PANEL DE CONTROL DISTRITAL'!H8 -> Nominativo | I9: ='150151'!I9 -> 2023-37 | J9: ='150151'!J9 -> 2023-38 | K9: ='150151'!K9 -> 2023-39 | L9: ='150151'!L9 -> 2023-40 | M9: ='150151'!M9 -> 2023-41 | N9: ='150151'!N9 -> 2023-42 | O9: ='150151'!O9 -> 2023-43 | P9: ='150151'!P9 -> 2023-44 | ... X9: ='150151'!X9 -> 2023-52 | Y9: 2023-53 | Z9: 2023-54 | AA9: 2024-01 | AB9: 2024-02 | AC9: 2024-03 | AD9: 2024-04
A10: ='PANEL DE CONTROL DISTRITAL'!A9 -> 1 | B10: ='PANEL DE CONTROL DISTRITAL'!B9 -> ENTREVISTA | C10: ='PANEL DE CONTROL DISTRITAL'!C9 -> Auxiliar de Atención Ciudadana | D10: ='PANEL DE CONTROL DISTRITAL'!D9 -> Efectividad de la entrevista = | E10: ='PANEL DE CONTROL DISTRITAL'!E9 -> (Número de trámites aplicados / (Número de fichas requisitadas - Notificaciones de improcedencia de trámite)) x 100 | F10: ='PANEL DE CONTROL DISTRITAL'!F9 -> Semanal (remesa) | G10: ='PANEL DE CONTROL DISTRITAL'!G9 -> 0.9 | H10: ='PANEL DE CONTROL DISTRITAL'!H9 -> Número de trámites aplicados | I10: 78 | J10: 372 | K10: 369 | L10: 376 | M10: 397 | N10: 390 | O10: 401 | P10: 396 | Q10: 382 | R10: 286 | S10: 435 | T10: 482 | U10: 481 | V10: 652 | W10: 728 | X10: 650 | Y10: 574 | Z10: 520 | AA10: 717 | AB10: 851 | AC10: 979 | AD10: 434 | AE10: =IFERROR(SUM(I10:AD10)/SUM(I11:AD11),0) -> 0.99699536
H11: ='PANEL DE CONTROL DISTRITAL'!H10 -> Número de fichas requisitadas - Notificaciones de improcedencia de trámite | I11: 78 | J11: 372 | K11: 369 | L11: 377 | M11: 401 | N11: 393 | O11: 404 | P11: 397 | Q11: 388 | R11: 288 | S11: 437 | T11: 483 | U11: 482 | V11: 652 | W11: 730 | X11: 652 | Y11: 574 | Z11: 520 | AA11: 717 | AB11: 853 | AC11: 982 | AD11: 434
A13: ='PANEL DE CONTROL DISTRITAL'!A12 -> 2 | B13: ='PANEL DE CONTROL DISTRITAL'!B12 -> TRÁMITE | C13: ='PANEL DE CONTROL DISTRITAL'!C12 -> Operador de Equipo Tecnológico | D13: ='PANEL DE CONTROL DISTRITAL'!D12 -> Trámites exitosos efectivos= | E13: ='PANEL DE CONTROL DISTRITAL'!E12 -> (Número de trámites exitosos / Número de trámites aplicados) x 100 | F13: ='PANEL DE CONTROL DISTRITAL'!F12 -> Semanal (remesa) | G13: ='PANEL DE CONTROL DISTRITAL'!G12 -> 0.9 | H13: ='PANEL DE CONTROL DISTRITAL'!H12 -> Número de trámites exitosos | I13: 78 | J13: 372 | K13: 369 | L13: 376 | M13: 397 | N13: 387 | O13: 399 | P13: 396 | Q13: 382 | R13: 286 | S13: 435 | T13: 482 | U13: 481 | V13: 652 | W13: 728 | X13: 650 | Y13: 574 | Z13: 520 | AA13: 717 | AB13: 851 | AC13: 979 | AD13: 434 | AE13: =IFERROR(SUM(I13:AD13)/SUM(I14:AD14),0) -> 0.99954338
H14: ='PANEL DE CONTROL DISTRITAL'!H13 -> Número de trámites aplicados | I14: 78 | J14: 372 | K14: 369 | L14: 376 | M14: 397 | N14: 390 | O14: 401 | P14: 396 | Q14: 382 | R14: 286 | S14: 435 | T14: 482 | U14: 481 | V14: 652 | W14: 728 | X14: 650 | Y14: 574 | Z14: 520 | AA14: 717 | AB14: 851 | AC14: 979 | AD14: 434
A15: 401
A16: ='PANEL DE CONTROL DISTRITAL'!A15 -> 3 | B16: ='PANEL DE CONTROL DISTRITAL'!B15 -> TRANSFERENCIA | C16: ='PANEL DE CONTROL DISTRITAL'!C15 -> Responsable de Módulo | D16: ='PANEL DE CONTROL DISTRITAL'!D15 -> Transacciones exitosas = | E16: ='PANEL DE CONTROL DISTRITAL'!E15 -> (Número de Archivos de Transacción aceptados /Total de Archivos de Transacción procesados) x100 | F16: ='PANEL DE CONTROL DISTRITAL'!F15 -> Semanal (remesa) | G16: ='PANEL DE CONTROL DISTRITAL'!G15 -> 0.9 | H16: ='PANEL DE CONTROL DISTRITAL'!H15 -> Número de Archivos de Transacción aceptados | I16: 78 | J16: 372 | K16: 369 | L16: 376 | M16: 397 | N16: 390 | O16: 401 | P16: 396 | Q16: 382 | R16: 286 | S16: 435 | T16: 482 | U16: 481 | V16: 652 | W16: 728 | X16: 650 | Y16: 574 | Z16: 520 | AA16: 717 | AB16: 851 | AC16: 979 | AD16: 434 | AE16: =IFERROR(SUM(I16:AD16)/SUM(I17:AD17),0) -> 1
H17: ='PANEL DE CONTROL DISTRITAL'!H16 -> Total de Archivos de Transacción procesados | I17: 78 | J17: 372 | K17: 369 | L17: 376 | M17: 397 | N17: 390 | O17: 401 | P17: 396 | Q17: 382 | R17: 286 | S17: 435 | T17: 482 | U17: 481 | V17: 652 | W17: 728 | X17: 650 | Y17: 574 | Z17: 520 | AA17: 717 | AB17: 851 | AC17: 979 | AD17: 434
A19: ='PANEL DE CONTROL DISTRITAL'!A18 -> 4 | B19: ='PANEL DE CONTROL DISTRITAL'!B18 -> CONCILIACIÓN | C19: ='PANEL DE CONTROL DISTRITAL'!C18 -> Responsable de Módulo | D19: ='PANEL DE CONTROL DISTRITAL'!D18 -> Credenciales disponibles para entrega = | E19: ='PANEL DE CONTROL DISTRITAL'!E18 -> ((Credenciales recibidas - Credenciales inconsistentes) / Credenciales recibidas) x 100 | F19: ='PANEL DE CONTROL DISTRITAL'!F18 -> Semanal (remesa) | G19: ='PANEL DE CONTROL DISTRITAL'!G18 -> 0.9 | H19: ='PANEL DE CONTROL DISTRITAL'!H18 -> Credenciales Recibidas - Credenciales inconsistentes | I19: 73 | J19: 293 | K19: 318 | L19: 437 | M19: 468 | N19: 330 | O19: 370 | P19: 495 | Q19: 304 | R19: 380 | S19: 355 | T19: 454 | U19: 517 | V19: 403 | W19: 824 | X19: 682 | Y19: 340 | Z19: 466 | AA19: 418 | AB19: 1206 | AC19: 595 | AD19: 0 | AE19: =IFERROR(SUM(I19:AD19)/SUM(I20:AD20),0) -> 1
H20: ='PANEL DE CONTROL DISTRITAL'!H19 -> Credenciales recibidas | I20: 73 | J20: 293 | K20: 318 | L20: 437 | M20: 468 | N20: 330 | O20: 370 | P20: 495 | Q20: 304 | R20: 380 | S20: 355 | T20: 454 | U20: 517 | V20: 403 | W20: 824 | X20: 682 | Y20: 340 | Z20: 466 | AA20: 418 | AB20: 1206 | AC20: 595 | AD20: 0
A22: ='PANEL DE CONTROL DISTRITAL'!A21 -> 5 | B22: ='PANEL DE CONTROL DISTRITAL'!B21 -> CONCILIACIÓN | C22: ='PANEL DE CONTROL DISTRITAL'!C21 -> Responsable de Módulo | D22: ='PANEL DE CONTROL DISTRITAL'!D21 -> Credenciales disponibles para entrega = | E22: ='PANEL DE CONTROL DISTRITAL'!E21 -> (Credenciales en resguardo / Credenciales totales en SIIRFE disponibles para entrega) x 100 | F22: ='PANEL DE CONTROL DISTRITAL'!F21 -> Semanal (remesa) | G22: ='PANEL DE CONTROL DISTRITAL'!G21 -> 1 | H22: ='PANEL DE CONTROL DISTRITAL'!H21 -> Credenciales en resguardo | I22: 953 | J22: 835 | K22: 749 | L22: 790 | M22: 872 | N22: 812 | O22: 770 | P22: 879 | Q22: 739 | R22: 868 | S22: 717 | T22: 838 | U22: 943 | V22: 871 | W22: 1066 | X22: 1054 | Y22: 717 | Z22: 662 | AA22: 632 | AB22: 1072 | AC22: 777 | AD22: 745 | AE22: =IFERROR(SUM(I22:AD22)/SUM(I23:AD23),0) -> 1
H23: ='PANEL DE CONTROL DISTRITAL'!H22 -> Credenciales totales en SIIRFE disponibles para entrega | I23: 953 | J23: 835 | K23: 749 | L23: 790 | M23: 872 | N23: 812 | O23: 770 | P23: 879 | Q23: 739 | R23: 868 | S23: 717 | T23: 838 | U23: 943 | V23: 871 | W23: 1066 | X23: 1054 | Y23: 717 | Z23: 662 | AA23: 632 | AB23: 1072 | AC23: 777 | AD23: 745
A25: ='PANEL DE CONTROL DISTRITAL'!A24 -> 6 | B25: ='PANEL DE CONTROL DISTRITAL'!B24 -> ENTREGA | C25: ='PANEL DE CONTROL DISTRITAL'!C24 -> Operador de Equipo Tecnológico | D25: ='PANEL DE CONTROL DISTRITAL'!D24 -> Efectividad de entrega de CPV en MAC = | E25: ='PANEL DE CONTROL DISTRITAL'!E24 -> (Total de credenciales entregadas / Total de credenciales solicitadas) x 100 | F25: ='PANEL DE CONTROL DISTRITAL'!F24 -> Semanal (remesa) | G25: ='PANEL DE CONTROL DISTRITAL'!G24 -> 0.9 | H25: ='PANEL DE CONTROL DISTRITAL'!H24 -> Total de credenciales entregadas | I25: 97 | J25: 411 | K25: 390 | L25: 396 | M25: 381 | N25: 384 | O25: 412 | P25: 386 | Q25: 444 | R25: 251 | S25: 500 | T25: 333 | U25: 412 | V25: 475 | W25: 629 | X25: 688 | Y25: 677 | Z25: 521 | AA25: 448 | AB25: 766 | AC25: 882 | AD25: 32 | AE25: =IFERROR(SUM(I25:AD25)/SUM(I26:AD26),0) -> 0.99728425
H26: ='PANEL DE CONTROL DISTRITAL'!H25 -> Total de credenciales solicitadas | I26: 97 | J26: 412 | K26: 390 | L26: 397 | M26: 383 | N26: 384 | O26: 415 | P26: 389 | Q26: 444 | R26: 251 | S26: 500 | T26: 333 | U26: 412 | V26: 476 | W26: 631 | X26: 691 | Y26: 683 | Z26: 523 | AA26: 449 | AB26: 768 | AC26: 882 | AD26: 32
B27: *Registre el valor nominal solicitado en la celda, el resultado proporcional esta automatizado.
I29: Semaforización
J30: Valor que requiere atención y justificación en el apartado de observaciones
J31: Valor suficiente
J32: Valor esperado
B34: CUADRO DE OBSERVACIONES
B35: Descripción | H35: No conformidad

Sheet 150651
A1: ='PANEL DE CONTROL DISTRITAL'!A1:Q1 -> INSTITUTO NACIONAL ELECTORAL SISTEMA DE GESTIÓN DE LA CALIDAD ESTADO DE MÉXICO
D2: Distrito | E2: 6 | F2: Módulo | H2: 150651 | X2: ='PANEL DE CONTROL DISTRITAL'!M2 -> Fecha de corte: 22/01/2024
A4: TABLERO DE CONTROL DE PROCESOS SUSTANTIVOS DEL SISTEMA DE GESTIÓN DE LA CALIDAD
A6: ='PANEL DE CONTROL DISTRITAL'!A6 -> Número | B6: ='PANEL DE CONTROL DISTRITAL'!B6 -> PROCESOS SUSTANTIVOS E INDICADORES | I6: SEMANA OPERATIVA | AE6: % AVANCE REGISTRADO
B7: ='PANEL DE CONTROL DISTRITAL'!B7 -> DESCRIPCIÓN | E7: ='PANEL DE CONTROL DISTRITAL'!E7 -> MEDICIÓN | I7: ='PANEL DE CONTROL DISTRITAL'!A5 -> CAMPAÑA ANUAL INTENSA 2023
B9: ='PANEL DE CONTROL DISTRITAL'!B8 -> Proceso | C9: ='PANEL DE CONTROL DISTRITAL'!C8 -> Dueño de Proceso | D9: ='PANEL DE CONTROL DISTRITAL'!D8 -> Indicador | E9: ='PANEL DE CONTROL DISTRITAL'!E8 -> Cálculo | F9: ='PANEL DE CONTROL DISTRITAL'!F8 -> Periodo | G9: ='PANEL DE CONTROL DISTRITAL'!G8 -> Estimado | H9: ='PANEL DE CONTROL DISTRITAL'!H8 -> Nominativo | I9: ='150151'!I9 -> 2023-37 | J9: ='150151'!J9 -> 2023-38 | K9: ='150151'!K9 -> 2023-39 | L9: ='150151'!L9 -> 2023-40 | M9: ='150151'!M9 -> 2023-41 | N9: ='150151'!N9 -> 2023-42 | O9: ='150151'!O9 -> 2023-43 | P9: ='150151'!P9 -> 2023-44 | ... X9: ='150151'!X9 -> 2023-52 | Y9: 2023-53 | Z9: 2023-54 | AA9: 2024-01 | AB9: 2024-02 | AC9: 2024-03 | AD9: 2024-04
A10: ='PANEL DE CONTROL DISTRITAL'!A9 -> 1 | B10: ='PANEL DE CONTROL DISTRITAL'!B9 -> ENTREVISTA | C10: ='PANEL DE CONTROL DISTRITAL'!C9 -> Auxiliar de Atención Ciudadana | D10: ='PANEL DE CONTROL DISTRITAL'!D9 -> Efectividad de la entrevista = | E10: ='PANEL DE CONTROL DISTRITAL'!E9 -> (Número de trámites aplicados / (Número de fichas requisitadas - Notificaciones de improcedencia de trámite)) x 100 | F10: ='PANEL DE CONTROL DISTRITAL'!F9 -> Semanal (remesa) | G10: ='PANEL DE CONTROL DISTRITAL'!G9 -> 0.9 | H10: ='PANEL DE CONTROL DISTRITAL'!H9 -> Número de trámites aplicados | I10: 176 | J10: 892 | K10: 717 | L10: 850 | M10: 978 | N10: 1006 | O10: 996 | P10: 1043 | Q10: 985 | R10: 690 | S10: 1271 | T10: 1272 | U10: 1104 | V10: 1394 | W10: 1444 | X10: 1265 | Y10: 1365 | Z10: 1217 | AA10: 1609 | AB10: 2571 | AC10: 3741 | AD10: 928 | AE10: =IFERROR(SUM(I10:AD10)/SUM(I11:AD11),0) -> 1
H11: ='PANEL DE CONTROL DISTRITAL'!H10 -> Número de fichas requisitadas - Notificaciones de improcedencia de trámite | I11: 176 | J11: 892 | K11: 717 | L11: 850 | M11: 978 | N11: 1006 | O11: 996 | P11: 1043 | Q11: 985 | R11: 690 | S11: 1271 | T11: 1272 | U11: 1104 | V11: 1394 | W11: 1444 | X11: 1265 | Y11: 1365 | Z11: 1217 | AA11: 1609 | AB11: 2571 | AC11: 3741 | AD11: 928
A13: ='PANEL DE CONTROL DISTRITAL'!A12 -> 2 | B13: ='PANEL DE CONTROL DISTRITAL'!B12 -> TRÁMITE | C13: ='PANEL DE CONTROL DISTRITAL'!C12 -> Operador de Equipo Tecnológico | D13: ='PANEL DE CONTROL DISTRITAL'!D12 -> Trámites exitosos efectivos= | E13: ='PANEL DE CONTROL DISTRITAL'!E12 -> (Número de trámites exitosos / Número de trámites aplicados) x 100 | F13: ='PANEL DE CONTROL DISTRITAL'!F12 -> Semanal (remesa) | G13: ='PANEL DE CONTROL DISTRITAL'!G12 -> 0.9 | H13: ='PANEL DE CONTROL DISTRITAL'!H12 -> Número de trámites exitosos | I13: 176 | J13: 889 | K13: 717 | L13: 844 | M13: 976 | N13: 998 | O13: 991 | P13: 1038 | Q13: 983 | R13: 689 | S13: 1270 | T13: 1271 | U13: 1102 | V13: 1392 | W13: 1439 | X13: 1260 | Y13: 1364 | Z13: 1215 | AA13: 1607 | AB13: 2566 | AC13: 3731 | AD13: 924 | AE13: =IFERROR(SUM(I13:AD13)/SUM(I14:AD14),0) -> 0.99738315
H14: ='PANEL DE CONTROL DISTRITAL'!H13 -> Número de trámites aplicados | I14: 176 | J14: 892 | K14: 717 | L14: 850 | M14: 978 | N14: 1006 | O14: 996 | P14: 1043 | Q14: 985 | R14: 690 | S14: 1271 | T14: 1272 | U14: 1104 | V14: 1394 | W14: 1444 | X14: 1265 | Y14: 1365 | Z14: 1217 | AA14: 1609 | AB14: 2571 | AC14: 3741 | AD14: 928
A16: ='PANEL DE CONTROL DISTRITAL'!A15 -> 3 | B16: ='PANEL DE CONTROL DISTRITAL'!B15 -> TRANSFERENCIA | C16: ='PANEL DE CONTROL DISTRITAL'!C15 -> Responsable de Módulo | D16: ='PANEL DE CONTROL DISTRITAL'!D15 -> Transacciones exitosas = | E16: ='PANEL DE CONTROL DISTRITAL'!E15 -> (Número de Archivos de Transacción aceptados /Total de Archivos de Transacción procesados) x100 | F16: ='PANEL DE CONTROL DISTRITAL'!F15 -> Semanal (remesa) | G16: ='PANEL DE CONTROL DISTRITAL'!G15 -> 0.9 | H16: ='PANEL DE CONTROL DISTRITAL'!H15 -> Número de Archivos de Transacción aceptados | I16: 176 | J16: 892 | K16: 717 | L16: 850 | M16: 978 | N16: 1006 | O16: 996 | P16: 1043 | Q16: 985 | R16: 690 | S16: 1271 | T16: 1272 | U16: 1104 | V16: 1394 | W16: 1444 | X16: 1265 | Y16: 1365 | Z16: 1217 | AA16: 1609 | AB16: 2571 | AC16: 3741 | AD16: 928 | AE16: =IFERROR(SUM(I16:AB16)/SUM(I17:AB17),0) -> 1
H17: ='PANEL DE CONTROL DISTRITAL'!H16 -> Total de Archivos de Transacción procesados | I17: 176 | J17: 892 | K17: 717 | L17: 850 | M17: 978 | N17: 1006 | O17: 996 | P17: 1043 | Q17: 985 | R17: 690 | S17: 1271 | T17: 1272 | U17: 1104 | V17: 1394 | W17: 1444 | X17: 1265 | Y17: 1365 | Z17: 1217 | AA17: 1609 | AB17: 2571 | AC17: 3741 | AD17: 928
A19: ='PANEL DE CONTROL DISTRITAL'!A18 -> 4 | B19: ='PANEL DE CONTROL DISTRITAL'!B18 -> CONCILIACIÓN | C19: ='PANEL DE CONTROL DISTRITAL'!C18 -> Responsable de Módulo | D19: ='PANEL DE CONTROL DISTRITAL'!D18 -> Credenciales disponibles para entrega = | E19: ='PANEL DE CONTROL DISTRITAL'!E18 -> ((Credenciales recibidas - Credenciales inconsistentes) / Credenciales recibidas) x 100 | F19: ='PANEL DE CONTROL DISTRITAL'!F18 -> Semanal (remesa) | G19: ='PANEL DE CONTROL DISTRITAL'!G18 -> 0.9 | H19: ='PANEL DE CONTROL DISTRITAL'!H18 -> Credenciales Recibidas - Credenciales inconsistentes | I19: 169 | J19: 957 | K19: 829 | L19: 720 | M19: 938 | N19: 995 | O19: 1007 | P19: 1018 | Q19: 1008 | R19: 761 | S19: 1007 | T19: 1255 | U19: 1282 | V19: 937 | W19: 1389 | X19: 1611 | Y19: 1100 | Z19: 725 | AA19: 979 | AB19: 2420 | AC19: 2267 | AD19: 312 | AE19: =IFERROR(SUM(I19:AB19)/SUM(I20:AB20),0) -> 1
H20: ='PANEL DE CONTROL DISTRITAL'!H19 -> Credenciales recibidas | I20: 169 | J20: 957 | K20: 829 | L20: 720 | M20: 938 | N20: 995 | O20: 1007 | P20: 1018 | Q20: 1008 | R20: 761 | S20: 1007 | T20: 1255 | U20: 1282 | V20: 937 | W20: 1389 | X20: 1611 | Y20: 1100 | Z20: 725 | AA20: 979 | AB20: 2420 | AC20: 2267 | AD20: 312
A22: ='PANEL DE CONTROL DISTRITAL'!A21 -> 5 | B22: ='PANEL DE CONTROL DISTRITAL'!B21 -> CONCILIACIÓN | C22: ='PANEL DE CONTROL DISTRITAL'!C21 -> Responsable de Módulo | D22: ='PANEL DE CONTROL DISTRITAL'!D21 -> Credenciales disponibles para entrega = | E22: ='PANEL DE CONTROL DISTRITAL'!E21 -> (Credenciales en resguardo / Credenciales totales en SIIRFE disponibles para entrega) x 100 | F22: ='PANEL DE CONTROL DISTRITAL'!F21 -> Semanal (remesa) | G22: ='PANEL DE CONTROL DISTRITAL'!G21 -> 1 | H22: ='PANEL DE CONTROL DISTRITAL'!H21 -> Credenciales en resguardo | I22: 2070 | J22: 2041 | K22: 1998 | L22: 1767 | M22: 1917 | N22: 2014 | O22: 2045 | P22: 2076 | Q22: 2096 | R22: 761 | S22: 1967 | T22: 2215 | U22: 2329 | V22: 2129 | W22: 2196 | X22: 2449 | Y22: 2196 | Z22: 1633 | AA22: 1477 | AB22: 2312 | AC22: 2484 | AD22: 2536 | AE22: =IFERROR(SUM(I22:AD22)/SUM(I23:AD23),0) -> 1
H23: ='PANEL DE CONTROL DISTRITAL'!H22 -> Credenciales totales en SIIRFE disponibles para entrega | I23: 2070 | J23: 2041 | K23: 1998 | L23: 1767 | M23: 1917 | N23: 2014 | O23: 2045 | P23: 2076 | Q23: 2096 | R23: 761 | S23: 1967 | T23: 2215 | U23: 2329 | V23: 2129 | W23: 2196 | X23: 2449 | Y23: 2196 | Z23: 1633 | AA23: 1477 | AB23: 2312 | AC23: 2484 | AD23: 2536
A25: ='PANEL DE CONTROL DISTRITAL'!A24 -> 6 | B25: ='PANEL DE CONTROL DISTRITAL'!B24 -> ENTREGA | C25: ='PANEL DE CONTROL DISTRITAL'!C24 -> Operador de Equipo Tecnológico | D25: ='PANEL DE CONTROL DISTRITAL'!D24 -> Efectividad de entrega de CPV en MAC = | E25: ='PANEL DE CONTROL DISTRITAL'!E24 -> (Total de credenciales entregadas / Total de credenciales solicitadas) x 100 | F25: ='PANEL DE CONTROL DISTRITAL'!F24 -> Semanal (remesa) | G25: ='PANEL DE CONTROL DISTRITAL'!G24 -> 0.9 | H25: ='PANEL DE CONTROL DISTRITAL'!H24 -> Total de credenciales entregadas | I25: 213 | J25: 950 | K25: 845 | L25: 951 | M25: 788 | N25: 889 | O25: 976 | P25: 987 | Q25: 988 | R25: 713 | S25: 1171 | T25: 1006 | U25: 1168 | V25: 1137 | W25: 1311 | X25: 1358 | Y25: 1353 | Z25: 1288 | AA25: 1961 | AB25: 1585 | AC25: 2080 | AD25: 260 | AE25: =IFERROR(SUM(I25:AD25)/SUM(I26:AD26),0) -> 0.99688189
H26: ='PANEL DE CONTROL DISTRITAL'!H25 -> Total de credenciales solicitadas | I26: 213 | J26: 951 | K26: 845 | L26: 951 | M26: 790 | N26: 892 | O26: 976 | P26: 987 | Q26: 989 | R26: 713 | S26: 1171 | T26: 1006 | U26: 1170 | V26: 1137 | W26: 1311 | X26: 1358 | Y26: 1353 | Z26: 1288 | AA26: 2028 | AB26: 1583 | AC26: 2081 | AD26: 260
B27: *Registre el valor nominal solicitado en la celda, el resultado proporcional esta automatizado.
I29: Semaforización
J30: Valor que requiere atención y justificación en el apartado de observaciones
J31: Valor suficiente
J32: Valor esperado
B34: CUADRO DE OBSERVACIONES
B35: Descripción | H35: No conformidad

Sheet 150652
A1: ='PANEL DE CONTROL DISTRITAL'!A1:Q1 -> INSTITUTO NACIONAL ELECTORAL SISTEMA DE GESTIÓN DE LA CALIDAD ESTADO DE MÉXICO
D2: Distrito | E2: 6 | F2: Módulo | H2: 150652 | X2: ='PANEL DE CONTROL DISTRITAL'!M2 -> Fecha de corte: 22/01/2024
A4: TABLERO DE CONTROL DE PROCESOS SUSTANTIVOS DEL SISTEMA DE GESTIÓN DE LA CALIDAD
A6: ='PANEL DE CONTROL DISTRITAL'!A6 -> Número | B6: ='PANEL DE CONTROL DISTRITAL'!B6 -> PROCESOS SUSTANTIVOS E INDICADORES | I6: SEMANA OPERATIVA | AE6: % AVANCE REGISTRADO
B7: ='PANEL DE CONTROL DISTRITAL'!B7 -> DESCRIPCIÓN | E7: ='PANEL DE CONTROL DISTRITAL'!E7 -> MEDICIÓN | I7: ='PANEL DE CONTROL DISTRITAL'!A5 -> CAMPAÑA ANUAL INTENSA 2023
B9: ='PANEL DE CONTROL DISTRITAL'!B8 -> Proceso | C9: ='PANEL DE CONTROL DISTRITAL'!C8 -> Dueño de Proceso | D9: ='PANEL DE CONTROL DISTRITAL'!D8 -> Indicador | E9: ='PANEL DE CONTROL DISTRITAL'!E8 -> Cálculo | F9: ='PANEL DE CONTROL DISTRITAL'!F8 -> Periodo | G9: ='PANEL DE CONTROL DISTRITAL'!G8 -> Estimado | H9: ='PANEL DE CONTROL DISTRITAL'!H8 -> Nominativo | I9: ='150151'!I9 -> 2023-37 | J9: ='150151'!J9 -> 2023-38 | K9: ='150151'!K9 -> 2023-39 | L9: ='150151'!L9 -> 2023-40 | M9: ='150151'!M9 -> 2023-41 | N9: ='150151'!N9 -> 2023-42 | O9: ='150151'!O9 -> 2023-43 | P9: ='150151'!P9 -> 2023-44 | ... X9: ='150151'!X9 -> 2023-52 | Y9: 2023-53 | Z9: 2023-54 | AA9: 2024-01 | AB9: 2024-02 | AC9: 2024-03 | AD9: 2024-04
A10: ='PANEL DE CONTROL DISTRITAL'!A9 -> 1 | B10: ='PANEL DE CONTROL DISTRITAL'!B9 -> ENTREVISTA | C10: ='PANEL DE CONTROL DISTRITAL'!C9 -> Auxiliar de Atención Ciudadana | D10: ='PANEL DE CONTROL DISTRITAL'!D9 -> Efectividad de la entrevista = | E10: ='PANEL DE CONTROL DISTRITAL'!E9 -> (Número de trámites aplicados / (Número de fichas requisitadas - Notificaciones de improcedencia de trámite)) x 100 | F10: ='PANEL DE CONTROL DISTRITAL'!F9 -> Semanal (remesa) | G10: ='PANEL DE CONTROL DISTRITAL'!G9 -> 0.9 | H10: ='PANEL DE CONTROL DISTRITAL'!H9 -> Número de trámites aplicados | I10: 50 | J10: 367 | K10: 386 | L10: 382 | M10: 394 | N10: 394 | O10: 446 | P10: 431 | Q10: 409 | R10: 290 | S10: 551 | T10: 496 | U10: 552 | V10: 715 | W10: 628 | X10: 551 | Y10: 570 | Z10: 513 | AA10: 750 | AB10: 1079 | AC10: 1302 | AD10: 450 | AE10: =IFERROR(SUM(I10:AD10)/SUM(I11:AD11),0) -> 0.97412
H11: ='PANEL DE CONTROL DISTRITAL'!H10 -> Número de fichas requisitadas - Notificaciones de improcedencia de trámite | I11: 50 | J11: 371 | K11: 401 | L11: 392 | M11: 411 | N11: 405 | O11: 465 | P11: 452 | Q11: 415 | R11: 298 | S11: 561 | T11: 513 | U11: 558 | V11: 730 | W11: 636 | X11: 569 | Y11: 586 | Z11: 521 | AA11: 765 | AB11: 1103 | AC11: 1349 | AD11: 466
A13: ='PANEL DE CONTROL DISTRITAL'!A12 -> 2 | B13: ='PANEL DE CONTROL DISTRITAL'!B12 -> TRÁMITE | C13: ='PANEL DE CONTROL DISTRITAL'!C12 -> Operador de Equipo Tecnológico | D13: ='PANEL DE CONTROL DISTRITAL'!D12 -> Trámites exitosos efectivos= | E13: ='PANEL DE CONTROL DISTRITAL'!E12 -> (Número de trámites exitosos / Número de trámites aplicados) x 100 | F13: ='PANEL DE CONTROL DISTRITAL'!F12 -> Semanal (remesa) | G13: ='PANEL DE CONTROL DISTRITAL'!G12 -> 0.9 | H13: ='PANEL DE CONTROL DISTRITAL'!H12 -> Número de trámites exitosos | I13: 50 | J13: 366 | K13: 386 | L13: 381 | M13: 394 | N13: 393 | O13: 445 | P13: 431 | Q13: 408 | R13: 290 | S13: 550 | T13: 495 | U13: 550 | V13: 713 | W13: 628 | X13: 551 | Y13: 566 | Z13: 513 | AA13: 747 | AB13: 1076 | AC13: 1298 | AD13: 449 | AE13: =IFERROR(SUM(I13:AD13)/SUM(I14:AD14),0) -> 0.99777892
H14: ='PANEL DE CONTROL DISTRITAL'!H13 -> Número de trámites aplicados | I14: 50 | J14: 367 | K14: 386 | L14: 382 | M14: 394 | N14: 394 | O14: 446 | P14: 431 | Q14: 409 | R14: 290 | S14: 551 | T14: 496 | U14: 552 | V14: 715 | W14: 628 | X14: 551 | Y14: 570 | Z14: 513 | AA14: 750 | AB14: 1079 | AC14: 1302 | AD14: 450
A16: ='PANEL DE CONTROL DISTRITAL'!A15 -> 3 | B16: ='PANEL DE CONTROL DISTRITAL'!B15 -> TRANSFERENCIA | C16: ='PANEL DE CONTROL DISTRITAL'!C15 -> Responsable de Módulo | D16: ='PANEL DE CONTROL DISTRITAL'!D15 -> Transacciones exitosas = | E16: ='PANEL DE CONTROL DISTRITAL'!E15 -> (Número de Archivos de Transacción aceptados /Total de Archivos de Transacción procesados) x100 | F16: ='PANEL DE CONTROL DISTRITAL'!F15 -> Semanal (remesa) | G16: ='PANEL DE CONTROL DISTRITAL'!G15 -> 0.9 | H16: ='PANEL DE CONTROL DISTRITAL'!H15 -> Número de Archivos de Transacción aceptados | I16: 50 | J16: 367 | K16: 386 | L16: 382 | M16: 394 | N16: 394 | O16: 446 | P16: 431 | Q16: 409 | R16: 290 | S16: 551 | T16: 496 | U16: 552 | V16: 715 | W16: 628 | X16: 551 | Y16: 570 | Z16: 513 | AA16: 750 | AB16: 1079 | AC16: 1302 | AD16: 450 | AE16: =IFERROR(SUM(I16:AD16)/SUM(I17:AD17),0) -> 1
H17: ='PANEL DE CONTROL DISTRITAL'!H16 -> Total de Archivos de Transacción procesados | I17: 50 | J17: 367 | K17: 386 | L17: 382 | M17: 394 | N17: 394 | O17: 446 | P17: 431 | Q17: 409 | R17: 290 | S17: 551 | T17: 496 | U17: 552 | V17: 715 | W17: 628 | X17: 551 | Y17: 570 | Z17: 513 | AA17: 750 | AB17: 1079 | AC17: 1302 | AD17: 450
A19: ='PANEL DE CONTROL DISTRITAL'!A18 -> 4 | B19: ='PANEL DE CONTROL DISTRITAL'!B18 -> CONCILIACIÓN | C19: ='PANEL DE CONTROL DISTRITAL'!C18 -> Responsable de Módulo | D19: ='PANEL DE CONTROL DISTRITAL'!D18 -> Credenciales disponibles para entrega = | E19: ='PANEL DE CONTROL DISTRITAL'!E18 -> ((Credenciales recibidas - Credenciales inconsistentes) / Credenciales recibidas) x 100 | F19: ='PANEL DE CONTROL DISTRITAL'!F18 -> Semanal (remesa) | G19: ='PANEL DE CONTROL DISTRITAL'!G18 -> 0.9 | H19: ='PANEL DE CONTROL DISTRITAL'!H18 -> Credenciales Recibidas - Credenciales inconsistentes | I19: 0 | J19: 447 | K19: 329 | L19: 452 | M19: 380 | N19: 391 | O19: 442 | P19: 421 | Q19: 430 | R19: 313 | S19: 319 | T19: 628 | U19: 455 | V19: 597 | W19: 684 | X19: 762 | Y19: 397 | Z19: 215 | AA19: 479 | AB19: 1133 | AC19: 940 | AD19: 0 | AE19: =IFERROR(SUM(I19:AD19)/SUM(I20:AD20),0) -> 1
H20: ='PANEL DE CONTROL DISTRITAL'!H19 -> Credenciales recibidas | I20: 0 | J20: 447 | K20: 329 | L20: 452 | M20: 380 | N20: 391 | O20: 442 | P20: 421 | Q20: 430 | R20: 313 | S20: 319 | T20: 628 | U20: 455 | V20: 597 | W20: 684 | X20: 762 | Y20: 397 | Z20: 215 | AA20: 479 | AB20: 1133 | AC20: 940 | AD20: 0
A22: ='PANEL DE CONTROL DISTRITAL'!A21 -> 5 | B22: ='PANEL DE CONTROL DISTRITAL'!B21 -> CONCILIACIÓN | C22: ='PANEL DE CONTROL DISTRITAL'!C21 -> Responsable de Módulo | D22: ='PANEL DE CONTROL DISTRITAL'!D21 -> Credenciales disponibles para entrega = | E22: ='PANEL DE CONTROL DISTRITAL'!E21 -> (Credenciales en resguardo / Credenciales totales en SIIRFE disponibles para entrega) x 100 | F22: ='PANEL DE CONTROL DISTRITAL'!F21 -> Semanal (remesa) | G22: ='PANEL DE CONTROL DISTRITAL'!G21 -> 1 | H22: ='PANEL DE CONTROL DISTRITAL'!H21 -> Credenciales en resguardo | I22: 1118 | J22: 998 | K22: 924 | L22: 979 | M22: 919 | N22: 923 | O22: 973 | P22: 939 | Q22: 933 | R22: 881 | S22: 739 | T22: 981 | U22: 954 | V22: 1045 | W22: 1050 | X22: 1180 | Y22: 970 | Z22: 618 | AA22: 706 | AB22: 1093 | AC22: 998 | AD22: 843 | AE22: =IFERROR(SUM(I22:AD22)/SUM(I23:AD23),0) -> 1
H23: ='PANEL DE CONTROL DISTRITAL'!H22 -> Credenciales totales en SIIRFE disponibles para entrega | I23: 1118 | J23: 998 | K23: 924 | L23: 979 | M23: 919 | N23: 923 | O23: 973 | P23: 939 | Q23: 933 | R23: 881 | S23: 739 | T23: 981 | U23: 954 | V23: 1045 | W23: 1050 | X23: 1180 | Y23: 970 | Z23: 618 | AA23: 706 | AB23: 1093 | AC23: 998 | AD23: 843
AH24: 385
A25: ='PANEL DE CONTROL DISTRITAL'!A24 -> 6 | B25: ='PANEL DE CONTROL DISTRITAL'!B24 -> ENTREGA | C25: ='PANEL DE CONTROL DISTRITAL'!C24 -> Operador de Equipo Tecnológico | D25: ='PANEL DE CONTROL DISTRITAL'!D24 -> Efectividad de entrega de CPV en MAC = | E25: ='PANEL DE CONTROL DISTRITAL'!E24 -> (Total de credenciales entregadas / Total de credenciales solicitadas) x 100 | F25: ='PANEL DE CONTROL DISTRITAL'!F24 -> Semanal (remesa) | G25: ='PANEL DE CONTROL DISTRITAL'!G24 -> 0.9 | H25: ='PANEL DE CONTROL DISTRITAL'!H24 -> Total de credenciales entregadas | I25: 95 | J25: 479 | K25: 393 | L25: 397 | M25: 440 | N25: 385 | O25: 392 | P25: 450 | Q25: 436 | R25: 365 | S25: 452 | T25: 386 | U25: 482 | V25: 506 | W25: 679 | X25: 626 | Y25: 607 | Z25: 568 | AA25: 391 | AB25: 746 | AC25: 1021 | AD25: 155 | AE25: =IFERROR(SUM(I25:AD25)/SUM(I26:AD26),0) -> 0.99828064
H26: ='PANEL DE CONTROL DISTRITAL'!H25 -> Total de credenciales solicitadas | I26: 97 | J26: 481 | K26: 395 | L26: 405 | M26: 440 | N26: 385 | O26: 392 | P26: 451 | Q26: 436 | R26: 366 | S26: 452 | T26: 386 | U26: 483 | V26: 506 | W26: 680 | X26: 626 | Y26: 607 | Z26: 568 | AA26: 392 | AB26: 746 | AC26: 1020 | AD26: 155
B27: *Registre el valor nominal solicitado en la celda, el resultado proporcional esta automatizado.
I29: Semaforización
J30: Valor que requiere atención y justificación en el apartado de observaciones
J31: Valor suficiente
J32: Valor esperado
B34: CUADRO DE OBSERVACIONES
B35: Descripción | H35: No conformidad

Sheet 150751
A1: ='PANEL DE CONTROL DISTRITAL'!A1:Q1 -> INSTITUTO NACIONAL ELECTORAL SISTEMA DE GESTIÓN DE LA CALIDAD ESTADO DE MÉXICO
D2: Distrito | E2: 7 | F2: Módulo | H2: 150751 | X2: ='PANEL DE CONTROL DISTRITAL'!M2 -> Fecha de corte: 22/01/2024
A4: TABLERO DE CONTROL DE PROCESOS SUSTANTIVOS DEL SISTEMA DE GESTIÓN DE LA CALIDAD
A6: ='PANEL DE CONTROL DISTRITAL'!A6 -> Número | B6: ='PANEL DE CONTROL DISTRITAL'!B6 -> PROCESOS SUSTANTIVOS E INDICADORES | I6: SEMANA OPERATIVA | AE6: % AVANCE REGISTRADO
B7: ='PANEL DE CONTROL DISTRITAL'!B7 -> DESCRIPCIÓN | E7: ='PANEL DE CONTROL DISTRITAL'!E7 -> MEDICIÓN | I7: ='PANEL DE CONTROL DISTRITAL'!A5 -> CAMPAÑA ANUAL INTENSA 2023
B9: ='PANEL DE CONTROL DISTRITAL'!B8 -> Proceso | C9: ='PANEL DE CONTROL DISTRITAL'!C8 -> Dueño de Proceso | D9: ='PANEL DE CONTROL DISTRITAL'!D8 -> Indicador | E9: ='PANEL DE CONTROL DISTRITAL'!E8 -> Cálculo | F9: ='PANEL DE CONTROL DISTRITAL'!F8 -> Periodo | G9: ='PANEL DE CONTROL DISTRITAL'!G8 -> Estimado | H9: ='PANEL DE CONTROL DISTRITAL'!H8 -> Nominativo | I9: ='150151'!I9 -> 2023-37 | J9: ='150151'!J9 -> 2023-38 | K9: ='150151'!K9 -> 2023-39 | L9: ='150151'!L9 -> 2023-40 | M9: ='150151'!M9 -> 2023-41 | N9: ='150151'!N9 -> 2023-42 | O9: ='150151'!O9 -> 2023-43 | P9: ='150151'!P9 -> 2023-44 | ... X9: ='150151'!X9 -> 2023-52 | Y9: 2023-53 | Z9: 2023-54 | AA9: 2024-01 | AB9: 2024-02 | AC9: 2024-03 | AD9: 2024-04
A10: ='PANEL DE CONTROL DISTRITAL'!A9 -> 1 | B10: ='PANEL DE CONTROL DISTRITAL'!B9 -> ENTREVISTA | C10: ='PANEL DE CONTROL DISTRITAL'!C9 -> Auxiliar de Atención Ciudadana | D10: ='PANEL DE CONTROL DISTRITAL'!D9 -> Efectividad de la entrevista = | E10: ='PANEL DE CONTROL DISTRITAL'!E9 -> (Número de trámites aplicados / (Número de fichas requisitadas - Notificaciones de improcedencia de trámite)) x 100 | F10: ='PANEL DE CONTROL DISTRITAL'!F9 -> Semanal (remesa) | G10: ='PANEL DE CONTROL DISTRITAL'!G9 -> 0.9 | H10: ='PANEL DE CONTROL DISTRITAL'!H9 -> Número de trámites aplicados | I10: 164 | J10: 895 | K10: 775 | L10: 821 | M10: 857 | N10: 929 | O10: 975 | P10: 948 | Q10: 936 | R10: 747 | S10: 1181 | T10: 1199 | U10: 1058 | V10: 1348 | W10: 1411 | X10: 1319 | Y10: 1489 | Z10: 1402 | AA10: 1850 | AB10: 2320 | AC10: 2550 | AD10: 1295 | AE10: =IFERROR(SUM(I10:AD10)/SUM(I11:AD11),0) -> 0.98779669
H11: ='PANEL DE CONTROL DISTRITAL'!H10 -> Número de fichas requisitadas - Notificaciones de improcedencia de trámite | I11: 166 | J11: 890 | K11: 782 | L11: 844 | M11: 883 | N11: 963 | O11: 1017 | P11: 985 | Q11: 973 | R11: 791 | S11: 1239 | T11: 1251 | U11: 1089 | V11: 1388 | W11: 1432 | X11: 1116 | Y11: 1494 | Z11: 1408 | AA11: 1886 | AB11: 2336 | AC11: 2563 | AD11: 1300
A13: ='PANEL DE CONTROL DISTRITAL'!A12 -> 2 | B13: ='PANEL DE CONTROL DISTRITAL'!B12 -> TRÁMITE | C13: ='PANEL DE CONTROL DISTRITAL'!C12 -> Operador de Equipo Tecnológico | D13: ='PANEL DE CONTROL DISTRITAL'!D12 -> Trámites exitosos efectivos= | E13: ='PANEL DE CONTROL DISTRITAL'!E12 -> (Número de trámites exitosos / Número de trámites aplicados) x 100 | F13: ='PANEL DE CONTROL DISTRITAL'!F12 -> Semanal (remesa) | G13: ='PANEL DE CONTROL DISTRITAL'!G12 -> 0.9 | H13: ='PANEL DE CONTROL DISTRITAL'!H12 -> Número de trámites exitosos | I13: 164 | J13: 893 | K13: 773 | L13: 818 | M13: 852 | N13: 925 | O13: 971 | P13: 944 | Q13: 936 | R13: 741 | S13: 1177 | T13: 1193 | U13: 1057 | V13: 1346 | W13: 1406 | X13: 1316 | Y13: 1487 | Z13: 1398 | AA13: 1847 | AB13: 2313 | AC13: 2543 | AD13: 1291 | AE13: =IFERROR(SUM(I13:AD13)/SUM(I14:AD14),0) -> 0.99705316
H14: ='PANEL DE CONTROL DISTRITAL'!H13 -> Número de trámites aplicados | I14: 164 | J14: 895 | K14: 775 | L14: 821 | M14: 857 | N14: 929 | O14: 975 | P14: 948 | Q14: 936 | R14: 747 | S14: 1181 | T14: 1199 | U14: 1058 | V14: 1348 | W14: 1411 | X14: 1319 | Y14: 1489 | Z14: 1402 | AA14: 1850 | AB14: 2320 | AC14: 2550 | AD14: 1295
A16: ='PANEL DE CONTROL DISTRITAL'!A15 -> 3 | B16: ='PANEL DE CONTROL DISTRITAL'!B15 -> TRANSFERENCIA | C16: ='PANEL DE CONTROL DISTRITAL'!C15 -> Responsable de Módulo | D16: ='PANEL DE CONTROL DISTRITAL'!D15 -> Transacciones exitosas = | E16: ='PANEL DE CONTROL DISTRITAL'!E15 -> (Número de Archivos de Transacción aceptados /Total de Archivos de Transacción procesados) x100 | F16: ='PANEL DE CONTROL DISTRITAL'!F15 -> Semanal (remesa) | G16: ='PANEL DE CONTROL DISTRITAL'!G15 -> 0.9 | H16: ='PANEL DE CONTROL DISTRITAL'!H15 -> Número de Archivos de Transacción aceptados | I16: 164 | J16: 895 | K16: 775 | L16: 821 | M16: 857 | N16: 929 | O16: 975 | P16: 948 | Q16: 936 | R16: 747 | S16: 1181 | T16: 1199 | U16: 1058 | V16: 1348 | W16: 1411 | X16: 1319 | Y16: 1489 | Z16: 1402 | AA16: 1850 | AB16: 2320 | AC16: 2550 | AD16: 1295 | AE16: =IFERROR(SUM(I16:AD16)/SUM(I17:AD17),0) -> 0.99996222
H17: ='PANEL DE CONTROL DISTRITAL'!H16 -> Total de Archivos de Transacción procesados | I17: 164 | J17: 895 | K17: 775 | L17: 821 | M17: 857 | N17: 929 | O17: 975 | P17: 948 | Q17: 936 | R17: 747 | S17: 1181 | T17: 1199 | U17: 1058 | V17: 1348 | W17: 1411 | X17: 1319 | Y17: 1489 | Z17: 1402 | AA17: 1850 | AB17: 2321 | AC17: 2550 | AD17: 1295
A19: ='PANEL DE CONTROL DISTRITAL'!A18 -> 4 | B19: ='PANEL DE CONTROL DISTRITAL'!B18 -> CONCILIACIÓN | C19: ='PANEL DE CONTROL DISTRITAL'!C18 -> Responsable de Módulo | D19: ='PANEL DE CONTROL DISTRITAL'!D18 -> Credenciales disponibles para entrega = | E19: ='PANEL DE CONTROL DISTRITAL'!E18 -> ((Credenciales recibidas - Credenciales inconsistentes) / Credenciales recibidas) x 100 | F19: ='PANEL DE CONTROL DISTRITAL'!F18 -> Semanal (remesa) | G19: ='PANEL DE CONTROL DISTRITAL'!G18 -> 0.9 | H19: ='PANEL DE CONTROL DISTRITAL'!H18 -> Credenciales Recibidas - Credenciales inconsistentes | I19: 209 | J19: 907 | K19: 639 | L19: 948 | M19: 863 | N19: 888 | O19: 985 | P19: 936 | Q19: 933 | R19: 736 | S19: 1003 | T19: 1168 | U19: 1009 | V19: 1338 | W19: 1137 | X19: 1551 | Y19: 1354 | Z19: 875 | AA19: 1303 | AB19: 2719 | AC19: 2069 | AD19: 0 | AE19: =IFERROR(SUM(I19:AD19)/SUM(I20:AD20),0) -> 1
H20: ='PANEL DE CONTROL DISTRITAL'!H19 -> Credenciales recibidas | I20: 209 | J20: 907 | K20: 639 | L20: 948 | M20: 863 | N20: 888 | O20: 985 | P20: 936 | Q20: 933 | R20: 736 | S20: 1003 | T20: 1168 | U20: 1009 | V20: 1338 | W20: 1137 | X20: 1551 | Y20: 1354 | Z20: 875 | AA20: 1303 | AB20: 2719 | AC20: 2069 | AD20: 0
A22: ='PANEL DE CONTROL DISTRITAL'!A21 -> 5 | B22: ='PANEL DE CONTROL DISTRITAL'!B21 -> CONCILIACIÓN | C22: ='PANEL DE CONTROL DISTRITAL'!C21 -> Responsable de Módulo | D22: ='PANEL DE CONTROL DISTRITAL'!D21 -> Credenciales disponibles para entrega = | E22: ='PANEL DE CONTROL DISTRITAL'!E21 -> (Credenciales en resguardo / Credenciales totales en SIIRFE disponibles para entrega) x 100 | F22: ='PANEL DE CONTROL DISTRITAL'!F21 -> Semanal (remesa) | G22: ='PANEL DE CONTROL DISTRITAL'!G21 -> 1 | H22: ='PANEL DE CONTROL DISTRITAL'!H21 -> Credenciales en resguardo | I22: 2700 | J22: 2507 | K22: 2125 | L22: 2096 | M22: 2102 | N22: 2125 | O22: 2164 | P22: 2119 | Q22: 2097 | R22: 2106 | S22: 1991 | T22: 2170 | U22: 2083 | V22: 2342 | W22: 2173 | X22: 2386 | Y22: 1951 | Z22: 1574 | AA22: 1574 | AB22: 2495 | AC22: 2403 | AD22: 2123 | AE22: =IFERROR(SUM(I22:AD22)/SUM(I23:AD23),0) -> 1
H23: ='PANEL DE CONTROL DISTRITAL'!H22 -> Credenciales totales en SIIRFE disponibles para entrega | I23: 2700 | J23: 2507 | K23: 2125 | L23: 2096 | M23: 2102 | N23: 2125 | O23: 2164 | P23: 2119 | Q23: 2097 | R23: 2106 | S23: 1991 | T23: 2170 | U23: 2083 | V23: 2342 | W23: 2173 | X23: 2386 | Y23: 1951 | Z23: 1574 | AA23: 1574 | AB23: 2495 | AC23: 2403 | AD23: 2123
A25: ='PANEL DE CONTROL DISTRITAL'!A24 -> 6 | B25: ='PANEL DE CONTROL DISTRITAL'!B24 -> ENTREGA | C25: ='PANEL DE CONTROL DISTRITAL'!C24 -> Operador de Equipo Tecnológico | D25: ='PANEL DE CONTROL DISTRITAL'!D24 -> Efectividad de entrega de CPV en MAC = | E25: ='PANEL DE CONTROL DISTRITAL'!E24 -> (Total de credenciales entregadas / Total de credenciales solicitadas) x 100 | F25: ='PANEL DE CONTROL DISTRITAL'!F24 -> Semanal (remesa) | G25: ='PANEL DE CONTROL DISTRITAL'!G24 -> 0.9 | H25: ='PANEL DE CONTROL DISTRITAL'!H24 -> Total de credenciales entregadas | I25: 266 | J25: 1100 | K25: 991 | L25: 977 | M25: 856 | N25: 856 | O25: 946 | P25: 981 | Q25: 955 | R25: 727 | S25: 1107 | T25: 989 | U25: 1096 | V25: 1078 | W25: 1295 | X25: 1338 | Y25: 1354 | Z25: 1252 | AA25: 1303 | AB25: 1798 | AC25: 2148 | AD25: 280 | AE25: =IFERROR(SUM(I25:AD25)/SUM(I26:AD26),0) -> 0.99521149
H26: ='PANEL DE CONTROL DISTRITAL'!H25 -> Total de credenciales solicitadas | I26: 276 | J26: 1083 | K26: 1008 | L26: 980 | M26: 871 | N26: 857 | O26: 947 | P26: 983 | Q26: 956 | R26: 728 | S26: 1108 | T26: 993 | U26: 1101 | V26: 1079 | W26: 1294 | X26: 1337 | Y26: 1351 | Z26: 1276 | AA26: 1353 | AB26: 1798 | AC26: 2148 | AD26: 280
B27: *Registre el valor nominal solicitado en la celda, el resultado proporcional esta automatizado.
I29: Semaforización
J30: Valor que requiere atención y justificación en el apartado de observaciones
J31: Valor suficiente
J32: Valor esperado
B34: CUADRO DE OBSERVACIONES
B35: Descripción | H35: No conformidad

Sheet 150851
A1: ='PANEL DE CONTROL DISTRITAL'!A1:Q1 -> INSTITUTO NACIONAL ELECTORAL SISTEMA DE GESTIÓN DE LA CALIDAD ESTADO DE MÉXICO
D2: Distrito | E2: 8 | F2: Módulo | H2: 150851 | X2: ='PANEL DE CONTROL DISTRITAL'!M2 -> Fecha de corte: 22/01/2024
A4: TABLERO DE CONTROL DE PROCESOS SUSTANTIVOS DEL SISTEMA DE GESTIÓN DE LA CALIDAD
A6: ='PANEL DE CONTROL DISTRITAL'!A6 -> Número | B6: ='PANEL DE CONTROL DISTRITAL'!B6 -> PROCESOS SUSTANTIVOS E INDICADORES | I6: SEMANA OPERATIVA | AE6: % AVANCE REGISTRADO
B7: ='PANEL DE CONTROL DISTRITAL'!B7 -> DESCRIPCIÓN | E7: ='PANEL DE CONTROL DISTRITAL'!E7 -> MEDICIÓN | I7: ='PANEL DE CONTROL DISTRITAL'!A5 -> CAMPAÑA ANUAL INTENSA 2023
B9: ='PANEL DE CONTROL DISTRITAL'!B8 -> Proceso | C9: ='PANEL DE CONTROL DISTRITAL'!C8 -> Dueño de Proceso | D9: ='PANEL DE CONTROL DISTRITAL'!D8 -> Indicador | E9: ='PANEL DE CONTROL DISTRITAL'!E8 -> Cálculo | F9: ='PANEL DE CONTROL DISTRITAL'!F8 -> Periodo | G9: ='PANEL DE CONTROL DISTRITAL'!G8 -> Estimado | H9: ='PANEL DE CONTROL DISTRITAL'!H8 -> Nominativo | I9: ='150151'!I9 -> 2023-37 | J9: ='150151'!J9 -> 2023-38 | K9: ='150151'!K9 -> 2023-39 | L9: ='150151'!L9 -> 2023-40 | M9: ='150151'!M9 -> 2023-41 | N9: ='150151'!N9 -> 2023-42 | O9: ='150151'!O9 -> 2023-43 | P9: ='150151'!P9 -> 2023-44 | ... X9: ='150151'!X9 -> 2023-52 | Y9: 2023-53 | Z9: 2023-54 | AA9: 2024-01 | AB9: 2024-02 | AC9: 2024-03 | AD9: 2024-04
A10: ='PANEL DE CONTROL DISTRITAL'!A9 -> 1 | B10: ='PANEL DE CONTROL DISTRITAL'!B9 -> ENTREVISTA | C10: ='PANEL DE CONTROL DISTRITAL'!C9 -> Auxiliar de Atención Ciudadana | D10: ='PANEL DE CONTROL DISTRITAL'!D9 -> Efectividad de la entrevista = | E10: ='PANEL DE CONTROL DISTRITAL'!E9 -> (Número de trámites aplicados / (Número de fichas requisitadas - Notificaciones de improcedencia de trámite)) x 100 | F10: ='PANEL DE CONTROL DISTRITAL'!F9 -> Semanal (remesa) | G10: ='PANEL DE CONTROL DISTRITAL'!G9 -> 0.9 | H10: ='PANEL DE CONTROL DISTRITAL'!H9 -> Número de trámites aplicados | I10: 145 | J10: 698 | K10: 611 | L10: 704 | M10: 714 | N10: 743 | O10: 780 | P10: 764 | Q10: 750 | R10: 548 | S10: 910 | T10: 962 | U10: 867 | V10: 1208 | W10: 1071 | X10: 969 | Y10: 1051 | Z10: 878 | AA10: 1319 | AB10: 1971 | AC10: 2144 | AD10: 676 | AE10: =IFERROR(SUM(I10:AD10)/SUM(I11:AD11),0) -> 0.99761348
H11: ='PANEL DE CONTROL DISTRITAL'!H10 -> Número de fichas requisitadas - Notificaciones de improcedencia de trámite | I11: 145 | J11: 713 | K11: 622 | L11: 714 | M11: 728 | N11: 743 | O11: 780 | P11: 763 | Q11: 750 | R11: 548 | S11: 910 | T11: 962 | U11: 867 | V11: 1208 | W11: 1071 | X11: 969 | Y11: 1051 | Z11: 878 | AA11: 1319 | AB11: 1971 | AC11: 2144 | AD11: 676
A13: ='PANEL DE CONTROL DISTRITAL'!A12 -> 2 | B13: ='PANEL DE CONTROL DISTRITAL'!B12 -> TRÁMITE | C13: ='PANEL DE CONTROL DISTRITAL'!C12 -> Operador de Equipo Tecnológico | D13: ='PANEL DE CONTROL DISTRITAL'!D12 -> Trámites exitosos efectivos= | E13: ='PANEL DE CONTROL DISTRITAL'!E12 -> (Número de trámites exitosos / Número de trámites aplicados) x 100 | F13: ='PANEL DE CONTROL DISTRITAL'!F12 -> Semanal (remesa) | G13: ='PANEL DE CONTROL DISTRITAL'!G12 -> 0.9 | H13: ='PANEL DE CONTROL DISTRITAL'!H12 -> Número de trámites exitosos | I13: 145 | J13: 695 | K13: 609 | L13: 701 | M13: 713 | N13: 741 | O13: 775 | P13: 759 | Q13: 747 | R13: 546 | S13: 909 | T13: 962 | U13: 864 | V13: 1206 | W13: 1068 | X13: 969 | Y13: 1051 | Z13: 878 | AA13: 1314 | AB13: 1966 | AC13: 2133 | AD13: 675 | AE13: =IFERROR(SUM(I13:AD13)/SUM(I14:AD14),0) -> 0.99804554
H14: ='PANEL DE CONTROL DISTRITAL'!H13 -> Número de trámites aplicados | I14: 145 | J14: 698 | K14: 611 | L14: 704 | M14: 714 | N14: 743 | O14: 780 | P14: 764 | Q14: 750 | R14: 548 | S14: 910 | T14: 958 | U14: 867 | V14: 1208 | W14: 1071 | X14: 963 | Y14: 1047 | Z14: 875 | AA14: 1319 | AB14: 1971 | AC14: 2144 | AD14: 676
A16: ='PANEL DE CONTROL DISTRITAL'!A15 -> 3 | B16: ='PANEL DE CONTROL DISTRITAL'!B15 -> TRANSFERENCIA | C16: ='PANEL DE CONTROL DISTRITAL'!C15 -> Responsable de Módulo | D16: ='PANEL DE CONTROL DISTRITAL'!D15 -> Transacciones exitosas = | E16: ='PANEL DE CONTROL DISTRITAL'!E15 -> (Número de Archivos de Transacción aceptados /Total de Archivos de Transacción procesados) x100 | F16: ='PANEL DE CONTROL DISTRITAL'!F15 -> Semanal (remesa) | G16: ='PANEL DE CONTROL DISTRITAL'!G15 -> 0.9 | H16: ='PANEL DE CONTROL DISTRITAL'!H15 -> Número de Archivos de Transacción aceptados | I16: 145 | J16: 695 | K16: 609 | L16: 701 | M16: 713 | N16: 743 | O16: 780 | P16: 764 | Q16: 750 | R16: 548 | S16: 910 | T16: 962 | U16: 867 | V16: 1206 | W16: 1071 | X16: 969 | Y16: 1051 | Z16: 878 | AA16: 1314 | AB16: 1966 | AC16: 2133 | AD16: 676 | AE16: =IFERROR(SUM(I16:AD16)/SUM(I17:AD17),0) -> 0.99863275
H17: ='PANEL DE CONTROL DISTRITAL'!H16 -> Total de Archivos de Transacción procesados | I17: 145 | J17: 698 | K17: 611 | L17: 701 | M17: 713 | N17: 743 | O17: 780 | P17: 764 | Q17: 750 | R17: 548 | S17: 910 | T17: 962 | U17: 867 | V17: 1208 | W17: 1071 | X17: 969 | Y17: 1051 | Z17: 878 | AA17: 1319 | AB17: 1971 | AC17: 2144 | AD17: 676
A19: ='PANEL DE CONTROL DISTRITAL'!A18 -> 4 | B19: ='PANEL DE CONTROL DISTRITAL'!B18 -> CONCILIACIÓN | C19: ='PANEL DE CONTROL DISTRITAL'!C18 -> Responsable de Módulo | D19: ='PANEL DE CONTROL DISTRITAL'!D18 -> Credenciales disponibles para entrega = | E19: ='PANEL DE CONTROL DISTRITAL'!E18 -> ((Credenciales recibidas - Credenciales inconsistentes) / Credenciales recibidas) x 100 | F19: ='PANEL DE CONTROL DISTRITAL'!F18 -> Semanal (remesa) | G19: ='PANEL DE CONTROL DISTRITAL'!G18 -> 0.9 | H19: ='PANEL DE CONTROL DISTRITAL'!H18 -> Credenciales Recibidas - Credenciales inconsistentes | I19: 112 | J19: 719 | K19: 687 | L19: 604 | M19: 727 | N19: 745 | O19: 741 | P19: 792 | Q19: 739 | R19: 594 | S19: 769 | T19: 921 | U19: 803 | V19: 928 | W19: 1587 | X19: 778 | Y19: 624 | Z19: 790 | AA19: 993 | AB19: 2029 | AC19: 1301 | AD19: 338 | AE19: =IFERROR(SUM(I19:AD19)/SUM(I20:AD20),0) -> 1
H20: ='PANEL DE CONTROL DISTRITAL'!H19 -> Credenciales recibidas | I20: 112 | J20: 719 | K20: 687 | L20: 604 | M20: 727 | N20: 745 | O20: 741 | P20: 792 | Q20: 739 | R20: 594 | S20: 769 | T20: 921 | U20: 803 | V20: 928 | W20: 1587 | X20: 778 | Y20: 624 | Z20: 790 | AA20: 993 | AB20: 2029 | AC20: 1301 | AD20: 338
A22: ='PANEL DE CONTROL DISTRITAL'!A21 -> 5 | B22: ='PANEL DE CONTROL DISTRITAL'!B21 -> CONCILIACIÓN | C22: ='PANEL DE CONTROL DISTRITAL'!C21 -> Responsable de Módulo | D22: ='PANEL DE CONTROL DISTRITAL'!D21 -> Credenciales disponibles para entrega = | E22: ='PANEL DE CONTROL DISTRITAL'!E21 -> (Credenciales en resguardo / Credenciales totales en SIIRFE disponibles para entrega) x 100 | F22: ='PANEL DE CONTROL DISTRITAL'!F21 -> Semanal (remesa) | G22: ='PANEL DE CONTROL DISTRITAL'!G21 -> 1 | H22: ='PANEL DE CONTROL DISTRITAL'!H21 -> Credenciales en resguardo | I22: 1518 | J22: 1512 | K22: 1537 | L22: 1361 | M22: 1446 | N22: 1468 | O22: 1492 | P22: 1515 | Q22: 1480 | R22: 1632 | S22: 1491 | T22: 1607 | U22: 1597 | V22: 1718 | W22: 2299 | X22: 1862 | Y22: 1437 | Z22: 1325 | AA22: 1406 | AB22: 2221 | AC22: 1968 | AD22: 1997 | AE22: =IFERROR(SUM(I22:AD22)/SUM(I23:AD23),0) -> 1
H23: ='PANEL DE CONTROL DISTRITAL'!H22 -> Credenciales totales en SIIRFE disponibles para entrega | I23: 1518 | J23: 1512 | K23: 1537 | L23: 1361 | M23: 1446 | N23: 1468 | O23: 1492 | P23: 1515 | Q23: 1480 | R23: 1632 | S23: 1491 | T23: 1607 | U23: 1597 | V23: 1718 | W23: 2299 | X23: 1862 | Y23: 1437 | Z23: 1325 | AA23: 1406 | AB23: 2221 | AC23: 1968 | AD23: 1997
A25: ='PANEL DE CONTROL DISTRITAL'!A24 -> 6 | B25: ='PANEL DE CONTROL DISTRITAL'!B24 -> ENTREGA | C25: ='PANEL DE CONTROL DISTRITAL'!C24 -> Operador de Equipo Tecnológico | D25: ='PANEL DE CONTROL DISTRITAL'!D24 -> Efectividad de entrega de CPV en MAC = | E25: ='PANEL DE CONTROL DISTRITAL'!E24 -> (Total de credenciales entregadas / Total de credenciales solicitadas) x 100 | F25: ='PANEL DE CONTROL DISTRITAL'!F24 -> Semanal (remesa) | G25: ='PANEL DE CONTROL DISTRITAL'!G24 -> 0.9 | H25: ='PANEL DE CONTROL DISTRITAL'!H24 -> Total de credenciales entregadas | I25: 181 | J25: 693 | K25: 650 | L25: 780 | M25: 642 | N25: 715 | O25: 716 | P25: 769 | Q25: 774 | R25: 442 | S25: 900 | T25: 805 | U25: 813 | V25: 813 | W25: 805 | X25: 1204 | Y25: 1049 | Z25: 902 | AA25: 912 | AB25: 1214 | AC25: 1541 | AD25: 140 | AE25: =IFERROR(SUM(I25:AD25)/SUM(I26:AD26),0) -> 0.99988547
H26: ='PANEL DE CONTROL DISTRITAL'!H25 -> Total de credenciales solicitadas | I26: 181 | J26: 695 | K26: 650 | L26: 780 | M26: 642 | N26: 715 | O26: 716 | P26: 769 | Q26: 774 | R26: 442 | S26: 900 | T26: 805 | U26: 813 | V26: 813 | W26: 805 | X26: 1204 | Y26: 1049 | Z26: 902 | AA26: 912 | AB26: 1214 | AC26: 1541 | AD26: 140
B27: *Registre el valor nominal solicitado en la celda, el resultado proporcional esta automatizado.
I29: Semaforización
J30: Valor que requiere atención y justificación en el apartado de observaciones
J31: Valor suficiente
J32: Valor esperado
B34: CUADRO DE OBSERVACIONES
B35: Descripción | H35: No conformidad

Sheet 150951
A1: ='PANEL DE CONTROL DISTRITAL'!A1:Q1 -> INSTITUTO NACIONAL ELECTORAL SISTEMA DE GESTIÓN DE LA CALIDAD ESTADO DE MÉXICO
D2: Distrito | E2: 9 | F2: Módulo | H2: 150951 | X2: ='PANEL DE CONTROL DISTRITAL'!M2 -> Fecha de corte: 22/01/2024
A4: TABLERO DE CONTROL DE PROCESOS SUSTANTIVOS DEL SISTEMA DE GESTIÓN DE LA CALIDAD
A6: ='PANEL DE CONTROL DISTRITAL'!A6 -> Número | B6: ='PANEL DE CONTROL DISTRITAL'!B6 -> PROCESOS SUSTANTIVOS E INDICADORES | I6: SEMANA OPERATIVA | AE6: % AVANCE REGISTRADO
B7: ='PANEL DE CONTROL DISTRITAL'!B7 -> DESCRIPCIÓN | E7: ='PANEL DE CONTROL DISTRITAL'!E7 -> MEDICIÓN | I7: ='PANEL DE CONTROL DISTRITAL'!A5 -> CAMPAÑA ANUAL INTENSA 2023
B9: ='PANEL DE CONTROL DISTRITAL'!B8 -> Proceso | C9: ='PANEL DE CONTROL DISTRITAL'!C8 -> Dueño de Proceso | D9: ='PANEL DE CONTROL DISTRITAL'!D8 -> Indicador | E9: ='PANEL DE CONTROL DISTRITAL'!E8 -> Cálculo | F9: ='PANEL DE CONTROL DISTRITAL'!F8 -> Periodo | G9: ='PANEL DE CONTROL DISTRITAL'!G8 -> Estimado | H9: ='PANEL DE CONTROL DISTRITAL'!H8 -> Nominativo | I9: ='150151'!I9 -> 2023-37 | J9: ='150151'!J9 -> 2023-38 | K9: ='150151'!K9 -> 2023-39 | L9: ='150151'!L9 -> 2023-40 | M9: ='150151'!M9 -> 2023-41 | N9: ='150151'!N9 -> 2023-42 | O9: ='150151'!O9 -> 2023-43 | P9: ='150151'!P9 -> 2023-44 | ... X9: ='150151'!X9 -> 2023-52 | Y9: 2023-53 | Z9: 2023-54 | AA9: 2024-01 | AB9: 2024-02 | AC9: 2024-03 | AD9: 2024-04
A10: ='PANEL DE CONTROL DISTRITAL'!A9 -> 1 | B10: ='PANEL DE CONTROL DISTRITAL'!B9 -> ENTREVISTA | C10: ='PANEL DE CONTROL DISTRITAL'!C9 -> Auxiliar de Atención Ciudadana | D10: ='PANEL DE CONTROL DISTRITAL'!D9 -> Efectividad de la entrevista = | E10: ='PANEL DE CONTROL DISTRITAL'!E9 -> (Número de trámites aplicados / (Número de fichas requisitadas - Notificaciones de improcedencia de trámite)) x 100 | F10: ='PANEL DE CONTROL DISTRITAL'!F9 -> Semanal (remesa) | G10: ='PANEL DE CONTROL DISTRITAL'!G9 -> 0.9 | H10: ='PANEL DE CONTROL DISTRITAL'!H9 -> Número de trámites aplicados | I10: 60 | J10: 274 | K10: 290 | L10: 329 | M10: 319 | N10: 334 | O10: 340 | P10: 337 | Q10: 306 | R10: 257 | S10: 360 | T10: 369 | U10: 371 | V10: 519 | W10: 503 | X10: 499 | Y10: 460 | Z10: 439 | AA10: 544 | AB10: 745 | AC10: 1055 | AD10: 325 | AE10: =IFERROR(SUM(I10:AD10)/SUM(I11:AD11),0) -> 1
H11: ='PANEL DE CONTROL DISTRITAL'!H10 -> Número de fichas requisitadas - Notificaciones de improcedencia de trámite | I11: 60 | J11: 274 | K11: 290 | L11: 329 | M11: 319 | N11: 334 | O11: 340 | P11: 337 | Q11: 306 | R11: 257 | S11: 360 | T11: 369 | U11: 371 | V11: 519 | W11: 503 | X11: 499 | Y11: 460 | Z11: 439 | AA11: 544 | AB11: 745 | AC11: 1055 | AD11: 325
A13: ='PANEL DE CONTROL DISTRITAL'!A12 -> 2 | B13: ='PANEL DE CONTROL DISTRITAL'!B12 -> TRÁMITE | C13: ='PANEL DE CONTROL DISTRITAL'!C12 -> Operador de Equipo Tecnológico | D13: ='PANEL DE CONTROL DISTRITAL'!D12 -> Trámites exitosos efectivos= | E13: ='PANEL DE CONTROL DISTRITAL'!E12 -> (Número de trámites exitosos / Número de trámites aplicados) x 100 | F13: ='PANEL DE CONTROL DISTRITAL'!F12 -> Semanal (remesa) | G13: ='PANEL DE CONTROL DISTRITAL'!G12 -> 0.9 | H13: ='PANEL DE CONTROL DISTRITAL'!H12 -> Número de trámites exitosos | I13: 60 | J13: 273 | K13: 290 | L13: 329 | M13: 316 | N13: 334 | O13: 338 | P13: 336 | Q13: 304 | R13: 255 | S13: 360 | T13: 368 | U13: 371 | V13: 518 | W13: 502 | X13: 498 | Y13: 455 | Z13: 439 | AA13: 543 | AB13: 744 | AC13: 1052 | AD13: 324 | AE13: =IFERROR(SUM(I13:AD13)/SUM(I14:AD14),0) -> 0.9971223
H14: ='PANEL DE CONTROL DISTRITAL'!H13 -> Número de trámites aplicados | I14: 60 | J14: 274 | K14: 290 | L14: 329 | M14: 319 | N14: 334 | O14: 340 | P14: 337 | Q14: 306 | R14: 257 | S14: 360 | T14: 369 | U14: 371 | V14: 519 | W14: 503 | X14: 499 | Y14: 460 | Z14: 439 | AA14: 544 | AB14: 745 | AC14: 1055 | AD14: 325
A16: ='PANEL DE CONTROL DISTRITAL'!A15 -> 3 | B16: ='PANEL DE CONTROL DISTRITAL'!B15 -> TRANSFERENCIA | C16: ='PANEL DE CONTROL DISTRITAL'!C15 -> Responsable de Módulo | D16: ='PANEL DE CONTROL DISTRITAL'!D15 -> Transacciones exitosas = | E16: ='PANEL DE CONTROL DISTRITAL'!E15 -> (Número de Archivos de Transacción aceptados /Total de Archivos de Transacción procesados) x100 | F16: ='PANEL DE CONTROL DISTRITAL'!F15 -> Semanal (remesa) | G16: ='PANEL DE CONTROL DISTRITAL'!G15 -> 0.9 | H16: ='PANEL DE CONTROL DISTRITAL'!H15 -> Número de Archivos de Transacción aceptados | I16: 60 | J16: 274 | K16: 290 | L16: 329 | M16: 319 | N16: 334 | O16: 340 | P16: 337 | Q16: 306 | R16: 257 | S16: 360 | T16: 369 | U16: 371 | V16: 519 | W16: 503 | X16: 499 | Y16: 460 | Z16: 439 | AA16: 544 | AB16: 745 | AC16: 1055 | AD16: 325 | AE16: =IFERROR(SUM(I16:AD16)/SUM(I17:AD17),0) -> 1
H17: ='PANEL DE CONTROL DISTRITAL'!H16 -> Total de Archivos de Transacción procesados | I17: 60 | J17: 274 | K17: 290 | L17: 329 | M17: 319 | N17: 334 | O17: 340 | P17: 337 | Q17: 306 | R17: 257 | S17: 360 | T17: 369 | U17: 371 | V17: 519 | W17: 503 | X17: 499 | Y17: 460 | Z17: 439 | AA17: 544 | AB17: 745 | AC17: 1055 | AD17: 325
A19: ='PANEL DE CONTROL DISTRITAL'!A18 -> 4 | B19: ='PANEL DE CONTROL DISTRITAL'!B18 -> CONCILIACIÓN | C19: ='PANEL DE CONTROL DISTRITAL'!C18 -> Responsable de Módulo | D19: ='PANEL DE CONTROL DISTRITAL'!D18 -> Credenciales disponibles para entrega = | E19: ='PANEL DE CONTROL DISTRITAL'!E18 -> ((Credenciales recibidas - Credenciales inconsistentes) / Credenciales recibidas) x 100 | F19: ='PANEL DE CONTROL DISTRITAL'!F18 -> Semanal (remesa) | G19: ='PANEL DE CONTROL DISTRITAL'!G18 -> 0.9 | H19: ='PANEL DE CONTROL DISTRITAL'!H18 -> Credenciales Recibidas - Credenciales inconsistentes | I19: 0 | J19: 336 | K19: 186 | L19: 413 | M19: 254 | N19: 273 | O19: 366 | P19: 381 | Q19: 393 | R19: 199 | S19: 250 | T19: 469 | U19: 330 | V19: 244 | W19: 666 | X19: 659 | Y19: 337 | Z19: 239 | AA19: 358 | AB19: 808 | AC19: 666 | AD19: 0 | AE19: =IFERROR(SUM(I19:AD19)/SUM(I20:AD20),0) -> 1
H20: ='PANEL DE CONTROL DISTRITAL'!H19 -> Credenciales recibidas | I20: 0 | J20: 336 | K20: 186 | L20: 413 | M20: 254 | N20: 273 | O20: 366 | P20: 381 | Q20: 393 | R20: 199 | S20: 250 | T20: 469 | U20: 330 | V20: 244 | W20: 666 | X20: 659 | Y20: 337 | Z20: 239 | AA20: 358 | AB20: 808 | AC20: 666 | AD20: 0
A22: ='PANEL DE CONTROL DISTRITAL'!A21 -> 5 | B22: ='PANEL DE CONTROL DISTRITAL'!B21 -> CONCILIACIÓN | C22: ='PANEL DE CONTROL DISTRITAL'!C21 -> Responsable de Módulo | D22: ='PANEL DE CONTROL DISTRITAL'!D21 -> Credenciales disponibles para entrega = | E22: ='PANEL DE CONTROL DISTRITAL'!E21 -> (Credenciales en resguardo / Credenciales totales en SIIRFE disponibles para entrega) x 100 | F22: ='PANEL DE CONTROL DISTRITAL'!F21 -> Semanal (remesa) | G22: ='PANEL DE CONTROL DISTRITAL'!G21 -> 1 | H22: ='PANEL DE CONTROL DISTRITAL'!H21 -> Credenciales en resguardo | I22: 836 | J22: 827 | K22: 714 | L22: 798 | M22: 746 | N22: 695 | O22: 724 | P22: 772 | Q22: 829 | R22: 739 | S22: 652 | T22: 809 | U22: 798 | V22: 647 | W22: 957 | X22: 1.065 | Y22: 846 | Z22: 607 | AA22: 607 | AB22: 632 | AC22: 916 | AD22: 1061 | AE22: =IFERROR(SUM(I22:AD22)/SUM(I23:AD23),0) -> 1
H23: ='PANEL DE CONTROL DISTRITAL'!H22 -> Credenciales totales en SIIRFE disponibles para entrega | I23: 836 | J23: 827 | K23: 714 | L23: 798 | M23: 746 | N23: 695 | O23: 724 | P23: 772 | Q23: 829 | R23: 739 | S23: 652 | T23: 809 | U23: 798 | V23: 647 | W23: 957 | X23: 1.065 | Y23: 846 | Z23: 607 | AA23: 607 | AB23: 632 | AC23: 916 | AD23: 1061
A25: ='PANEL DE CONTROL DISTRITAL'!A24 -> 6 | B25: ='PANEL DE CONTROL DISTRITAL'!B24 -> ENTREGA | C25: ='PANEL DE CONTROL DISTRITAL'!C24 -> Operador de Equipo Tecnológico | D25: ='PANEL DE CONTROL DISTRITAL'!D24 -> Efectividad de entrega de CPV en MAC = | E25: ='PANEL DE CONTROL DISTRITAL'!E24 -> (Total de credenciales entregadas / Total de credenciales solicitadas) x 100 | F25: ='PANEL DE CONTROL DISTRITAL'!F24 -> Semanal (remesa) | G25: ='PANEL DE CONTROL DISTRITAL'!G24 -> 0.9 | H25: ='PANEL DE CONTROL DISTRITAL'!H24 -> Total de credenciales entregadas | I25: 88 | J25: 345 | K25: 287 | L25: 329 | M25: 306 | N25: 307 | O25: 337 | P25: 333 | Q25: 336 | R25: 289 | S25: 334 | T25: 312 | U25: 341 | V25: 395 | W25: 356 | X25: 547 | Y25: 556 | Z25: 478 | AA25: 333 | AB25: 524 | AC25: 516 | AD25: 75 | AE25: =IFERROR(SUM(I25:AD25)/SUM(I26:AD26),0) -> 0.99831976
H26: ='PANEL DE CONTROL DISTRITAL'!H25 -> Total de credenciales solicitadas | I26: 88 | J26: 345 | K26: 287 | L26: 329 | M26: 306 | N26: 311 | O26: 339 | P26: 335 | Q26: 337 | R26: 289 | S26: 335 | T26: 312 | U26: 342 | V26: 395 | W26: 356 | X26: 547 | Y26: 556 | Z26: 478 | AA26: 333 | AB26: 524 | AC26: 518 | AD26: 75
B27: *Registre el valor nominal solicitado en la celda, el resultado proporcional esta automatizado.
I29: Semaforización
J30: Valor que requiere atención y justificación en el apartado de observaciones
J31: Valor suficiente
J32: Valor esperado
B34: CUADRO DE OBSERVACIONES
B35: Descripción | H35: No conformidad

Sheet 150952
A1: ='PANEL DE CONTROL DISTRITAL'!A1:Q1 -> INSTITUTO NACIONAL ELECTORAL SISTEMA DE GESTIÓN DE LA CALIDAD ESTADO DE MÉXICO
D2: Distrito | E2: 9 | F2: Módulo | H2: 150952 | X2: ='PANEL DE CONTROL DISTRITAL'!M2 -> Fecha de corte: 22/01/2024
A4: TABLERO DE CONTROL DE PROCESOS SUSTANTIVOS DEL SISTEMA DE GESTIÓN DE LA CALIDAD
A6: ='PANEL DE CONTROL DISTRITAL'!A6 -> Número | B6: ='PANEL DE CONTROL DISTRITAL'!B6 -> PROCESOS SUSTANTIVOS E INDICADORES | I6: SEMANA OPERATIVA | AE6: % AVANCE REGISTRADO
B7: ='PANEL DE CONTROL DISTRITAL'!B7 -> DESCRIPCIÓN | E7: ='PANEL DE CONTROL DISTRITAL'!E7 -> MEDICIÓN | I7: ='PANEL DE CONTROL DISTRITAL'!A5 -> CAMPAÑA ANUAL INTENSA 2023
B9: ='PANEL DE CONTROL DISTRITAL'!B8 -> Proceso | C9: ='PANEL DE CONTROL DISTRITAL'!C8 -> Dueño de Proceso | D9: ='PANEL DE CONTROL DISTRITAL'!D8 -> Indicador | E9: ='PANEL DE CONTROL DISTRITAL'!E8 -> Cálculo | F9: ='PANEL DE CONTROL DISTRITAL'!F8 -> Periodo | G9: ='PANEL DE CONTROL DISTRITAL'!G8 -> Estimado | H9: ='PANEL DE CONTROL DISTRITAL'!H8 -> Nominativo | I9: ='150151'!I9 -> 2023-37 | J9: ='150151'!J9 -> 2023-38 | K9: ='150151'!K9 -> 2023-39 | L9: ='150151'!L9 -> 2023-40 | M9: ='150151'!M9 -> 2023-41 | N9: ='150151'!N9 -> 2023-42 | O9: ='150151'!O9 -> 2023-43 | P9: ='150151'!P9 -> 2023-44 | ... X9: ='150151'!X9 -> 2023-52 | Y9: 2023-53 | Z9: 2023-54 | AA9: 2024-01 | AB9: 2024-02 | AC9: 2024-03 | AD9: 2024-04
A10: ='PANEL DE CONTROL DISTRITAL'!A9 -> 1 | B10: ='PANEL DE CONTROL DISTRITAL'!B9 -> ENTREVISTA | C10: ='PANEL DE CONTROL DISTRITAL'!C9 -> Auxiliar de Atención Ciudadana | D10: ='PANEL DE CONTROL DISTRITAL'!D9 -> Efectividad de la entrevista = | E10: ='PANEL DE CONTROL DISTRITAL'!E9 -> (Número de trámites aplicados / (Número de fichas requisitadas - Notificaciones de improcedencia de trámite)) x 100 | F10: ='PANEL DE CONTROL DISTRITAL'!F9 -> Semanal (remesa) | G10: ='PANEL DE CONTROL DISTRITAL'!G9 -> 0.9 | H10: ='PANEL DE CONTROL DISTRITAL'!H9 -> Número de trámites aplicados | I10: 47 | J10: 229 | K10: 171 | L10: 215 | M10: 267 | N10: 240 | O10: 267 | P10: 250 | Q10: 284 | R10: 220 | S10: 279 | T10: 333 | U10: 347 | V10: 626 | W10: 604 | X10: 567 | Y10: 511 | Z10: 440 | AA10: 519 | AB10: 708 | AC10: 993 | AD10: 243 | AE10: =IFERROR(SUM(I10:AD10)/SUM(I11:AD11),0) -> 1
H11: ='PANEL DE CONTROL DISTRITAL'!H10 -> Número de fichas requisitadas - Notificaciones de improcedencia de trámite | I11: 47 | J11: 229 | K11: 171 | L11: 215 | M11: 267 | N11: 240 | O11: 267 | P11: 250 | Q11: 284 | R11: 220 | S11: 279 | T11: 333 | U11: 347 | V11: 626 | W11: 604 | X11: 567 | Y11: 511 | Z11: 440 | AA11: 519 | AB11: 708 | AC11: 993 | AD11: 243
A13: ='PANEL DE CONTROL DISTRITAL'!A12 -> 2 | B13: ='PANEL DE CONTROL DISTRITAL'!B12 -> TRÁMITE | C13: ='PANEL DE CONTROL DISTRITAL'!C12 -> Operador de Equipo Tecnológico | D13: ='PANEL DE CONTROL DISTRITAL'!D12 -> Trámites exitosos efectivos= | E13: ='PANEL DE CONTROL DISTRITAL'!E12 -> (Número de trámites exitosos / Número de trámites aplicados) x 100 | F13: ='PANEL DE CONTROL DISTRITAL'!F12 -> Semanal (remesa) | G13: ='PANEL DE CONTROL DISTRITAL'!G12 -> 0.9 | H13: ='PANEL DE CONTROL DISTRITAL'!H12 -> Número de trámites exitosos | I13: 47 | J13: 229 | K13: 171 | L13: 214 | M13: 265 | N13: 240 | O13: 267 | P13: 250 | Q13: 282 | R13: 219 | S13: 278 | T13: 333 | U13: 346 | V13: 625 | W13: 600 | X13: 566 | Y13: 510 | Z13: 438 | AA13: 519 | AB13: 705 | AC13: 988 | AD13: 243 | AE13: =IFERROR(SUM(I13:AD13)/SUM(I14:AD14),0) -> 0.99700957
H14: ='PANEL DE CONTROL DISTRITAL'!H13 -> Número de trámites aplicados | I14: 47 | J14: 229 | K14: 171 | L14: 215 | M14: 267 | N14: 240 | O14: 267 | P14: 250 | Q14: 284 | R14: 220 | S14: 279 | T14: 333 | U14: 347 | V14: 626 | W14: 604 | X14: 567 | Y14: 511 | Z14: 440 | AA14: 519 | AB14: 708 | AC14: 993 | AD14: 243
A16: ='PANEL DE CONTROL DISTRITAL'!A15 -> 3 | B16: ='PANEL DE CONTROL DISTRITAL'!B15 -> TRANSFERENCIA | C16: ='PANEL DE CONTROL DISTRITAL'!C15 -> Responsable de Módulo | D16: ='PANEL DE CONTROL DISTRITAL'!D15 -> Transacciones exitosas = | E16: ='PANEL DE CONTROL DISTRITAL'!E15 -> (Número de Archivos de Transacción aceptados /Total de Archivos de Transacción procesados) x100 | F16: ='PANEL DE CONTROL DISTRITAL'!F15 -> Semanal (remesa) | G16: ='PANEL DE CONTROL DISTRITAL'!G15 -> 0.9 | H16: ='PANEL DE CONTROL DISTRITAL'!H15 -> Número de Archivos de Transacción aceptados | I16: 47 | J16: 229 | K16: 171 | L16: 215 | M16: 267 | N16: 240 | O16: 267 | P16: 250 | Q16: 284 | R16: 220 | S16: 279 | T16: 333 | U16: 347 | V16: 626 | W16: 604 | X16: 567 | Y16: 511 | Z16: 440 | AA16: 519 | AB16: 708 | AC16: 993 | AD16: 243 | AE16: =IFERROR(SUM(I16:AD16)/SUM(I17:AD17),0) -> 1
H17: ='PANEL DE CONTROL DISTRITAL'!H16 -> Total de Archivos de Transacción procesados | I17: 47 | J17: 229 | K17: 171 | L17: 215 | M17: 267 | N17: 240 | O17: 267 | P17: 250 | Q17: 284 | R17: 220 | S17: 279 | T17: 333 | U17: 347 | V17: 626 | W17: 604 | X17: 567 | Y17: 511 | Z17: 440 | AA17: 519 | AB17: 708 | AC17: 993 | AD17: 243
A19: ='PANEL DE CONTROL DISTRITAL'!A18 -> 4 | B19: ='PANEL DE CONTROL DISTRITAL'!B18 -> CONCILIACIÓN | C19: ='PANEL DE CONTROL DISTRITAL'!C18 -> Responsable de Módulo | D19: ='PANEL DE CONTROL DISTRITAL'!D18 -> Credenciales disponibles para entrega = | E19: ='PANEL DE CONTROL DISTRITAL'!E18 -> ((Credenciales recibidas - Credenciales inconsistentes) / Credenciales recibidas) x 100 | F19: ='PANEL DE CONTROL DISTRITAL'!F18 -> Semanal (remesa) | G19: ='PANEL DE CONTROL DISTRITAL'!G18 -> 0.9 | H19: ='PANEL DE CONTROL DISTRITAL'!H18 -> Credenciales Recibidas - Credenciales inconsistentes | I19: 102 | J19: 213 | K19: 127 | L19: 234 | M19: 251 | N19: 270 | O19: 259 | P19: 214 | Q19: 302 | R19: 273 | S19: 236 | T19: 275 | U19: 272 | V19: 208 | W19: 796 | X19: 399 | Y19: 886 | Z19: 134 | AA19: 238 | AB19: 691 | AC19: 939 | AD19: 0 | AE19: =IFERROR(SUM(I19:AD19)/SUM(I20:AD20),0) -> 1
H20: ='PANEL DE CONTROL DISTRITAL'!H19 -> Credenciales recibidas | I20: 102 | J20: 213 | K20: 127 | L20: 234 | M20: 251 | N20: 270 | O20: 259 | P20: 214 | Q20: 302 | R20: 273 | S20: 236 | T20: 275 | U20: 272 | V20: 208 | W20: 796 | X20: 399 | Y20: 886 | Z20: 134 | AA20: 238 | AB20: 691 | AC20: 939 | AD20: 0
A22: ='PANEL DE CONTROL DISTRITAL'!A21 -> 5 | B22: ='PANEL DE CONTROL DISTRITAL'!B21 -> CONCILIACIÓN | C22: ='PANEL DE CONTROL DISTRITAL'!C21 -> Responsable de Módulo | D22: ='PANEL DE CONTROL DISTRITAL'!D21 -> Credenciales disponibles para entrega = | E22: ='PANEL DE CONTROL DISTRITAL'!E21 -> (Credenciales en resguardo / Credenciales totales en SIIRFE disponibles para entrega) x 100 | F22: ='PANEL DE CONTROL DISTRITAL'!F21 -> Semanal (remesa) | G22: ='PANEL DE CONTROL DISTRITAL'!G21 -> 1 | H22: ='PANEL DE CONTROL DISTRITAL'!H21 -> Credenciales en resguardo | I22: 606 | J22: 572 | K22: 479 | L22: 494 | M22: 510 | N22: 534 | O22: 541 | P22: 542 | Q22: 581 | R22: 623 | S22: 563 | T22: 569 | U22: 509 | V22: 408 | W22: 677 | X22: 579 | Y22: 964 | Z22: 527 | AA22: 429 | AB22: 580 | AC22: 806 | AD22: 647 | AE22: =IFERROR(SUM(I22:AD22)/SUM(I23:AD23),0) -> 1
H23: ='PANEL DE CONTROL DISTRITAL'!H22 -> Credenciales totales en SIIRFE disponibles para entrega | I23: 606 | J23: 572 | K23: 479 | L23: 494 | M23: 510 | N23: 534 | O23: 541 | P23: 542 | Q23: 581 | R23: 623 | S23: 563 | T23: 569 | U23: 509 | V23: 408 | W23: 677 | X23: 579 | Y23: 964 | Z23: 527 | AA23: 429 | AB23: 580 | AC23: 806 | AD23: 647
A25: ='PANEL DE CONTROL DISTRITAL'!A24 -> 6 | B25: ='PANEL DE CONTROL DISTRITAL'!B24 -> ENTREGA | C25: ='PANEL DE CONTROL DISTRITAL'!C24 -> Operador de Equipo Tecnológico | D25: ='PANEL DE CONTROL DISTRITAL'!D24 -> Efectividad de entrega de CPV en MAC = | E25: ='PANEL DE CONTROL DISTRITAL'!E24 -> (Total de credenciales entregadas / Total de credenciales solicitadas) x 100 | F25: ='PANEL DE CONTROL DISTRITAL'!F24 -> Semanal (remesa) | G25: ='PANEL DE CONTROL DISTRITAL'!G24 -> 0.9 | H25: ='PANEL DE CONTROL DISTRITAL'!H24 -> Total de credenciales entregadas | I25: 68 | J25: 247 | K25: 216 | L25: 219 | M25: 234 | N25: 245 | O25: 252 | P25: 213 | Q25: 263 | R25: 231 | S25: 293 | T25: 269 | U25: 332 | V25: 309 | W25: 527 | X25: 496 | Y25: 501 | Z25: 571 | AA25: 336 | AB25: 540 | AC25: 709 | AD25: 159 | AE25: =IFERROR(SUM(I25:AD25)/SUM(I26:AD26),0) -> 0.99299547
H26: ='PANEL DE CONTROL DISTRITAL'!H25 -> Total de credenciales solicitadas | I26: 69 | J26: 247 | K26: 216 | L26: 219 | M26: 235 | N26: 250 | O26: 260 | P26: 218 | Q26: 263 | R26: 231 | S26: 293 | T26: 269 | U26: 333 | V26: 339 | W26: 527 | X26: 496 | Y26: 501 | Z26: 571 | AA26: 336 | AB26: 540 | AC26: 709 | AD26: 159
B27: *Registre el valor nominal solicitado en la celda, el resultado proporcional esta automatizado.
I29: Semaforización
J30: Valor que requiere atención y justificación en el apartado de observaciones
J31: Valor suficiente
J32: Valor esperado
B34: CUADRO DE OBSERVACIONES
B35: Descripción | H35: No conformidad

Sheet 150953
A1: ='PANEL DE CONTROL DISTRITAL'!A1:Q1 -> INSTITUTO NACIONAL ELECTORAL SISTEMA DE GESTIÓN DE LA CALIDAD ESTADO DE MÉXICO
D2: Distrito | E2: 9 | F2: Módulo | H2: 150953 | X2: ='PANEL DE CONTROL DISTRITAL'!M2 -> Fecha de corte: 22/01/2024
A4: TABLERO DE CONTROL DE PROCESOS SUSTANTIVOS DEL SISTEMA DE GESTIÓN DE LA CALIDAD
A6: ='PANEL DE CONTROL DISTRITAL'!A6 -> Número | B6: ='PANEL DE CONTROL DISTRITAL'!B6 -> PROCESOS SUSTANTIVOS E INDICADORES | I6: SEMANA OPERATIVA | AE6: % AVANCE REGISTRADO
B7: ='PANEL DE CONTROL DISTRITAL'!B7 -> DESCRIPCIÓN | E7: ='PANEL DE CONTROL DISTRITAL'!E7 -> MEDICIÓN | I7: ='PANEL DE CONTROL DISTRITAL'!A5 -> CAMPAÑA ANUAL INTENSA 2023
B9: ='PANEL DE CONTROL DISTRITAL'!B8 -> Proceso | C9: ='PANEL DE CONTROL DISTRITAL'!C8 -> Dueño de Proceso | D9: ='PANEL DE CONTROL DISTRITAL'!D8 -> Indicador | E9: ='PANEL DE CONTROL DISTRITAL'!E8 -> Cálculo | F9: ='PANEL DE CONTROL DISTRITAL'!F8 -> Periodo | G9: ='PANEL DE CONTROL DISTRITAL'!G8 -> Estimado | H9: ='PANEL DE CONTROL DISTRITAL'!H8 -> Nominativo | I9: ='150151'!I9 -> 2023-37 | J9: ='150151'!J9 -> 2023-38 | K9: ='150151'!K9 -> 2023-39 | L9: ='150151'!L9 -> 2023-40 | M9: ='150151'!M9 -> 2023-41 | N9: ='150151'!N9 -> 2023-42 | O9: ='150151'!O9 -> 2023-43 | P9: ='150151'!P9 -> 2023-44 | ... X9: ='150151'!X9 -> 2023-52 | Y9: 2023-53 | Z9: 2023-54 | AA9: 2024-01 | AB9: 2024-02 | AC9: 2024-03 | AD9: 2024-04
A10: ='PANEL DE CONTROL DISTRITAL'!A9 -> 1 | B10: ='PANEL DE CONTROL DISTRITAL'!B9 -> ENTREVISTA | C10: ='PANEL DE CONTROL DISTRITAL'!C9 -> Auxiliar de Atención Ciudadana | D10: ='PANEL DE CONTROL DISTRITAL'!D9 -> Efectividad de la entrevista = | E10: ='PANEL DE CONTROL DISTRITAL'!E9 -> (Número de trámites aplicados / (Número de fichas requisitadas - Notificaciones de improcedencia de trámite)) x 100 | F10: ='PANEL DE CONTROL DISTRITAL'!F9 -> Semanal (remesa) | G10: ='PANEL DE CONTROL DISTRITAL'!G9 -> 0.9 | H10: ='PANEL DE CONTROL DISTRITAL'!H9 -> Número de trámites aplicados | I10: 37 | J10: 262 | K10: 241 | L10: 300 | M10: 316 | N10: 301 | O10: 298 | P10: 325 | Q10: 264 | R10: 231 | S10: 298 | T10: 328 | U10: 285 | V10: 485 | W10: 484 | X10: 490 | Y10: 527 | Z10: 414 | AA10: 445 | AB10: 580 | AC10: 827 | AD10: 206 | AE10: =IFERROR(SUM(I10:AD10)/SUM(I11:AD11),0) -> 1
H11: ='PANEL DE CONTROL DISTRITAL'!H10 -> Número de fichas requisitadas - Notificaciones de improcedencia de trámite | I11: 37 | J11: 262 | K11: 241 | L11: 300 | M11: 316 | N11: 301 | O11: 298 | P11: 325 | Q11: 264 | R11: 231 | S11: 298 | T11: 328 | U11: 285 | V11: 485 | W11: 484 | X11: 490 | Y11: 527 | Z11: 414 | AA11: 445 | AB11: 580 | AC11: 827 | AD11: 206
A13: ='PANEL DE CONTROL DISTRITAL'!A12 -> 2 | B13: ='PANEL DE CONTROL DISTRITAL'!B12 -> TRÁMITE | C13: ='PANEL DE CONTROL DISTRITAL'!C12 -> Operador de Equipo Tecnológico | D13: ='PANEL DE CONTROL DISTRITAL'!D12 -> Trámites exitosos efectivos= | E13: ='PANEL DE CONTROL DISTRITAL'!E12 -> (Número de trámites exitosos / Número de trámites aplicados) x 100 | F13: ='PANEL DE CONTROL DISTRITAL'!F12 -> Semanal (remesa) | G13: ='PANEL DE CONTROL DISTRITAL'!G12 -> 0.9 | H13: ='PANEL DE CONTROL DISTRITAL'!H12 -> Número de trámites exitosos | I13: 36 | J13: 261 | K13: 241 | L13: 299 | M13: 316 | N13: 301 | O13: 297 | P13: 325 | Q13: 264 | R13: 229 | S13: 298 | T13: 328 | U13: 282 | V13: 485 | W13: 481 | X13: 490 | Y13: 527 | Z13: 413 | AA13: 442 | AB13: 577 | AC13: 821 | AD13: 205 | AE13: =IFERROR(SUM(I13:AD13)/SUM(I14:AD14),0) -> 0.99672709
H14: ='PANEL DE CONTROL DISTRITAL'!H13 -> Número de trámites aplicados | I14: 37 | J14: 262 | K14: 241 | L14: 300 | M14: 316 | N14: 301 | O14: 298 | P14: 325 | Q14: 264 | R14: 231 | S14: 298 | T14: 328 | U14: 285 | V14: 485 | W14: 484 | X14: 490 | Y14: 527 | Z14: 414 | AA14: 445 | AB14: 580 | AC14: 827 | AD14: 206
A16: ='PANEL DE CONTROL DISTRITAL'!A15 -> 3 | B16: ='PANEL DE CONTROL DISTRITAL'!B15 -> TRANSFERENCIA | C16: ='PANEL DE CONTROL DISTRITAL'!C15 -> Responsable de Módulo | D16: ='PANEL DE CONTROL DISTRITAL'!D15 -> Transacciones exitosas = | E16: ='PANEL DE CONTROL DISTRITAL'!E15 -> (Número de Archivos de Transacción aceptados /Total de Archivos de Transacción procesados) x100 | F16: ='PANEL DE CONTROL DISTRITAL'!F15 -> Semanal (remesa) | G16: ='PANEL DE CONTROL DISTRITAL'!G15 -> 0.9 | H16: ='PANEL DE CONTROL DISTRITAL'!H15 -> Número de Archivos de Transacción aceptados | I16: 37 | J16: 262 | K16: 241 | L16: 300 | M16: 316 | N16: 301 | O16: 298 | P16: 325 | Q16: 264 | R16: 231 | S16: 298 | T16: 328 | U16: 285 | V16: 485 | W16: 484 | X16: 490 | Y16: 527 | Z16: 414 | AA16: 445 | AB16: 580 | AC16: 827 | AD16: 206 | AE16: =IFERROR(SUM(I16:AD16)/SUM(I17:AD17),0) -> 1
H17: ='PANEL DE CONTROL DISTRITAL'!H16 -> Total de Archivos de Transacción procesados | I17: 37 | J17: 262 | K17: 241 | L17: 300 | M17: 316 | N17: 301 | O17: 298 | P17: 325 | Q17: 264 | R17: 231 | S17: 298 | T17: 328 | U17: 285 | V17: 485 | W17: 484 | X17: 490 | Y17: 527 | Z17: 414 | AA17: 445 | AB17: 580 | AC17: 827 | AD17: 206
A19: ='PANEL DE CONTROL DISTRITAL'!A18 -> 4 | B19: ='PANEL DE CONTROL DISTRITAL'!B18 -> CONCILIACIÓN | C19: ='PANEL DE CONTROL DISTRITAL'!C18 -> Responsable de Módulo | D19: ='PANEL DE CONTROL DISTRITAL'!D18 -> Credenciales disponibles para entrega = | E19: ='PANEL DE CONTROL DISTRITAL'!E18 -> ((Credenciales recibidas - Credenciales inconsistentes) / Credenciales recibidas) x 100 | F19: ='PANEL DE CONTROL DISTRITAL'!F18 -> Semanal (remesa) | G19: ='PANEL DE CONTROL DISTRITAL'!G18 -> 0.9 | H19: ='PANEL DE CONTROL DISTRITAL'!H18 -> Credenciales Recibidas - Credenciales inconsistentes | I19: 86 | J19: 223 | K19: 311 | L19: 268 | M19: 289 | N19: 316 | O19: 284 | P19: 241 | Q19: 369 | R19: 210 | S19: 315 | T19: 315 | U19: 310 | V19: 195 | W19: 501 | X19: 637 | Y19: 338 | Z19: 188 | AA19: 537 | AB19: 668 | AC19: 294 | AD19: 0 | AE19: =IFERROR(SUM(I19:AD19)/SUM(I20:AD20),0) -> 1
H20: ='PANEL DE CONTROL DISTRITAL'!H19 -> Credenciales recibidas | I20: 86 | J20: 223 | K20: 311 | L20: 268 | M20: 289 | N20: 316 | O20: 284 | P20: 241 | Q20: 369 | R20: 210 | S20: 315 | T20: 315 | U20: 310 | V20: 195 | W20: 501 | X20: 637 | Y20: 338 | Z20: 188 | AA20: 537 | AB20: 668 | AC20: 294 | AD20: 0
A22: ='PANEL DE CONTROL DISTRITAL'!A21 -> 5 | B22: ='PANEL DE CONTROL DISTRITAL'!B21 -> CONCILIACIÓN | C22: ='PANEL DE CONTROL DISTRITAL'!C21 -> Responsable de Módulo | D22: ='PANEL DE CONTROL DISTRITAL'!D21 -> Credenciales disponibles para entrega = | E22: ='PANEL DE CONTROL DISTRITAL'!E21 -> (Credenciales en resguardo / Credenciales totales en SIIRFE disponibles para entrega) x 100 | F22: ='PANEL DE CONTROL DISTRITAL'!F21 -> Semanal (remesa) | G22: ='PANEL DE CONTROL DISTRITAL'!G21 -> 1 | H22: ='PANEL DE CONTROL DISTRITAL'!H21 -> Credenciales en resguardo | I22: 816 | J22: 730 | K22: 776 | L22: 754 | M22: 780 | N22: 763 | O22: 723 | P22: 656 | Q22: 752 | R22: 685 | S22: 700 | T22: 736 | U22: 769 | V22: 630 | W22: 722 | X22: 853 | Y22: 719 | Z22: 474 | AA22: 554 | AB22: 728 | AC22: 467 | AD22: 382 | AE22: =IFERROR(SUM(I22:AD22)/SUM(I23:AD23),0) -> 1
H23: ='PANEL DE CONTROL DISTRITAL'!H22 -> Credenciales totales en SIIRFE disponibles para entrega | I23: 816 | J23: 730 | K23: 776 | L23: 754 | M23: 780 | N23: 763 | O23: 723 | P23: 656 | Q23: 752 | R23: 685 | S23: 700 | T23: 736 | U23: 769 | V23: 630 | W23: 722 | X23: 853 | Y23: 719 | Z23: 474 | AA23: 554 | AB23: 728 | AC23: 467 | AD23: 382
A25: ='PANEL DE CONTROL DISTRITAL'!A24 -> 6 | B25: ='PANEL DE CONTROL DISTRITAL'!B24 -> ENTREGA | C25: ='PANEL DE CONTROL DISTRITAL'!C24 -> Operador de Equipo Tecnológico | D25: ='PANEL DE CONTROL DISTRITAL'!D24 -> Efectividad de entrega de CPV en MAC = | E25: ='PANEL DE CONTROL DISTRITAL'!E24 -> (Total de credenciales entregadas / Total de credenciales solicitadas) x 100 | F25: ='PANEL DE CONTROL DISTRITAL'!F24 -> Semanal (remesa) | G25: ='PANEL DE CONTROL DISTRITAL'!G24 -> 0.9 | H25: ='PANEL DE CONTROL DISTRITAL'!H24 -> Total de credenciales entregadas | I25: 48 | J25: 308 | K25: 257 | L25: 290 | M25: 263 | N25: 294 | O25: 324 | P25: 308 | Q25: 273 | R25: 277 | S25: 297 | T25: 277 | U25: 277 | V25: 334 | W25: 409 | X25: 502 | Y25: 472 | Z25: 433 | AA25: 457 | AB25: 494 | AC25: 551 | AD25: 85 | AE25: =IFERROR(SUM(I25:AD25)/SUM(I26:AD26),0) -> 0.99930891
H26: ='PANEL DE CONTROL DISTRITAL'!H25 -> Total de credenciales solicitadas | I26: 48 | J26: 308 | K26: 259 | L26: 292 | M26: 263 | N26: 294 | O26: 325 | P26: 308 | Q26: 273 | R26: 277 | S26: 297 | T26: 277 | U26: 277 | V26: 334 | W26: 409 | X26: 502 | Y26: 472 | Z26: 433 | AA26: 457 | AB26: 494 | AC26: 551 | AD26: 85
B27: *Registre el valor nominal solicitado en la celda, el resultado proporcional esta automatizado.
I29: Semaforización
J30: Valor que requiere atención y justificación en el apartado de observaciones
J31: Valor suficiente
J32: Valor esperado
B34: CUADRO DE OBSERVACIONES
B35: Descripción | H35: No conformidad

Sheet 150954
A1: ='PANEL DE CONTROL DISTRITAL'!A1:Q1 -> INSTITUTO NACIONAL ELECTORAL SISTEMA DE GESTIÓN DE LA CALIDAD ESTADO DE MÉXICO
D2: Distrito | E2: 9 | F2: Módulo | H2: 150954 | X2: ='PANEL DE CONTROL DISTRITAL'!M2 -> Fecha de corte: 22/01/2024
A4: TABLERO DE CONTROL DE PROCESOS SUSTANTIVOS DEL SISTEMA DE GESTIÓN DE LA CALIDAD
A6: ='PANEL DE CONTROL DISTRITAL'!A6 -> Número | B6: ='PANEL DE CONTROL DISTRITAL'!B6 -> PROCESOS SUSTANTIVOS E INDICADORES | I6: SEMANA OPERATIVA | AE6: % AVANCE REGISTRADO
B7: ='PANEL DE CONTROL DISTRITAL'!B7 -> DESCRIPCIÓN | E7: ='PANEL DE CONTROL DISTRITAL'!E7 -> MEDICIÓN | I7: ='PANEL DE CONTROL DISTRITAL'!A5 -> CAMPAÑA ANUAL INTENSA 2023
B9: ='PANEL DE CONTROL DISTRITAL'!B8 -> Proceso | C9: ='PANEL DE CONTROL DISTRITAL'!C8 -> Dueño de Proceso | D9: ='PANEL DE CONTROL DISTRITAL'!D8 -> Indicador | E9: ='PANEL DE CONTROL DISTRITAL'!E8 -> Cálculo | F9: ='PANEL DE CONTROL DISTRITAL'!F8 -> Periodo | G9: ='PANEL DE CONTROL DISTRITAL'!G8 -> Estimado | H9: ='PANEL DE CONTROL DISTRITAL'!H8 -> Nominativo | I9: ='150151'!I9 -> 2023-37 | J9: ='150151'!J9 -> 2023-38 | K9: ='150151'!K9 -> 2023-39 | L9: ='150151'!L9 -> 2023-40 | M9: ='150151'!M9 -> 2023-41 | N9: ='150151'!N9 -> 2023-42 | O9: ='150151'!O9 -> 2023-43 | P9: ='150151'!P9 -> 2023-44 | ... X9: ='150151'!X9 -> 2023-52 | Y9: 2023-53 | Z9: 2023-54 | AA9: 2024-01 | AB9: 2024-02 | AC9: 2024-03 | AD9: 2024-04
A10: ='PANEL DE CONTROL DISTRITAL'!A9 -> 1 | B10: ='PANEL DE CONTROL DISTRITAL'!B9 -> ENTREVISTA | C10: ='PANEL DE CONTROL DISTRITAL'!C9 -> Auxiliar de Atención Ciudadana | D10: ='PANEL DE CONTROL DISTRITAL'!D9 -> Efectividad de la entrevista = | E10: ='PANEL DE CONTROL DISTRITAL'!E9 -> (Número de trámites aplicados / (Número de fichas requisitadas - Notificaciones de improcedencia de trámite)) x 100 | F10: ='PANEL DE CONTROL DISTRITAL'!F9 -> Semanal (remesa) | G10: ='PANEL DE CONTROL DISTRITAL'!G9 -> 0.9 | H10: ='PANEL DE CONTROL DISTRITAL'!H9 -> Número de trámites aplicados | I10: 18 | J10: 81 | K10: 137 | L10: 97 | M10: 94 | N10: 98 | O10: 98 | P10: 143 | Q10: 121 | R10: 71 | S10: 112 | T10: 73 | U10: 152 | V10: 303 | W10: 197 | X10: 315 | Y10: 149 | Z10: 162 | AA10: 223 | AB10: 269 | AC10: 553 | AD10: 119 | AE10: =IFERROR(SUM(I10:AD10)/SUM(I11:AD11),0) -> 1
H11: ='PANEL DE CONTROL DISTRITAL'!H10 -> Número de fichas requisitadas - Notificaciones de improcedencia de trámite | I11: 18 | J11: 81 | K11: 137 | L11: 97 | M11: 94 | N11: 98 | O11: 98 | P11: 143 | Q11: 121 | R11: 71 | S11: 112 | T11: 73 | U11: 152 | V11: 303 | W11: 197 | X11: 315 | Y11: 149 | Z11: 162 | AA11: 223 | AB11: 269 | AC11: 553 | AD11: 119
A13: ='PANEL DE CONTROL DISTRITAL'!A12 -> 2 | B13: ='PANEL DE CONTROL DISTRITAL'!B12 -> TRÁMITE | C13: ='PANEL DE CONTROL DISTRITAL'!C12 -> Operador de Equipo Tecnológico | D13: ='PANEL DE CONTROL DISTRITAL'!D12 -> Trámites exitosos efectivos= | E13: ='PANEL DE CONTROL DISTRITAL'!E12 -> (Número de trámites exitosos / Número de trámites aplicados) x 100 | F13: ='PANEL DE CONTROL DISTRITAL'!F12 -> Semanal (remesa) | G13: ='PANEL DE CONTROL DISTRITAL'!G12 -> 0.9 | H13: ='PANEL DE CONTROL DISTRITAL'!H12 -> Número de trámites exitosos | I13: 18 | J13: 81 | K13: 137 | L13: 97 | M13: 94 | N13: 98 | O13: 98 | P13: 143 | Q13: 121 | R13: 71 | S13: 112 | T13: 73 | U13: 152 | V13: 302 | W13: 197 | X13: 315 | Y13: 148 | Z13: 161 | AA13: 222 | AB13: 269 | AC13: 551 | AD13: 119 | AE13: =IFERROR(SUM(I13:AD13)/SUM(I14:AD14),0) -> 0.99832636
H14: ='PANEL DE CONTROL DISTRITAL'!H13 -> Número de trámites aplicados | I14: 18 | J14: 81 | K14: 137 | L14: 97 | M14: 94 | N14: 98 | O14: 98 | P14: 143 | Q14: 121 | R14: 71 | S14: 112 | T14: 73 | U14: 152 | V14: 303 | W14: 197 | X14: 315 | Y14: 149 | Z14: 162 | AA14: 223 | AB14: 269 | AC14: 553 | AD14: 119
A16: ='PANEL DE CONTROL DISTRITAL'!A15 -> 3 | B16: ='PANEL DE CONTROL DISTRITAL'!B15 -> TRANSFERENCIA | C16: ='PANEL DE CONTROL DISTRITAL'!C15 -> Responsable de Módulo | D16: ='PANEL DE CONTROL DISTRITAL'!D15 -> Transacciones exitosas = | E16: ='PANEL DE CONTROL DISTRITAL'!E15 -> (Número de Archivos de Transacción aceptados /Total de Archivos de Transacción procesados) x100 | F16: ='PANEL DE CONTROL DISTRITAL'!F15 -> Semanal (remesa) | G16: ='PANEL DE CONTROL DISTRITAL'!G15 -> 0.9 | H16: ='PANEL DE CONTROL DISTRITAL'!H15 -> Número de Archivos de Transacción aceptados | I16: 18 | J16: 81 | K16: 137 | L16: 97 | M16: 94 | N16: 98 | O16: 98 | P16: 143 | Q16: 121 | R16: 71 | S16: 112 | T16: 73 | U16: 152 | V16: 303 | W16: 197 | X16: 315 | Y16: 149 | Z16: 162 | AA16: 223 | AB16: 269 | AC16: 553 | AD16: 119 | AE16: =IFERROR(SUM(I16:AD16)/SUM(I17:AD17),0) -> 1
H17: ='PANEL DE CONTROL DISTRITAL'!H16 -> Total de Archivos de Transacción procesados | I17: 18 | J17: 81 | K17: 137 | L17: 97 | M17: 94 | N17: 98 | O17: 98 | P17: 143 | Q17: 121 | R17: 71 | S17: 112 | T17: 73 | U17: 152 | V17: 303 | W17: 197 | X17: 315 | Y17: 149 | Z17: 162 | AA17: 223 | AB17: 269 | AC17: 553 | AD17: 119
A19: ='PANEL DE CONTROL DISTRITAL'!A18 -> 4 | B19: ='PANEL DE CONTROL DISTRITAL'!B18 -> CONCILIACIÓN | C19: ='PANEL DE CONTROL DISTRITAL'!C18 -> Responsable de Módulo | D19: ='PANEL DE CONTROL DISTRITAL'!D18 -> Credenciales disponibles para entrega = | E19: ='PANEL DE CONTROL DISTRITAL'!E18 -> ((Credenciales recibidas - Credenciales inconsistentes) / Credenciales recibidas) x 100 | F19: ='PANEL DE CONTROL DISTRITAL'!F18 -> Semanal (remesa) | G19: ='PANEL DE CONTROL DISTRITAL'!G18 -> 0.9 | H19: ='PANEL DE CONTROL DISTRITAL'!H18 -> Credenciales Recibidas - Credenciales inconsistentes | I19: 32 | J19: 95 | K19: 94 | L19: 95 | M19: 114 | N19: 116 | O19: 130 | P19: 110 | Q19: 153 | R19: 42 | S19: 140 | T19: 68 | U19: 61 | V19: 115 | W19: 305 | X19: 331 | Y19: 215 | Z19: 77 | AA19: 81 | AB19: 444 | AC19: 225 | AD19: 0 | AE19: =IFERROR(SUM(I19:AD19)/SUM(I20:AD20),0) -> 1
H20: ='PANEL DE CONTROL DISTRITAL'!H19 -> Credenciales recibidas | I20: 32 | J20: 95 | K20: 94 | L20: 95 | M20: 114 | N20: 116 | O20: 130 | P20: 110 | Q20: 153 | R20: 42 | S20: 140 | T20: 68 | U20: 61 | V20: 115 | W20: 305 | X20: 331 | Y20: 215 | Z20: 77 | AA20: 81 | AB20: 444 | AC20: 225 | AD20: 0
A22: ='PANEL DE CONTROL DISTRITAL'!A21 -> 5 | B22: ='PANEL DE CONTROL DISTRITAL'!B21 -> CONCILIACIÓN | C22: ='PANEL DE CONTROL DISTRITAL'!C21 -> Responsable de Módulo | D22: ='PANEL DE CONTROL DISTRITAL'!D21 -> Credenciales disponibles para entrega = | E22: ='PANEL DE CONTROL DISTRITAL'!E21 -> (Credenciales en resguardo / Credenciales totales en SIIRFE disponibles para entrega) x 100 | F22: ='PANEL DE CONTROL DISTRITAL'!F21 -> Semanal (remesa) | G22: ='PANEL DE CONTROL DISTRITAL'!G21 -> 1 | H22: ='PANEL DE CONTROL DISTRITAL'!H21 -> Credenciales en resguardo | I22: 745 | J22: 716 | K22: 436 | L22: 386 | M22: 335 | N22: 334 | O22: 377 | P22: 358 | Q22: 433 | R22: 374 | S22: 369 | T22: 352 | U22: 299 | V22: 310 | W22: 498 | X22: 608 | Y22: 624 | Z22: 417 | AA22: 287 | AB22: 536 | AC22: 502 | AD22: 478 | AE22: =IFERROR(SUM(I22:AD22)/SUM(I23:AD23),0) -> 1
H23: ='PANEL DE CONTROL DISTRITAL'!H22 -> Credenciales totales en SIIRFE disponibles para entrega | I23: 745 | J23: 716 | K23: 436 | L23: 386 | M23: 335 | N23: 334 | O23: 377 | P23: 358 | Q23: 433 | R23: 374 | S23: 369 | T23: 352 | U23: 299 | V23: 310 | W23: 498 | X23: 608 | Y23: 624 | Z23: 417 | AA23: 287 | AB23: 536 | AC23: 502 | AD23: 478
A25: ='PANEL DE CONTROL DISTRITAL'!A24 -> 6 | B25: ='PANEL DE CONTROL DISTRITAL'!B24 -> ENTREGA | C25: ='PANEL DE CONTROL DISTRITAL'!C24 -> Operador de Equipo Tecnológico | D25: ='PANEL DE CONTROL DISTRITAL'!D24 -> Efectividad de entrega de CPV en MAC = | E25: ='PANEL DE CONTROL DISTRITAL'!E24 -> (Total de credenciales entregadas / Total de credenciales solicitadas) x 100 | F25: ='PANEL DE CONTROL DISTRITAL'!F24 -> Semanal (remesa) | G25: ='PANEL DE CONTROL DISTRITAL'!G24 -> 0.9 | H25: ='PANEL DE CONTROL DISTRITAL'!H24 -> Total de credenciales entregadas | I25: 111 | J25: 124 | K25: 368 | L25: 145 | M25: 144 | N25: 116 | O25: 87 | P25: 129 | Q25: 78 | R25: 101 | S25: 143 | T25: 85 | U25: 114 | V25: 104 | W25: 117 | X25: 217 | Y25: 203 | Z25: 284 | AA25: 211 | AB25: 195 | AC25: 257 | AD25: 24 | AE25: =IFERROR(SUM(I25:AD25)/SUM(I26:AD26),0) -> 0.99851279
H26: ='PANEL DE CONTROL DISTRITAL'!H25 -> Total de credenciales solicitadas | I26: 111 | J26: 124 | K26: 368 | L26: 145 | M26: 144 | N26: 121 | O26: 87 | P26: 129 | Q26: 78 | R26: 101 | S26: 143 | T26: 85 | U26: 114 | V26: 104 | W26: 117 | X26: 217 | Y26: 203 | Z26: 284 | AA26: 211 | AB26: 195 | AC26: 257 | AD26: 24
B27: *Registre el valor nominal solicitado en la celda, el resultado proporcional esta automatizado.
I29: Semaforización
J30: Valor que requiere atención y justificación en el apartado de observaciones
J31: Valor suficiente
J32: Valor esperado
B34: CUADRO DE OBSERVACIONES
B35: Descripción | H35: No conformidad

Sheet 151051
A1: ='PANEL DE CONTROL DISTRITAL'!A1:Q1 -> INSTITUTO NACIONAL ELECTORAL SISTEMA DE GESTIÓN DE LA CALIDAD ESTADO DE MÉXICO
D2: Distrito | E2: 10 | F2: Módulo | H2: 151051 | X2: ='PANEL DE CONTROL DISTRITAL'!M2 -> Fecha de corte: 22/01/2024
A4: TABLERO DE CONTROL DE PROCESOS SUSTANTIVOS DEL SISTEMA DE GESTIÓN DE LA CALIDAD
A6: ='PANEL DE CONTROL DISTRITAL'!A6 -> Número | B6: ='PANEL DE CONTROL DISTRITAL'!B6 -> PROCESOS SUSTANTIVOS E INDICADORES | I6: SEMANA OPERATIVA | AE6: % AVANCE REGISTRADO
B7: ='PANEL DE CONTROL DISTRITAL'!B7 -> DESCRIPCIÓN | E7: ='PANEL DE CONTROL DISTRITAL'!E7 -> MEDICIÓN | I7: ='PANEL DE CONTROL DISTRITAL'!A5 -> CAMPAÑA ANUAL INTENSA 2023
B9: ='PANEL DE CONTROL DISTRITAL'!B8 -> Proceso | C9: ='PANEL DE CONTROL DISTRITAL'!C8 -> Dueño de Proceso | D9: ='PANEL DE CONTROL DISTRITAL'!D8 -> Indicador | E9: ='PANEL DE CONTROL DISTRITAL'!E8 -> Cálculo | F9: ='PANEL DE CONTROL DISTRITAL'!F8 -> Periodo | G9: ='PANEL DE CONTROL DISTRITAL'!G8 -> Estimado | H9: ='PANEL DE CONTROL DISTRITAL'!H8 -> Nominativo | I9: ='150151'!I9 -> 2023-37 | J9: ='150151'!J9 -> 2023-38 | K9: ='150151'!K9 -> 2023-39 | L9: ='150151'!L9 -> 2023-40 | M9: ='150151'!M9 -> 2023-41 | N9: ='150151'!N9 -> 2023-42 | O9: ='150151'!O9 -> 2023-43 | P9: ='150151'!P9 -> 2023-44 | ... X9: ='150151'!X9 -> 2023-52 | Y9: 2023-53 | Z9: 2023-54 | AA9: 2024-01 | AB9: 2024-02 | AC9: 2024-03 | AD9: 2024-04
A10: ='PANEL DE CONTROL DISTRITAL'!A9 -> 1 | B10: ='PANEL DE CONTROL DISTRITAL'!B9 -> ENTREVISTA | C10: ='PANEL DE CONTROL DISTRITAL'!C9 -> Auxiliar de Atención Ciudadana | D10: ='PANEL DE CONTROL DISTRITAL'!D9 -> Efectividad de la entrevista = | E10: ='PANEL DE CONTROL DISTRITAL'!E9 -> (Número de trámites aplicados / (Número de fichas requisitadas - Notificaciones de improcedencia de trámite)) x 100 | F10: ='PANEL DE CONTROL DISTRITAL'!F9 -> Semanal (remesa) | G10: ='PANEL DE CONTROL DISTRITAL'!G9 -> 0.9 | H10: ='PANEL DE CONTROL DISTRITAL'!H9 -> Número de trámites aplicados | I10: 178 | J10: 772 | K10: 710 | L10: 759 | M10: 833 | N10: 852 | O10: 929 | P10: 879 | Q10: 858 | R10: 566 | S10: 1032 | T10: 1027 | U10: 1008 | V10: 1331 | W10: 1167 | X10: 1040 | Y10: 1143 | Z10: 992 | AA10: 1346 | AB10: 2002 | AC10: 2824 | AD10: 688 | AE10: =IFERROR(SUM(I10:AD10)/SUM(I11:AD11),0) -> 0.99986922
H11: ='PANEL DE CONTROL DISTRITAL'!H10 -> Número de fichas requisitadas - Notificaciones de improcedencia de trámite | I11: 178 | J11: 773 | K11: 711 | L11: 759 | M11: 833 | N11: 852 | O11: 929 | P11: 880 | Q11: 858 | R11: 566 | S11: 1032 | T11: 1027 | U11: 1008 | V11: 1331 | W11: 1167 | X11: 1040 | Y11: 1143 | Z11: 992 | AA11: 1346 | AB11: 2002 | AC11: 2824 | AD11: 688
A13: ='PANEL DE CONTROL DISTRITAL'!A12 -> 2 | B13: ='PANEL DE CONTROL DISTRITAL'!B12 -> TRÁMITE | C13: ='PANEL DE CONTROL DISTRITAL'!C12 -> Operador de Equipo Tecnológico | D13: ='PANEL DE CONTROL DISTRITAL'!D12 -> Trámites exitosos efectivos= | E13: ='PANEL DE CONTROL DISTRITAL'!E12 -> (Número de trámites exitosos / Número de trámites aplicados) x 100 | F13: ='PANEL DE CONTROL DISTRITAL'!F12 -> Semanal (remesa) | G13: ='PANEL DE CONTROL DISTRITAL'!G12 -> 0.9 | H13: ='PANEL DE CONTROL DISTRITAL'!H12 -> Número de trámites exitosos | I13: 178 | J13: 767 | K13: 700 | L13: 755 | M13: 827 | N13: 845 | O13: 926 | P13: 872 | Q13: 856 | R13: 566 | S13: 1026 | T13: 1026 | U13: 1003 | V13: 1326 | W13: 1162 | X13: 1039 | Y13: 1142 | Z13: 984 | AA13: 1343 | AB13: 1998 | AC13: 2814 | AD13: 685 | AE13: =IFERROR(SUM(I13:AD13)/SUM(I14:AD14),0) -> 0.99581444
H14: ='PANEL DE CONTROL DISTRITAL'!H13 -> Número de trámites aplicados | I14: 178 | J14: 772 | K14: 710 | L14: 759 | M14: 833 | N14: 852 | O14: 929 | P14: 879 | Q14: 858 | R14: 566 | S14: 1032 | T14: 1027 | U14: 1008 | V14: 1331 | W14: 1167 | X14: 1040 | Y14: 1143 | Z14: 992 | AA14: 1346 | AB14: 2002 | AC14: 2824 | AD14: 688
A15: 87
A16: ='PANEL DE CONTROL DISTRITAL'!A15 -> 3 | B16: ='PANEL DE CONTROL DISTRITAL'!B15 -> TRANSFERENCIA | C16: ='PANEL DE CONTROL DISTRITAL'!C15 -> Responsable de Módulo | D16: ='PANEL DE CONTROL DISTRITAL'!D15 -> Transacciones exitosas = | E16: ='PANEL DE CONTROL DISTRITAL'!E15 -> (Número de Archivos de Transacción aceptados /Total de Archivos de Transacción procesados) x100 | F16: ='PANEL DE CONTROL DISTRITAL'!F15 -> Semanal (remesa) | G16: ='PANEL DE CONTROL DISTRITAL'!G15 -> 0.9 | H16: ='PANEL DE CONTROL DISTRITAL'!H15 -> Número de Archivos de Transacción aceptados | I16: 178 | J16: 772 | K16: 710 | L16: 759 | M16: 833 | N16: 852 | O16: 929 | P16: 879 | Q16: 858 | R16: 566 | S16: 1032 | T16: 1027 | U16: 1008 | V16: 1331 | W16: 1167 | X16: 1040 | Y16: 1143 | Z16: 992 | AA16: 1346 | AB16: 2002 | AC16: 2824 | AD16: 688 | AE16: =IFERROR(SUM(I16:AD16)/SUM(I17:AD17),0) -> 1
H17: ='PANEL DE CONTROL DISTRITAL'!H16 -> Total de Archivos de Transacción procesados | I17: 178 | J17: 772 | K17: 710 | L17: 759 | M17: 833 | N17: 852 | O17: 929 | P17: 879 | Q17: 858 | R17: 566 | S17: 1032 | T17: 1027 | U17: 1008 | V17: 1331 | W17: 1167 | X17: 1040 | Y17: 1143 | Z17: 992 | AA17: 1346 | AB17: 2002 | AC17: 2824 | AD17: 688
A19: ='PANEL DE CONTROL DISTRITAL'!A18 -> 4 | B19: ='PANEL DE CONTROL DISTRITAL'!B18 -> CONCILIACIÓN | C19: ='PANEL DE CONTROL DISTRITAL'!C18 -> Responsable de Módulo | D19: ='PANEL DE CONTROL DISTRITAL'!D18 -> Credenciales disponibles para entrega = | E19: ='PANEL DE CONTROL DISTRITAL'!E18 -> ((Credenciales recibidas - Credenciales inconsistentes) / Credenciales recibidas) x 100 | F19: ='PANEL DE CONTROL DISTRITAL'!F18 -> Semanal (remesa) | G19: ='PANEL DE CONTROL DISTRITAL'!G18 -> 0.9 | H19: ='PANEL DE CONTROL DISTRITAL'!H18 -> Credenciales Recibidas - Credenciales inconsistentes | I19: 0 | J19: 904 | K19: 781 | L19: 666 | M19: 854 | N19: 812 | O19: 901 | P19: 914 | Q19: 871 | R19: 643 | S19: 811 | T19: 1021 | U19: 873 | V19: 1335 | W19: 1051 | X19: 1287 | Y19: 637 | Z19: 876 | AA19: 788 | AB19: 1997 | AC19: 1743 | AD19: 253 | AE19: =IFERROR(SUM(I19:AD19)/SUM(I20:AD20),0) -> 1
H20: ='PANEL DE CONTROL DISTRITAL'!H19 -> Credenciales recibidas | I20: 0 | J20: 904 | K20: 781 | L20: 666 | M20: 854 | N20: 812 | O20: 901 | P20: 914 | Q20: 871 | R20: 643 | S20: 811 | T20: 1021 | U20: 873 | V20: 1335 | W20: 1051 | X20: 1287 | Y20: 637 | Z20: 876 | AA20: 788 | AB20: 1997 | AC20: 1743 | AD20: 253
A22: ='PANEL DE CONTROL DISTRITAL'!A21 -> 5 | B22: ='PANEL DE CONTROL DISTRITAL'!B21 -> CONCILIACIÓN | C22: ='PANEL DE CONTROL DISTRITAL'!C21 -> Responsable de Módulo | D22: ='PANEL DE CONTROL DISTRITAL'!D21 -> Credenciales disponibles para entrega = | E22: ='PANEL DE CONTROL DISTRITAL'!E21 -> (Credenciales en resguardo / Credenciales totales en SIIRFE disponibles para entrega) x 100 | F22: ='PANEL DE CONTROL DISTRITAL'!F21 -> Semanal (remesa) | G22: ='PANEL DE CONTROL DISTRITAL'!G21 -> 1 | H22: ='PANEL DE CONTROL DISTRITAL'!H21 -> Credenciales en resguardo | I22: 1362 | J22: 1447 | K22: 1400 | L22: 1146 | M22: 1276 | N22: 1244 | O22: 1338 | P22: 1279 | Q22: 1294 | R22: 1254 | S22: 1191 | T22: 1414 | U22: 1371 | V22: 1761 | W22: 1590 | X22: 1721 | Y22: 1252 | Z22: 1055 | AA22: 970 | AB22: 1610 | AC22: 1489 | AD22: 1413 | AE22: =IFERROR(SUM(I22:AD22)/SUM(I23:AD23),0) -> 1
H23: ='PANEL DE CONTROL DISTRITAL'!H22 -> Credenciales totales en SIIRFE disponibles para entrega | I23: 1362 | J23: 1447 | K23: 1400 | L23: 1146 | M23: 1276 | N23: 1244 | O23: 1338 | P23: 1279 | Q23: 1294 | R23: 1254 | S23: 1191 | T23: 1414 | U23: 1371 | V23: 1761 | W23: 1590 | X23: 1721 | Y23: 1252 | Z23: 1055 | AA23: 970 | AB23: 1610 | AC23: 1489 | AD23: 1413
A25: ='PANEL DE CONTROL DISTRITAL'!A24 -> 6 | B25: ='PANEL DE CONTROL DISTRITAL'!B24 -> ENTREGA | C25: ='PANEL DE CONTROL DISTRITAL'!C24 -> Operador de Equipo Tecnológico | D25: ='PANEL DE CONTROL DISTRITAL'!D24 -> Efectividad de entrega de CPV en MAC = | E25: ='PANEL DE CONTROL DISTRITAL'!E24 -> (Total de credenciales entregadas / Total de credenciales solicitadas) x 100 | F25: ='PANEL DE CONTROL DISTRITAL'!F24 -> Semanal (remesa) | G25: ='PANEL DE CONTROL DISTRITAL'!G24 -> 0.9 | H25: ='PANEL DE CONTROL DISTRITAL'!H24 -> Total de credenciales entregadas | I25: 212 | J25: 819 | K25: 792 | L25: 920 | M25: 723 | N25: 834 | O25: 807 | P25: 973 | Q25: 856 | R25: 683 | S25: 866 | T25: 798 | U25: 916 | V25: 945 | W25: 1220 | X25: 1156 | Y25: 1106 | Z25: 1073 | AA25: 873 | AB25: 1357 | AC25: 1853 | AD25: 329 | AE25: =IFERROR(SUM(I25:AD25)/SUM(I26:AD26),0) -> 1
H26: ='PANEL DE CONTROL DISTRITAL'!H25 -> Total de credenciales solicitadas | I26: 212 | J26: 819 | K26: 792 | L26: 920 | M26: 723 | N26: 834 | O26: 807 | P26: 973 | Q26: 856 | R26: 683 | S26: 866 | T26: 798 | U26: 916 | V26: 945 | W26: 1220 | X26: 1156 | Y26: 1106 | Z26: 1073 | AA26: 873 | AB26: 1357 | AC26: 1853 | AD26: 329
B27: *Registre el valor nominal solicitado en la celda, el resultado proporcional esta automatizado.
I29: Semaforización
J30: Valor que requiere atención y justificación en el apartado de observaciones
J31: Valor suficiente
J32: Valor esperado
B34: CUADRO DE OBSERVACIONES
B35: Descripción | H35: No conformidad

Sheet 151151
A1: ='PANEL DE CONTROL DISTRITAL'!A1:Q1 -> INSTITUTO NACIONAL ELECTORAL SISTEMA DE GESTIÓN DE LA CALIDAD ESTADO DE MÉXICO
D2: Distrito | E2: 11 | F2: Módulo | H2: 151151 | X2: ='PANEL DE CONTROL DISTRITAL'!M2 -> Fecha de corte: 22/01/2024
A4: TABLERO DE CONTROL DE PROCESOS SUSTANTIVOS DEL SISTEMA DE GESTIÓN DE LA CALIDAD
A6: ='PANEL DE CONTROL DISTRITAL'!A6 -> Número | B6: ='PANEL DE CONTROL DISTRITAL'!B6 -> PROCESOS SUSTANTIVOS E INDICADORES | I6: SEMANA OPERATIVA | AE6: % AVANCE REGISTRADO
B7: ='PANEL DE CONTROL DISTRITAL'!B7 -> DESCRIPCIÓN | E7: ='PANEL DE CONTROL DISTRITAL'!E7 -> MEDICIÓN | I7: ='PANEL DE CONTROL DISTRITAL'!A5 -> CAMPAÑA ANUAL INTENSA 2023
B9: ='PANEL DE CONTROL DISTRITAL'!B8 -> Proceso | C9: ='PANEL DE CONTROL DISTRITAL'!C8 -> Dueño de Proceso | D9: ='PANEL DE CONTROL DISTRITAL'!D8 -> Indicador | E9: ='PANEL DE CONTROL DISTRITAL'!E8 -> Cálculo | F9: ='PANEL DE CONTROL DISTRITAL'!F8 -> Periodo | G9: ='PANEL DE CONTROL DISTRITAL'!G8 -> Estimado | H9: ='PANEL DE CONTROL DISTRITAL'!H8 -> Nominativo | I9: ='150151'!I9 -> 2023-37 | J9: ='150151'!J9 -> 2023-38 | K9: ='150151'!K9 -> 2023-39 | L9: ='150151'!L9 -> 2023-40 | M9: ='150151'!M9 -> 2023-41 | N9: ='150151'!N9 -> 2023-42 | O9: ='150151'!O9 -> 2023-43 | P9: ='150151'!P9 -> 2023-44 | ... X9: ='150151'!X9 -> 2023-52 | Y9: 2023-53 | Z9: 2023-54 | AA9: 2024-01 | AB9: 2024-02 | AC9: 2024-03 | AD9: 2024-04
A10: ='PANEL DE CONTROL DISTRITAL'!A9 -> 1 | B10: ='PANEL DE CONTROL DISTRITAL'!B9 -> ENTREVISTA | C10: ='PANEL DE CONTROL DISTRITAL'!C9 -> Auxiliar de Atención Ciudadana | D10: ='PANEL DE CONTROL DISTRITAL'!D9 -> Efectividad de la entrevista = | E10: ='PANEL DE CONTROL DISTRITAL'!E9 -> (Número de trámites aplicados / (Número de fichas requisitadas - Notificaciones de improcedencia de trámite)) x 100 | F10: ='PANEL DE CONTROL DISTRITAL'!F9 -> Semanal (remesa) | G10: ='PANEL DE CONTROL DISTRITAL'!G9 -> 0.9 | H10: ='PANEL DE CONTROL DISTRITAL'!H9 -> Número de trámites aplicados | I10: 170 | J10: 939 | K10: 826 | L10: 935 | M10: 961 | N10: 988 | O10: 944 | P10: 1005 | Q10: 1013 | R10: 667 | S10: 1140 | T10: 1232 | U10: 1097 | V10: 1489 | W10: 1314 | X10: 1197 | Y10: 1384 | Z10: 1124 | AA10: 1577 | AB10: 2440 | AC10: 3369 | AD10: 807 | AE10: =IFERROR(SUM(I10:AD10)/SUM(I11:AD11),0) -> 0.98661922
H11: ='PANEL DE CONTROL DISTRITAL'!H10 -> Número de fichas requisitadas - Notificaciones de improcedencia de trámite | I11: 173 | J11: 971 | K11: 866 | L11: 988 | M11: 1020 | N11: 1032 | O11: 968 | P11: 1005 | Q11: 1005 | R11: 667 | S11: 1149 | T11: 1249 | U11: 1071 | V11: 1500 | W11: 1329 | X11: 1212 | Y11: 1387 | Z11: 1135 | AA11: 1579 | AB11: 2449 | AC11: 3417 | AD11: 807
A13: ='PANEL DE CONTROL DISTRITAL'!A12 -> 2 | B13: ='PANEL DE CONTROL DISTRITAL'!B12 -> TRÁMITE | C13: ='PANEL DE CONTROL DISTRITAL'!C12 -> Operador de Equipo Tecnológico | D13: ='PANEL DE CONTROL DISTRITAL'!D12 -> Trámites exitosos efectivos= | E13: ='PANEL DE CONTROL DISTRITAL'!E12 -> (Número de trámites exitosos / Número de trámites aplicados) x 100 | F13: ='PANEL DE CONTROL DISTRITAL'!F12 -> Semanal (remesa) | G13: ='PANEL DE CONTROL DISTRITAL'!G12 -> 0.9 | H13: ='PANEL DE CONTROL DISTRITAL'!H12 -> Número de trámites exitosos | I13: 170 | J13: 934 | K13: 823 | L13: 932 | M13: 959 | N13: 980 | O13: 939 | P13: 1003 | Q13: 1008 | R13: 667 | S13: 1137 | T13: 1202 | U13: 1093 | V13: 1484 | W13: 1311 | X13: 1194 | Y13: 1384 | Z13: 1124 | AA13: 1574 | AB13: 2430 | AC13: 3357 | AD13: 800 | AE13: =IFERROR(SUM(I13:AD13)/SUM(I14:AD14),0) -> 0.99575475
H14: ='PANEL DE CONTROL DISTRITAL'!H13 -> Número de trámites aplicados | I14: 170 | J14: 939 | K14: 826 | L14: 935 | M14: 961 | N14: 988 | O14: 944 | P14: 1005 | Q14: 1013 | R14: 667 | S14: 1140 | T14: 1232 | U14: 1097 | V14: 1489 | W14: 1314 | X14: 1197 | Y14: 1384 | Z14: 1124 | AA14: 1577 | AB14: 2440 | AC14: 3369 | AD14: 807
A16: ='PANEL DE CONTROL DISTRITAL'!A15 -> 3 | B16: ='PANEL DE CONTROL DISTRITAL'!B15 -> TRANSFERENCIA | C16: ='PANEL DE CONTROL DISTRITAL'!C15 -> Responsable de Módulo | D16: ='PANEL DE CONTROL DISTRITAL'!D15 -> Transacciones exitosas = | E16: ='PANEL DE CONTROL DISTRITAL'!E15 -> (Número de Archivos de Transacción aceptados /Total de Archivos de Transacción procesados) x100 | F16: ='PANEL DE CONTROL DISTRITAL'!F15 -> Semanal (remesa) | G16: ='PANEL DE CONTROL DISTRITAL'!G15 -> 0.9 | H16: ='PANEL DE CONTROL DISTRITAL'!H15 -> Número de Archivos de Transacción aceptados | I16: 170 | J16: 939 | K16: 826 | L16: 935 | M16: 961 | N16: 988 | O16: 944 | P16: 1005 | Q16: 1013 | R16: 667 | S16: 1140 | T16: 1232 | U16: 1097 | V16: 1489 | W16: 1314 | X16: 1197 | Y16: 1384 | Z16: 1124 | AA16: 1577 | AB16: 2440 | AC16: 3369 | AD16: 807 | AE16: =IFERROR(SUM(I16:AD16)/SUM(I17:AD17),0) -> 1
H17: ='PANEL DE CONTROL DISTRITAL'!H16 -> Total de Archivos de Transacción procesados | I17: 170 | J17: 939 | K17: 826 | L17: 935 | M17: 961 | N17: 988 | O17: 944 | P17: 1005 | Q17: 1013 | R17: 667 | S17: 1140 | T17: 1232 | U17: 1097 | V17: 1489 | W17: 1314 | X17: 1197 | Y17: 1384 | Z17: 1124 | AA17: 1577 | AB17: 2440 | AC17: 3369 | AD17: 807
A19: ='PANEL DE CONTROL DISTRITAL'!A18 -> 4 | B19: ='PANEL DE CONTROL DISTRITAL'!B18 -> CONCILIACIÓN | C19: ='PANEL DE CONTROL DISTRITAL'!C18 -> Responsable de Módulo | D19: ='PANEL DE CONTROL DISTRITAL'!D18 -> Credenciales disponibles para entrega = | E19: ='PANEL DE CONTROL DISTRITAL'!E18 -> ((Credenciales recibidas - Credenciales inconsistentes) / Credenciales recibidas) x 100 | F19: ='PANEL DE CONTROL DISTRITAL'!F18 -> Semanal (remesa) | G19: ='PANEL DE CONTROL DISTRITAL'!G18 -> 0.9 | H19: ='PANEL DE CONTROL DISTRITAL'!H18 -> Credenciales Recibidas - Credenciales inconsistentes | I19: 0 | J19: 1004 | K19: 738 | L19: 1015 | M19: 997 | N19: 958 | O19: 930 | P19: 1028 | Q19: 1011 | R19: 731 | S19: 957 | T19: 1175 | U19: 1009 | V19: 1213 | W19: 1400 | X19: 1491 | Y19: 1064 | Z19: 749 | AA19: 856 | AB19: 2443 | AC19: 2118 | AD19: 0 | AE19: =IFERROR(SUM(I19:AD19)/SUM(I20:AD20),0) -> 1
H20: ='PANEL DE CONTROL DISTRITAL'!H19 -> Credenciales recibidas | I20: 0 | J20: 1004 | K20: 738 | L20: 1015 | M20: 997 | N20: 958 | O20: 930 | P20: 1028 | Q20: 1011 | R20: 731 | S20: 957 | T20: 1175 | U20: 1009 | V20: 1213 | W20: 1400 | X20: 1491 | Y20: 1064 | Z20: 749 | AA20: 856 | AB20: 2443 | AC20: 2118 | AD20: 0
A22: ='PANEL DE CONTROL DISTRITAL'!A21 -> 5 | B22: ='PANEL DE CONTROL DISTRITAL'!B21 -> CONCILIACIÓN | C22: ='PANEL DE CONTROL DISTRITAL'!C21 -> Responsable de Módulo | D22: ='PANEL DE CONTROL DISTRITAL'!D21 -> Credenciales disponibles para entrega = | E22: ='PANEL DE CONTROL DISTRITAL'!E21 -> (Credenciales en resguardo / Credenciales totales en SIIRFE disponibles para entrega) x 100 | F22: ='PANEL DE CONTROL DISTRITAL'!F21 -> Semanal (remesa) | G22: ='PANEL DE CONTROL DISTRITAL'!G21 -> 1 | H22: ='PANEL DE CONTROL DISTRITAL'!H21 -> Credenciales en resguardo | I22: 1852 | J22: 1882 | K22: 1794 | L22: 1754 | M22: 1882 | N22: 1899 | O22: 1888 | P22: 1878 | Q22: 1958 | R22: 1763 | S22: 1799 | T22: 1933 | U22: 1837 | V22: 2032 | W22: 1979 | X22: 2208 | Y22: 1914 | Z22: 1403 | AA22: 1256 | AB22: 2111 | AC22: 2090 | AD22: 1655 | AE22: =IFERROR(SUM(I22:AD22)/SUM(I23:AD23),0) -> 1
H23: ='PANEL DE CONTROL DISTRITAL'!H22 -> Credenciales totales en SIIRFE disponibles para entrega | I23: 1852 | J23: 1882 | K23: 1794 | L23: 1754 | M23: 1882 | N23: 1899 | O23: 1888 | P23: 1878 | Q23: 1958 | R23: 1763 | S23: 1799 | T23: 1933 | U23: 1837 | V23: 2032 | W23: 1979 | X23: 2208 | Y23: 1914 | Z23: 1403 | AA23: 1256 | AB23: 2111 | AC23: 2090 | AD23: 1655
A25: ='PANEL DE CONTROL DISTRITAL'!A24 -> 6 | B25: ='PANEL DE CONTROL DISTRITAL'!B24 -> ENTREGA | C25: ='PANEL DE CONTROL DISTRITAL'!C24 -> Operador de Equipo Tecnológico | D25: ='PANEL DE CONTROL DISTRITAL'!D24 -> Efectividad de entrega de CPV en MAC = | E25: ='PANEL DE CONTROL DISTRITAL'!E24 -> (Total de credenciales entregadas / Total de credenciales solicitadas) x 100 | F25: ='PANEL DE CONTROL DISTRITAL'!F24 -> Semanal (remesa) | G25: ='PANEL DE CONTROL DISTRITAL'!G24 -> 0.9 | H25: ='PANEL DE CONTROL DISTRITAL'!H24 -> Total de credenciales entregadas | I25: 341 | J25: 938 | K25: 804 | L25: 1055 | M25: 869 | N25: 936 | O25: 941 | P25: 1038 | Q25: 931 | R25: 926 | S25: 912 | T25: 1041 | U25: 1105 | V25: 1018 | W25: 1444 | X25: 1262 | Y25: 1358 | Z25: 1260 | AA25: 1003 | AB25: 1588 | AC25: 2130 | AD25: 435 | AE25: =IFERROR(SUM(I25:AD25)/SUM(I26:AD26),0) -> 0.99970011
H26: ='PANEL DE CONTROL DISTRITAL'!H25 -> Total de credenciales solicitadas | I26: 341 | J26: 940 | K26: 805 | L26: 1057 | M26: 869 | N26: 936 | O26: 942 | P26: 1038 | Q26: 931 | R26: 926 | S26: 912 | T26: 1041 | U26: 1106 | V26: 1018 | W26: 1444 | X26: 1262 | Y26: 1358 | Z26: 1260 | AA26: 1003 | AB26: 1588 | AC26: 2130 | AD26: 435
B27: *Registre el valor nominal solicitado en la celda, el resultado proporcional esta automatizado.
I29: Semaforización
J30: Valor que requiere atención y justificación en el apartado de observaciones
J31: Valor suficiente
J32: Valor esperado
B34: CUADRO DE OBSERVACIONES
