Workbook

Sheet PANEL DE CONTROL DISTRITAL
A1: INSTITUTO NACIONAL ELECTORAL SISTEMA DE GESTIÓN DE LA CALIDAD ESTADO DE MÉXICO
M2: Fecha de corte: 22/01/2024 | Q2: Version: 0
A4: TABLERO DE CONTROL DISTRITAL DE PROCESOS SUSTANTIVOS DEL SISTEMA DE GESTIÓN DE LA CALIDAD
A5: CAMPAÑA ANUAL INTENSA 2023
A6: Número | B6: PROCESOS SUSTANTIVOS E INDICADORES | I6: % AVANCE REGISTRADO | K6: % AVANCE REGISTRADO | M6: % AVANCE REGISTRADO | O6: % AVANCE REGISTRADO | Q6: % AVANCE REGISTRADO | S6: % AVANCE REGISTRADO | U6: % AVANCE REGISTRADO | W6: % AVANCE REGISTRADO | Y6: % AVANCE REGISTRADO | AA6: % AVANCE REGISTRADO | AC6: % AVANCE REGISTRADO | AE6: % AVANCE REGISTRADO | AG6: % AVANCE REGISTRADO | AI6: % AVANCE REGISTRADO | AK6: % AVANCE REGISTRADO | AM6: % AVANCE REGISTRADO | AO6: % AVANCE REGISTRADO | AQ6: % AVANCE REGISTRADO | AS6: % AVANCE REGISTRADO | AU6: % AVANCE REGISTRADO | AW6: % AVANCE REGISTRADO | AY6: % AVANCE REGISTRADO | BA6: % AVANCE REGISTRADO | BC6: % AVANCE REGISTRADO | BE6: % AVANCE REGISTRADO | BG6: % AVANCE REGISTRADO | BI6: % AVANCE REGISTRADO | BK6: % AVANCE REGISTRADO | BM6: % AVANCE REGISTRADO | BO6: % AVANCE REGISTRADO | BQ6: % AVANCE REGISTRADO | BS6: % AVANCE REGISTRADO | BU6: % AVANCE REGISTRADO | BW6: % AVANCE REGISTRADO | BY6: % AVANCE REGISTRADO | CA6: % AVANCE REGISTRADO | CC6: % AVANCE REGISTRADO | CE6: % AVANCE REGISTRADO | CG6: % AVANCE REGISTRADO | CI6: % AVANCE REGISTRADO | CK6: % AVANCE REGISTRADO
B7: DESCRIPCIÓN | E7: MEDICIÓN
B8: Proceso | C8: Dueño de Proceso | D8: Indicador | E8: Cálculo | F8: Periodo | G8: Estimado | H8: Nominativo | I8: Distrito 01 | K8: Distrito 02 | M8: Distrito 03 | O8: Distrito 04 | Q8: Distrito 05 | S8: Distrito 06 | U8: Distrito 07 | W8: Distrito 08 | Y8: Distrito 09 | AA8: Distrito 10 | AC8: Distrito 11 | AE8: Distrito 12 | AG8: Distrito 13 | AI8: Distrito 14 | AK8: Distrito 15 | AM8: Distrito 16 | AO8: Distrito 17 | AQ8: Distrito 18 | AS8: Distrito 19 | AU8: Distrito 20 | AW8: Distrito 21 | AY8: Distrito 22 | BA8: Distrito 23 | BC8: Distrito 24 | BE8: Distrito 25 | BG8: Distrito 26 | BI8: Distrito 27 | BK8: Distrito 28 | BM8: Distrito 29 | BO8: Distrito 30 | BQ8: Distrito 31 | BS8: Distrito 32 | BU8: Distrito 33 | BW8: Distrito 34 | BY8: Distrito 35 | CA8: Distrito 36 | CC8: Distrito 37 | CE8: Distrito 38 | CG8: Distrito 39 | CI8: Distrito 40 | CK8: Estatal
A9: 1 | B9: ENTREVISTA | C9: Auxiliar de Atención Ciudadana | D9: Efectividad de la entrevista = | E9: (Número de trámites aplicados / (Número de fichas requisitadas - Notificaciones de improcedencia de trámite)) x 100 | F9: Semanal (remesa) | G9: 0.9 | H9: Número de trámites aplicados | I9: =AVERAGE('150151'!AE10:AE11,'150152'!AE10:AE11,'150153'!AE10:AE11) -> 1 | K9: =AVERAGE('150251'!AE10:AE11,'150253'!AE10:AE11) -> 0.98825421 | M9: =AVERAGE('150351'!AE10:AE11,'150352'!AE10:AE11,'150353'!AE10:AE11) -> 0.99864062 | O9: =AVERAGE('150451'!AE10:AE11) -> 0.99724751 | Q9: =AVERAGE('150551'!AE10:AE11) -> 0.99699536 | S9: =AVERAGE('150651'!AE10:AE11,'150652'!AE10:AE11) -> 0.98706 | U9: =AVERAGE('150751'!AE10:AE11) -> 0.98779669 | W9: =AVERAGE('150851'!AE10:AE11) -> 0.99761348 | Y9: =AVERAGE('150951'!AE10:AE11,'150952'!AE10:AE11,'150953'!AE10:AE11,'150954'!AE10:AE11) -> 1 | AA9: =AVERAGE('151051'!AE10:AE11) -> 0.99986922 | AC9: =AVERAGE('151151'!AE10:AE11) -> 0.98661922 | AE9: =AVERAGE('151251'!AE10:AE11,'151252'!AE10:AE11,'151253'!AE10:AE11) -> 0.99788381 | AG9: =AVERAGE('151351'!AE10:AE11) -> 1 | AI9: =AVERAGE('151452'!AE10:AE11,'151453'!AE10:AE11) -> 1 | AK9: =AVERAGE('151551'!AE10:AE11) -> 1 | AM9: =AVERAGE('151651'!AE10:AE11,'151652'!AE10:AE11) -> 0.99234459 | AO9: =AVERAGE('151751'!AE10:AE11) -> 1 | AQ9: =AVERAGE('151851'!AE10:AE11,'151852'!AE10:AE11,'151853'!AE10:AE11) -> 0.99720861 | AS9: =AVERAGE('151951'!AE10:AE11,'151952'!AE10:AE11) -> 1 | AU9: =AVERAGE('152052'!AE10:AE11,'152053'!AE10:AE11,'152054'!AE10:AE11) -> 0.99640342 | AW9: =AVERAGE('152151'!AE10:AE11,'152152'!AE10:AE11) -> 1.0001218 | AY9: =AVERAGE('152251'!AE10:AE11,'152252'!AE10:AE11) -> 0.98011776 | BA9: =AVERAGE('152351'!AE10:AE11,'152352'!AE10:AE11,'152353'!AE10:AE11) -> 0.99914413 | BC9: =AVERAGE('152451'!AE10:AE11) -> 0.99940256 | BE9: =AVERAGE('152551'!AE10:AE11) -> 0.9963596 | BG9: =AVERAGE('152651'!AE10:AE11) -> 0.9978398 | BI9: =AVERAGE('152751'!AE10:AE11,'152752'!AE10:AE11,'152753'!AE10:AE11) -> 0.99894002 | BK9: =AVERAGE('152851'!AE10:AE11,'152853'!AE10:AE11) -> 0.99726704 | BM9: =AVERAGE('152951'!AE10:AE11) -> 0.98315848 | BO9: =AVERAGE('153051'!AE10:AE11,'153052'!AE10:AE11) -> 0.99988522 | BQ9: =AVERAGE('153151'!AE10:AE11) -> 1 | BS9: =AVERAGE('153251'!AE10:AE11) -> 0.99658219 | BU9: =AVERAGE('153351'!AE10:AE11) -> 1 | BW9: =AVERAGE('153451'!AE10:AE11) -> 1 | BY9: =AVERAGE('153551'!AE10:AE11,'153552'!AE10:AE11,'153553'!AE10:AE11) -> 0.99970062 | CA9: =AVERAGE('153651'!AE10:AE11,'153652'!AE10:AE11,'153653'!AE10:AE11,'153654'!AE10:AE11) -> 1 | CC9: =AVERAGE('153753'!AE10:AE11,'153752'!AE10:AE11) -> 0.99699668 | CE9: =AVERAGE('153851'!AE10:AE11,'153852'!AE10:AE11) -> 1 | CG9: =AVERAGE('153951'!AE10:AE11) -> 1 | CI9: =AVERAGE('154051'!AE10:AE11,'154052'!AE10:AE11,'154053'!AE10:AE11) -> 0.99818448 | CK9: =AVERAGE(I9,K9,M9,O9,Q9,S9,U9,W9,Y9,AA9,AC9,AE9,AG9,AI9,AK9,AM9,AO9,AQ9,AS9,AU9,AW9,AY9,BA9,BC9,BE9,BG9,BI9,BK9,BM9,BO9,BQ9,BS9,BU9,BW9,BY9,CA9,CC9,CE9,CG9,CI9) -> 0.99669093
H10: Número de fichas requisitadas - Notificaciones de improcedencia de trámite
A12: 2 | B12: TRÁMITE | C12: Operador de Equipo Tecnológico | D12: Trámites exitosos efectivos= | E12: (Número de trámites exitosos / Número de trámites aplicados) x 100 | F12: Semanal (remesa) | G12: 0.9 | H12: Número de trámites exitosos | I12: =AVERAGE('150151'!AE13:AE14,'150152'!AE13:AE14,'150153'!AE13:AE14) -> 0.99754931 | K12: =AVERAGE('150251'!AE13:AE14,'150253'!AE13:AE14) -> 0.99016696 | M12: =AVERAGE('150351'!AE13:AE14,'150352'!AE13:AE14,'150353'!AE13:AE14) -> 0.98393981 | O12: =AVERAGE('150451'!AE13:AE14) -> 0.9985138 | Q12: =AVERAGE('150551'!AE13:AE14) -> 0.99954338 | S12: =AVERAGE('150651'!AE13:AE14,'150652'!AE13:AE14) -> 0.99758103 | U12: =AVERAGE('150751'!AE13:AE14) -> 0.99705316 | W12: =AVERAGE('150851'!AE13:AE14) -> 0.99804554 | Y12: =AVERAGE('150951'!AE13:AE14,'150952'!AE13:AE14,'150953'!AE13:AE14,'150954'!AE13:AE14) -> 0.99729633 | AA12: =AVERAGE('151051'!AE13:AE14) -> 0.99581444 | AC12: =AVERAGE('151151'!AE13:AE14) -> 0.99575475 | AE12: =AVERAGE('151251'!AE13:AE14,'151252'!AE13:AE14,'151253'!AE13:AE14) -> 0.99653054 | AG12: =AVERAGE('151351'!AE13:AE14) -> 0.99499071 | AI12: =AVERAGE('151452'!AE13:AE14,'151453'!AE13:AE14) -> 0.99834639 | AK12: =AVERAGE('151551'!AE13:AE14) -> 0.99646863 | AM12: =AVERAGE('151651'!AE13:AE14,'151652'!AE13:AE14) -> 0.9973909 | AO12: =AVERAGE('151751'!AE13:AE14) -> 0.98756408 | AQ12: =AVERAGE('151851'!AE13:AE14,'151852'!AE13:AE14,'151853'!AE13:AE14) -> 0.98718827 | AS12: =AVERAGE('151951'!AE13:AE14,'151952'!AE13:AE14) -> 0.99530942 | AU12: =AVERAGE('152052'!AE13:AE14,'152053'!AE13:AE14,'152054'!AE13:AE14) -> 0.99022372 | AW12: =AVERAGE('152151'!AE13:AE14,'152152'!AE13:AE14) -> 0.99388358 | AY12: =AVERAGE('152251'!AE13:AE14,'152252'!AE13:AE14) -> 0.99587081 | BA12: =AVERAGE('152351'!AE13:AE14,'152352'!AE13:AE14,'152353'!AE13:AE14) -> 0.99829941 | BC12: =AVERAGE('152451'!AE13:AE14) -> 1 | BE12: =AVERAGE('152551'!AE13:AE14) -> 0.99403869 | BG12: =AVERAGE('152651'!AE13:AE14) -> 0.99769545 | BI12: =AVERAGE('152751'!AE13:AE14,'152752'!AE13:AE14,'152753'!AE13:AE14) -> 0.99800418 | BK12: =AVERAGE('152851'!AE13:AE14,'152853'!AE13:AE14) -> 0.99637265 | BM12: =AVERAGE('152951'!AE13:AE14) -> 0.99872355 | BO12: =AVERAGE('153051'!AE13:AE14,'153052'!AE13:AE14) -> 0.99412055 | BQ12: =AVERAGE('153151'!AE13:AE14) -> 0.99734126 | BS12: =AVERAGE('153251'!AE13:AE14) -> 0.99653811 | BU12: =AVERAGE('153351'!AE13:AE14) -> 0.99632861 | BW12: =AVERAGE('153451'!AE13:AE14) -> 0.99556191 | BY12: =AVERAGE('153551'!AE13:AE14,'153552'!AE13:AE14,'153553'!AE13:AE14) -> 0.9961051 | CA12: =AVERAGE('153651'!AE13:AE14,'153652'!AE13:AE14,'153653'!AE13:AE14,'153654'!AE13:AE14) -> 0.98949335 | CC12: =AVERAGE('153753'!AE13:AE14,'153752'!AE13:AE14) -> 0.99290115 | CE12: =AVERAGE('153851'!AE13:AE14,'153852'!AE13:AE14) -> 0.99381585 | CG12: =AVERAGE('153951'!AE13:AE14) -> 0.99925518 | CI12: =AVERAGE('154051'!AE13:AE14,'154052'!AE13:AE14,'154053'!AE13:AE14) -> 0.99725819 | CK12: =AVERAGE(I12,K12,M12,O12,Q12,S12,U12,W12,Y12,AA12,AC12,AE12,AG12,AI12,AK12,AM12,AO12,AQ12,AS12,AU12,AW12,AY12,BA12,BC12,BE12,BG12,BI12,BK12,BM12,BO12,BQ12,BS12,BU12,BW12,BY12,CA12,CC12,CE12,CG12,CI12) -> 0.99542197
H13: Número de trámites aplicados
A15: 3 | B15: TRANSFERENCIA | C15: Responsable de Módulo | D15: Transacciones exitosas = | E15: (Número de Archivos de Transacción aceptados /Total de Archivos de Transacción procesados) x100 | F15: Semanal (remesa) | G15: 0.9 | H15: Número de Archivos de Transacción aceptados | I15: =AVERAGE('150151'!AE16:AE17,'150152'!AE16:AE17,'150153'!AE16:AE17) -> 1 | K15: =AVERAGE('150251'!AE16:AE17,'150253'!AE16:AE17) -> 0.99997297 | M15: =AVERAGE('150351'!AE16:AE17,'150352'!AE16:AE17,'150353'!AE16:AE17) -> 0.99971246 | O15: =AVERAGE('150451'!AE16:AE17) -> 1 | Q15: =AVERAGE('150551'!AE16:AE17) -> 1 | S15: =AVERAGE('150651'!AE16:AE17,'150652'!AE16:AE17) -> 1 | U15: =AVERAGE('150751'!AE16:AE17) -> 0.99996222 | W15: =AVERAGE('150851'!AE16:AE17) -> 0.99863275 | Y15: =AVERAGE('150951'!AE16:AE17,'150952'!AE16:AE17,'150953'!AE16:AE17,'150954'!AE16:AE17) -> 1 | AA15: =AVERAGE('151051'!AE16:AE17) -> 1 | AC15: =AVERAGE('151151'!AE16:AE17) -> 1 | AE15: =AVERAGE('151251'!AE16:AE17,'151252'!AE16:AE17,'151253'!AE16:AE17) -> 1 | AG15: =AVERAGE('151351'!AE16:AE17) -> 1 | AI15: =AVERAGE('151452'!AE16:AE17,'151453'!AE16:AE17) -> 1 | AK15: =AVERAGE('151551'!AE16:AE17) -> 1 | AM15: =AVERAGE('151651'!AE16:AE17,'151652'!AE16:AE17) -> 1 | AO15: =AVERAGE('151751'!AE16:AE17) -> 0.9991688 | AQ15: =AVERAGE('151851'!AE16:AE17,'151852'!AE16:AE17,'151853'!AE16:AE17) -> 1.0000172 | AS15: =AVERAGE('151951'!AE16:AE17,'151952'!AE16:AE17) -> 1 | AU15: =AVERAGE('152052'!AE16:AE17,'152053'!AE16:AE17,'152054'!AE16:AE17) -> 0.99960691 | AW15: =AVERAGE('152151'!AE16:AE17,'152152'!AE16:AE17) -> 1 | AY15: =AVERAGE('152251'!AE16:AE17,'152252'!AE16:AE17) -> 0.99997552 | BA15: =AVERAGE('152351'!AE16:AE17,'152352'!AE16:AE17,'152353'!AE16:AE17) -> 0.99980467 | BC15: =AVERAGE('152451'!AE16:AE17) -> 1 | BE15: =AVERAGE('152551'!AE16:AE17) -> 1 | BG15: =AVERAGE('152651'!AE16:AE17) -> 1 | BI15: =AVERAGE('152751'!AE16:AE17,'152752'!AE16:AE17,'152753'!AE16:AE17) -> 1 | BK15: =AVERAGE('152851'!AE16:AE17,'152853'!AE16:AE17) -> 1 | BM15: =AVERAGE('152951'!AE16:AE17) -> 0.99979576 | BO15: =AVERAGE('153051'!AE16:AE17,'153052'!AE16:AE17) -> 0.99998109 | BQ15: =AVERAGE('153151'!AE16:AE17) -> 1 | BS15: =AVERAGE('153251'!AE16:AE17) -> 1 | BU15: =AVERAGE('153351'!AE16:AE17) -> 1 | BW15: =AVERAGE('153451'!AE16:AE17) -> 1 | BY15: =AVERAGE('153551'!AE16:AE17,'153552'!AE16:AE17,'153553'!AE16:AE17) -> 1 | CA15: =AVERAGE('153651'!AE16:AE17,'153652'!AE16:AE17,'153653'!AE16:AE17,'153654'!AE16:AE17) -> 1 | CC15: =AVERAGE('153753'!AE16:AE17,'153752'!AE16:AE17) -> 1 | CE15: =AVERAGE('153851'!AE16:AE17,'153852'!AE16:AE17) -> 1 | CG15: =AVERAGE('153951'!AE16:AE17) -> 1 | CI15: =AVERAGE('154051'!AE16:AE17,'154052'!AE16:AE17,'154053'!AE16:AE17) -> 1 | CK15: =AVERAGE(I15,K15,M15,O15,Q15,S15,U15,W15,Y15,AA15,AC15,AE15,AG15,AI15,AK15,AM15,AO15,AQ15,AS15,AU15,AW15,AY15,BA15,BC15,BE15,BG15,BI15,BK15,BM15,BO15,BQ15,BS15,BU15,BW15,BY15,CA15,CC15,CE15,CG15,CI15) -> 0.99991576
H16: Total de Archivos de Transacción procesados
A18: 4 | B18: CONCILIACIÓN | C18: Responsable de Módulo | D18: Credenciales disponibles para entrega = | E18: ((Credenciales recibidas - Credenciales inconsistentes) / Credenciales recibidas) x 100 | F18: Semanal (remesa) | G18: 0.9 | H18: Credenciales Recibidas - Credenciales inconsistentes | I18: =AVERAGE('150151'!AE19:AE20,'150152'!AE19:AE20,'150153'!AE19:AE20) -> 1 | K18: =AVERAGE('150251'!AE19:AE20,'150253'!AE19:AE20) -> 0.99971045 | M18: =AVERAGE('150351'!AE19:AE20,'150352'!AE19:AE20,'150353'!AE19:AE20) -> 1 | O18: =AVERAGE('150451'!AE19:AE20) -> 1 | Q18: =AVERAGE('150551'!AE19:AE20) -> 1 | S18: =AVERAGE('150651'!AE19:AE20,'150652'!AE19:AE20) -> 1 | U18: =AVERAGE('150751'!AE19:AE20) -> 1 | W18: =AVERAGE('150851'!AE19:AE20) -> 1 | Y18: =AVERAGE('150951'!AE19:AE20,'150952'!AE19:AE20,'150953'!AE19:AE20,'150954'!AE19:AE20) -> 1 | AA18: =AVERAGE('151051'!AE19:AE20) -> 1 | AC18: =AVERAGE('151151'!AE19:AE20) -> 1 | AE18: =AVERAGE('151251'!AE19:AE20,'151252'!AE19:AE20,'151253'!AE19:AE20) -> 1 | AG18: =AVERAGE('151351'!AE19:AE20) -> 1 | AI18: =AVERAGE('151452'!AE19:AE20,'151453'!AE19:AE20) -> 1 | AK18: =AVERAGE('151551'!AE19:AE20) -> 1 | AM18: =AVERAGE('151651'!AE19:AE20,'151652'!AE19:AE20) -> 1 | AO18: =AVERAGE('151751'!AE19:AE20) -> 1 | AQ18: =AVERAGE('151851'!AE19:AE20,'151852'!AE19:AE20,'151853'!AE19:AE20) -> 0.99997385 | AS18: =AVERAGE('151951'!AE19:AE20,'151952'!AE19:AE20) -> 1 | AU18: =AVERAGE('152052'!AE19:AE20,'152053'!AE19:AE20,'152054'!AE19:AE20) -> 1 | AW18: =AVERAGE('152151'!AE19:AE20,'152152'!AE19:AE20) -> 1 | AY18: =AVERAGE('152251'!AE19:AE20,'152252'!AE19:AE20) -> 0.99886177 | BA18: =AVERAGE('152351'!AE19:AE20,'152352'!AE19:AE20,'152353'!AE19:AE20) -> 1 | BC18: =AVERAGE('152451'!AE19:AE20) -> 1 | BE18: =AVERAGE('152551'!AE19:AE20) -> 1 | BG18: =AVERAGE('152651'!AE19:AE20) -> 1 | BI18: =AVERAGE('152751'!AE19:AE20,'152752'!AE19:AE20,'152753'!AE19:AE20) -> 1 | BK18: =AVERAGE('152851'!AE19:AE20,'152853'!AE19:AE20) -> 1 | BM18: =AVERAGE('152951'!AE19:AE20) -> 1 | BO18: =AVERAGE('153051'!AE19:AE20,'153052'!AE19:AE20) -> 1 | BQ18: =AVERAGE('153151'!AE19:AE20) -> 1 | BS18: =AVERAGE('153251'!AE19:AE20) -> 1 | BU18: =AVERAGE('153351'!AE19:AE20) -> 0.99996096 | BW18: =AVERAGE('153451'!AE19:AE20) -> 1 | BY18: =AVERAGE('153551'!AE19:AE20,'153552'!AE19:AE20,'153553'!AE19:AE20) -> 1 | CA18: =AVERAGE('153651'!AE19:AE20,'153652'!AE19:AE20,'153653'!AE19:AE20,'153654'!AE19:AE20) -> 1 | CC18: =AVERAGE('153753'!AE19:AE20,'153752'!AE19:AE20) -> 1 | CE18: =AVERAGE('153851'!AE19:AE20,'153852'!AE19:AE20) -> 1 | CG18: =AVERAGE('153951'!AE19:AE20) -> 1 | CI18: =AVERAGE('154051'!AE19:AE20,'154052'!AE19:AE20,'154053'!AE19:AE20) -> 1 | CK18: =AVERAGE(I18,K18,M18,O18,Q18,S18,U18,W18,Y18,AA18,AC18,AE18,AG18,AI18,AK18,AM18,AO18,AQ18,AS18,AU18,AW18,AY18,BA18,BC18,BE18,BG18,BI18,BK18,BM18,BO18,BQ18,BS18,BU18,BW18,BY18,CA18,CC18,CE18,CG18,CI18) -> 0.99996268
H19: Credenciales recibidas
A21: 5 | B21: CONCILIACIÓN | C21: Responsable de Módulo | D21: Credenciales disponibles para entrega = | E21: (Credenciales en resguardo / Credenciales totales en SIIRFE disponibles para entrega) x 100 | F21: Semanal (remesa) | G21: 1 | H21: Credenciales en resguardo | I21: =AVERAGE('150151'!AE22:AE23,'150152'!AE22:AE23,'150153'!AE22:AE23) -> 1 | K21: =AVERAGE('150251'!AE22:AE23,'150253'!AE22:AE23) -> 1 | M21: =AVERAGE('150351'!AE22:AE23,'150352'!AE22:AE23,'150353'!AE22:AE23) -> 1 | O21: =AVERAGE('150451'!AE22:AE23) -> 1 | Q21: =AVERAGE('150551'!AE22:AE23) -> 1 | S21: =AVERAGE('150651'!AE22:AE23,'150652'!AE22:AE23) -> 1 | U21: =AVERAGE('150751'!AE22:AE23) -> 1 | W21: =AVERAGE('150851'!AE22:AE23) -> 1 | Y21: =AVERAGE('150951'!AE22:AE23,'150952'!AE22:AE23,'150953'!AE22:AE23,'150954'!AE22:AE23) -> 1 | AA21: =AVERAGE('151051'!AE22:AE23) -> 1 | AC21: =AVERAGE('151151'!AE22:AE23) -> 1 | AE21: =AVERAGE('151251'!AE22:AE23,'151252'!AE22:AE23,'151253'!AE22:AE23) -> 1 | AG21: =AVERAGE('151351'!AE22:AE23) -> 1 | AI21: =AVERAGE('151452'!AE22:AE23,'151453'!AE22:AE23) -> 1 | AK21: =AVERAGE('151551'!AE22:AE23) -> 1 | AM21: =AVERAGE('151651'!AE22:AE23,'151652'!AE22:AE23) -> 1 | AO21: =AVERAGE('151751'!AE22:AE23) -> 1 | AQ21: =AVERAGE('151851'!AE22:AE23,'151852'!AE22:AE23,'151853'!AE22:AE23) -> 1 | AS21: =AVERAGE('151951'!AE22:AE23,'151952'!AE22:AE23) -> 1 | AU21: =AVERAGE('152052'!AE22:AE23,'152053'!AE22:AE23,'152054'!AE22:AE23) -> 1 | AW21: =AVERAGE('152151'!AE22:AE23,'152152'!AE22:AE23) -> 1 | AY21: =AVERAGE('152251'!AE22:AE23,'152252'!AE22:AE23) -> 1 | BA21: =AVERAGE('152351'!AE22:AE23,'152352'!AE22:AE23,'152353'!AE22:AE23) -> 1 | BC21: =AVERAGE('152451'!AE22:AE23) -> 1 | BE21: =AVERAGE('152551'!AE22:AE23) -> 1 | BG21: =AVERAGE('152651'!AE22:AE23) -> 1 | BI21: =AVERAGE('152751'!AE22:AE23,'152752'!AE22:AE23,'152753'!AE22:AE23) -> 1 | BK21: =AVERAGE('152851'!AE22:AE23,'152853'!AE22:AE23) -> 1 | BM21: =AVERAGE('152951'!AE22:AE23) -> 1 | BO21: =AVERAGE('153051'!AE22:AE23,'153052'!AE22:AE23) -> 1.0000179 | BQ21: =AVERAGE('153151'!AE22:AE23) -> 1 | BS21: =AVERAGE('153251'!AE22:AE23) -> 1 | BU21: =AVERAGE('153351'!AE22:AE23) -> 1 | BW21: =AVERAGE('153451'!AE22:AE23) -> 1 | BY21: =AVERAGE('153551'!AE22:AE23,'153552'!AE22:AE23,'153553'!AE22:AE23) -> 1 | CA21: =AVERAGE('153651'!AE22:AE23,'153652'!AE22:AE23,'153653'!AE22:AE23,'153654'!AE22:AE23) -> 1 | CC21: =AVERAGE('153753'!AE22:AE23,'153752'!AE22:AE23) -> 1 | CE21: =AVERAGE('153851'!AE22:AE23,'153852'!AE22:AE23) -> 1 | CG21: =AVERAGE('153951'!AE22:AE23) -> 1 | CI21: =AVERAGE('154051'!AE22:AE23,'154052'!AE22:AE23,'154053'!AE22:AE23) -> 1 | CK21: =AVERAGE(I21,K21,M21,O21,Q21,S21,U21,W21,Y21,AA21,AC21,AE21,AG21,AI21,AK21,AM21,AO21,AQ21,AS21,AU21,AW21,AY21,BA21,BC21,BE21,BG21,BI21,BK21,BM21,BO21,BQ21,BS21,BU21,BW21,BY21,CA21,CC21,CE21,CG21,CI21) -> 1.0000004
H22: Credenciales totales en SIIRFE disponibles para entrega
A24: 6 | B24: ENTREGA | C24: Operador de Equipo Tecnológico | D24: Efectividad de entrega de CPV en MAC = | E24: (Total de credenciales entregadas / Total de credenciales solicitadas) x 100 | F24: Semanal (remesa) | G24: 0.9 | H24: Total de credenciales entregadas | I24: =AVERAGE('150151'!AE25:AE26,'150152'!AE25:AE26,'150153'!AE25:AE26) -> 0.99678164 | K24: =AVERAGE('150251'!AE25:AE26,'150253'!AE25:AE26) -> 0.99935809 | M24: =AVERAGE('150351'!AE25:AE26,'150352'!AE25:AE26,'150353'!AE25:AE26) -> 0.99303194 | O24: =AVERAGE('150451'!AE25:AE26) -> 0.99920311 | Q24: =AVERAGE('150551'!AE25:AE26) -> 0.99728425 | S24: =AVERAGE('150651'!AE25:AE26,'150652'!AE25:AE26) -> 0.99758126 | U24: =AVERAGE('150751'!AE25:AE26) -> 0.99521149 | W24: =AVERAGE('150851'!AE25:AE26) -> 0.99988547 | Y24: =AVERAGE('150951'!AE25:AE26,'150952'!AE25:AE26,'150953'!AE25:AE26,'150954'!AE25:AE26) -> 0.99728423 | AA24: =AVERAGE('151051'!AE25:AE26) -> 1 | AC24: =AVERAGE('151151'!AE25:AE26) -> 0.99970011 | AE24: =AVERAGE('151251'!AE25:AE26,'151252'!AE25:AE26,'151253'!AE25:AE26) -> 0.99629892 | AG24: =AVERAGE('151351'!AE25:AE26) -> 0.9990566 | AI24: =AVERAGE('151452'!AE25:AE26,'151453'!AE25:AE26) -> 0.99962754 | AK24: =AVERAGE('151551'!AE25:AE26) -> 1 | AM24: =AVERAGE('151651'!AE25:AE26,'151652'!AE25:AE26) -> 0.99966519 | AO24: =AVERAGE('151751'!AE25:AE26) -> 1 | AQ24: =AVERAGE('151851'!AE25:AE26,'151852'!AE25:AE26,'151853'!AE25:AE26) -> 0.99913358 | AS24: =AVERAGE('151951'!AE25:AE26,'151952'!AE25:AE26) -> 1 | AU24: =AVERAGE('152052'!AE25:AE26,'152053'!AE25:AE26,'152054'!AE25:AE26) -> 0.99642667 | AW24: =AVERAGE('152151'!AE25:AE26,'152152'!AE25:AE26) -> 0.99898067 | AY24: =AVERAGE('152251'!AE25:AE26,'152252'!AE25:AE26) -> 0.9954368 | BA24: =AVERAGE('152351'!AE25:AE26,'152352'!AE25:AE26,'152353'!AE25:AE26) -> 0.99933993 | BC24: =AVERAGE('152451'!AE25:AE26) -> 0.99955789 | BE24: =AVERAGE('152551'!AE25:AE26) -> 0.98765588 | BG24: =AVERAGE('152651'!AE25:AE26) -> 0.99669541 | BI24: =AVERAGE('152751'!AE25:AE26,'152752'!AE25:AE26,'152753'!AE25:AE26) -> 0.99428166 | BK24: =AVERAGE('152851'!AE25:AE26,'152853'!AE25:AE26) -> 0.99921987 | BM24: =AVERAGE('152951'!AE25:AE26) -> 0.99744891 | BO24: =AVERAGE('153051'!AE25:AE26,'153052'!AE25:AE26) -> 0.99961926 | BQ24: =AVERAGE('153151'!AE25:AE26) -> 1 | BS24: =AVERAGE('153251'!AE25:AE26) -> 1 | BU24: =AVERAGE('153351'!AE25:AE26) -> 1 | BW24: =AVERAGE('153451'!AE25:AE26) -> 0.99833785 | BY24: =AVERAGE('153551'!AE25:AE26,'153552'!AE25:AE26,'153553'!AE25:AE26) -> 0.9998244 | CA24: =AVERAGE('153651'!AE25:AE26,'153652'!AE25:AE26,'153653'!AE25:AE26,'153654'!AE25:AE26) -> 1 | CC24: =AVERAGE('153753'!AE25:AE26,'153752'!AE25:AE26) -> 0.99962368 | CE24: =AVERAGE('153851'!AE25:AE26,'153852'!AE25:AE26) -> 1 | CG24: =AVERAGE('153951'!AE25:AE26) -> 1 | CI24: =AVERAGE('154051'!AE25:AE26,'154052'!AE25:AE26,'154053'!AE25:AE26) -> 0.9991351 | CK24: =AVERAGE(I24,K24,M24,O24,Q24,S24,U24,W24,Y24,AA24,AC24,AE24,AG24,AI24,AK24,AM24,AO24,AQ24,AS24,AU24,AW24,AY24,BA24,BC24,BE24,BG24,BI24,BK24,BM24,BO24,BQ24,BS24,BU24,BW24,BY24,CA24,CC24,CE24,CG24,CI24) -> 0.99826718
H25: Total de credenciales solicitadas

Sheet 150151
A1: ='PANEL DE CONTROL DISTRITAL'!A1:Q1 -> INSTITUTO NACIONAL ELECTORAL SISTEMA DE GESTIÓN DE LA CALIDAD ESTADO DE MÉXICO
D2: Distrito | E2: 1 | F2: Módulo | H2: 150151 | X2: ='PANEL DE CONTROL DISTRITAL'!M2 -> Fecha de corte: 22/01/2024
A4: TABLERO DE CONTROL DE PROCESOS SUSTANTIVOS DEL SISTEMA DE GESTIÓN DE LA CALIDAD
A6: ='PANEL DE CONTROL DISTRITAL'!A6 -> Número | B6: ='PANEL DE CONTROL DISTRITAL'!B6 -> PROCESOS SUSTANTIVOS E INDICADORES | I6: SEMANA OPERATIVA | AE6: % AVANCE REGISTRADO
B7: ='PANEL DE CONTROL DISTRITAL'!B7 -> DESCRIPCIÓN | E7: ='PANEL DE CONTROL DISTRITAL'!E7 -> MEDICIÓN | I7: ='PANEL DE CONTROL DISTRITAL'!A5 -> CAMPAÑA ANUAL INTENSA 2023
B9: ='PANEL DE CONTROL DISTRITAL'!B8 -> Proceso | C9: ='PANEL DE CONTROL DISTRITAL'!C8 -> Dueño de Proceso | D9: ='PANEL DE CONTROL DISTRITAL'!D8 -> Indicador | E9: ='PANEL DE CONTROL DISTRITAL'!E8 -> Cálculo | F9: ='PANEL DE CONTROL DISTRITAL'!F8 -> Periodo | G9: ='PANEL DE CONTROL DISTRITAL'!G8 -> Estimado | H9: ='PANEL DE CONTROL DISTRITAL'!H8 -> Nominativo | I9: 2023-37 | J9: 2023-38 | K9: 2023-39 | L9: 2023-40 | M9: 2023-41 | N9: 2023-42 | O9: 2023-43 | P9: 2023-44 | Q9: 2023-45 | R9: 2023-46 | S9: 2023-47 | T9: 2023-48 | U9: 2023-49 | V9: 2023-50 | W9: 2023-51 | X9: 2023-52 | Y9: 2023-53 | Z9: 2023-54 | AA9: 2024-01 | AB9: 2024-02 | AC9: 2024-03 | AD9: 2024-04
A10: ='PANEL DE CONTROL DISTRITAL'!A9 -> 1 | B10: ='PANEL DE CONTROL DISTRITAL'!B9 -> ENTREVISTA | C10: ='PANEL DE CONTROL DISTRITAL'!C9 -> Auxiliar de Atención Ciudadana | D10: ='PANEL DE CONTROL DISTRITAL'!D9 -> Efectividad de la entrevista = | E10: ='PANEL DE CONTROL DISTRITAL'!E9 -> (Número de trámites aplicados / (Número de fichas requisitadas - Notificaciones de improcedencia de trámite)) x 100 | F10: ='PANEL DE CONTROL DISTRITAL'!F9 -> Semanal (remesa) | G10: ='PANEL DE CONTROL DISTRITAL'!G9 -> 0.9 | H10: ='PANEL DE CONTROL DISTRITAL'!H9 -> Número de trámites aplicados | I10: 84 | J10: 448 | K10: 377 | L10: 397 | M10: 450 | N10: 368 | O10: 379 | P10: 412 | Q10: 400 | R10: 328 | S10: 476 | T10: 515 | U10: 574 | V10: 826 | W10: 830 | X10: 724 | Y10: 781 | Z10: 655 | AA10: 837 | AB10: 1209 | AC10: 1742 | AD10: 434 | AE10: =IFERROR(SUM(I10:AD10)/SUM(I11:AD11),0) -> 1
H11: ='PANEL DE CONTROL DISTRITAL'!H10 -> Número de fichas requisitadas - Notificaciones de improcedencia de trámite | I11: 84 | J11: 448 | K11: 377 | L11: 397 | M11: 450 | N11: 368 | O11: 379 | P11: 412 | Q11: 400 | R11: 328 | S11: 476 | T11: 515 | U11: 574 | V11: 826 | W11: 830 | X11: 724 | Y11: 781 | Z11: 655 | AA11: 837 | AB11: 1209 | AC11: 1742 | AD11: 434
A13: ='PANEL DE CONTROL DISTRITAL'!A12 -> 2 | B13: ='PANEL DE CONTROL DISTRITAL'!B12 -> TRÁMITE | C13: ='PANEL DE CONTROL DISTRITAL'!C12 -> Operador de Equipo Tecnológico | D13: ='PANEL DE CONTROL DISTRITAL'!D12 -> Trámites exitosos efectivos= | E13: ='PANEL DE CONTROL DISTRITAL'!E12 -> (Número de trámites exitosos / Número de trámites aplicados) x 100 | F13: ='PANEL DE CONTROL DISTRITAL'!F12 -> Semanal (remesa) | G13: ='PANEL DE CONTROL DISTRITAL'!G12 -> 0.9 | H13: ='PANEL DE CONTROL DISTRITAL'!H12 -> Número de trámites exitosos | I13: 84 | J13: 446 | K13: 377 | L13: 397 | M13: 450 | N13: 367 | O13: 379 | P13: 412 | Q13: 398 | R13: 327 | S13: 476 | T13: 515 | U13: 574 | V13: 820 | W13: 828 | X13: 723 | Y13: 781 | Z13: 655 | AA13: 837 | AB13: 1208 | AC13: 1737 | AD13: 434 | AE13: =IFERROR(SUM(I13:AD13)/SUM(I14:AD14),0) -> 0.99841462
H14: ='PANEL DE CONTROL DISTRITAL'!H13 -> Número de trámites aplicados | I14: 84 | J14: 448 | K14: 377 | L14: 397 | M14: 450 | N14: 368 | O14: 379 | P14: 412 | Q14: 400 | R14: 328 | S14: 476 | T14: 515 | U14: 574 | V14: 826 | W14: 830 | X14: 724 | Y14: 781 | Z14: 655 | AA14: 837 | AB14: 1209 | AC14: 1742 | AD14: 434
A16: ='PANEL DE CONTROL DISTRITAL'!A15 -> 3 | B16: ='PANEL DE CONTROL DISTRITAL'!B15 -> TRANSFERENCIA | C16: ='PANEL DE CONTROL DISTRITAL'!C15 -> Responsable de Módulo | D16: ='PANEL DE CONTROL DISTRITAL'!D15 -> Transacciones exitosas = | E16: ='PANEL DE CONTROL DISTRITAL'!E15 -> (Número de Archivos de Transacción aceptados /Total de Archivos de Transacción procesados) x100 | F16: ='PANEL DE CONTROL DISTRITAL'!F15 -> Semanal (remesa) | G16: ='PANEL DE CONTROL DISTRITAL'!G15 -> 0.9 | H16: ='PANEL DE CONTROL DISTRITAL'!H15 -> Número de Archivos de Transacción aceptados | I16: 84 | J16: 448 | K16: 377 | L16: 397 | M16: 450 | N16: 368 | O16: 379 | P16: 412 | Q16: 400 | R16: 328 | S16: 476 | T16: 515 | U16: 574 | V16: 826 | W16: 830 | X16: 724 | Y16: 781 | Z16: 655 | AA16: 837 | AB16: 1209 | AC16: 1742 | AD16: 434 | AE16: =IFERROR(SUM(I16:AD16)/SUM(I17:AD17),0) -> 1
H17: ='PANEL DE CONTROL DISTRITAL'!H16 -> Total de Archivos de Transacción procesados | I17: 84 | J17: 448 | K17: 377 | L17: 397 | M17: 450 | N17: 368 | O17: 379 | P17: 412 | Q17: 400 | R17: 328 | S17: 476 | T17: 515 | U17: 574 | V17: 826 | W17: 830 | X17: 724 | Y17: 781 | Z17: 655 | AA17: 837 | AB17: 1209 | AC17: 1742 | AD17: 434
A19: ='PANEL DE CONTROL DISTRITAL'!A18 -> 4 | B19: ='PANEL DE CONTROL DISTRITAL'!B18 -> CONCILIACIÓN | C19: ='PANEL DE CONTROL DISTRITAL'!C18 -> Responsable de Módulo | D19: ='PANEL DE CONTROL DISTRITAL'!D18 -> Credenciales disponibles para entrega = | E19: ='PANEL DE CONTROL DISTRITAL'!E18 -> ((Credenciales recibidas - Credenciales inconsistentes) / Credenciales recibidas) x 100 | F19: ='PANEL DE CONTROL DISTRITAL'!F18 -> Semanal (remesa) | G19: ='PANEL DE CONTROL DISTRITAL'!G18 -> 0.9 | H19: ='PANEL DE CONTROL DISTRITAL'!H18 -> Credenciales Recibidas - Credenciales inconsistentes | I19: 92 | J19: 351 | K19: 404 | L19: 409 | M19: 399 | N19: 450 | O19: 348 | P19: 410 | Q19: 407 | R19: 319 | S19: 406 | T19: 487 | U19: 431 | V19: 381 | W19: 1077 | X19: 815 | Y19: 624 | Z19: 447 | AA19: 751 | AB19: 1479 | AC19: 841 | AD19: 0 | AE19: =IFERROR(SUM(I19:AD19)/SUM(I20:AD20),0) -> 1
H20: ='PANEL DE CONTROL DISTRITAL'!H19 -> Credenciales recibidas | I20: 92 | J20: 351 | K20: 404 | L20: 409 | M20: 399 | N20: 450 | O20: 348 | P20: 410 | Q20: 407 | R20: 319 | S20: 406 | T20: 487 | U20: 431 | V20: 381 | W20: 1077 | X20: 815 | Y20: 624 | Z20: 447 | AA20: 751 | AB20: 1479 | AC20: 841 | AD20: 0
A22: ='PANEL DE CONTROL DISTRITAL'!A21 -> 5 | B22: ='PANEL DE CONTROL DISTRITAL'!B21 -> CONCILIACIÓN | C22: ='PANEL DE CONTROL DISTRITAL'!C21 -> Responsable de Módulo | D22: ='PANEL DE CONTROL DISTRITAL'!D21 -> Credenciales disponibles para entrega = | E22: ='PANEL DE CONTROL DISTRITAL'!E21 -> (Credenciales en resguardo / Credenciales totales en SIIRFE disponibles para entrega) x 100 | F22: ='PANEL DE CONTROL DISTRITAL'!F21 -> Semanal (remesa) | G22: ='PANEL DE CONTROL DISTRITAL'!G21 -> 1 | H22: ='PANEL DE CONTROL DISTRITAL'!H21 -> Credenciales en resguardo | I22: 829 | J22: 758 | K22: 751 | L22: 705 | M22: 705 | N22: 737 | O22: 655 | P22: 679 | Q22: 696 | R22: 701 | S22: 648 | T22: 743 | U22: 697 | V22: 567 | W22: 905 | X22: 953 | Y22: 783 | Z22: 492 | AA22: 563 | AB22: 1195 | AC22: 1410 | AD22: 1344 | AE22: =IFERROR(SUM(I22:AD22)/SUM(I23:AD23),0) -> 1
H23: ='PANEL DE CONTROL DISTRITAL'!H22 -> Credenciales totales en SIIRFE disponibles para entrega | I23: 829 | J23: 758 | K23: 751 | L23: 705 | M23: 705 | N23: 737 | O23: 655 | P23: 679 | Q23: 696 | R23: 701 | S23: 648 | T23: 743 | U23: 697 | V23: 567 | W23: 905 | X23: 953 | Y23: 783 | Z23: 492 | AA23: 563 | AB23: 1195 | AC23: 1410 | AD23: 1344
A25: ='PANEL DE CONTROL DISTRITAL'!A24 -> 6 | B25: ='PANEL DE CONTROL DISTRITAL'!B24 -> ENTREGA | C25: ='PANEL DE CONTROL DISTRITAL'!C24 -> Operador de Equipo Tecnológico | D25: ='PANEL DE CONTROL DISTRITAL'!D24 -> Efectividad de entrega de CPV en MAC = | E25: ='PANEL DE CONTROL DISTRITAL'!E24 -> (Total de credenciales entregadas / Total de credenciales solicitadas) x 100 | F25: ='PANEL DE CONTROL DISTRITAL'!F24 -> Semanal (remesa) | G25: ='PANEL DE CONTROL DISTRITAL'!G24 -> 0.9 | H25: ='PANEL DE CONTROL DISTRITAL'!H24 -> Total de credenciales entregadas | I25: 119 | J25: 412 | K25: 405 | L25: 455 | M25: 395 | N25: 413 | O25: 430 | P25: 386 | Q25: 390 | R25: 314 | S25: 455 | T25: 392 | U25: 477 | V25: 511 | W25: 721 | X25: 763 | Y25: 794 | Z25: 738 | AA25: 680 | AB25: 847 | AC25: 622 | AD25: 66 | AE25: =IFERROR(SUM(I25:AD25)/SUM(I26:AD26),0) -> 0.99953661
H26: ='PANEL DE CONTROL DISTRITAL'!H25 -> Total de credenciales solicitadas | I26: 120 | J26: 412 | K26: 405 | L26: 457 | M26: 395 | N26: 413 | O26: 431 | P26: 387 | Q26: 390 | R26: 314 | S26: 455 | T26: 392 | U26: 477 | V26: 511 | W26: 721 | X26: 763 | Y26: 794 | Z26: 738 | AA26: 680 | AB26: 847 | AC26: 622 | AD26: 66
B27: *Registre el valor nominal solicitado en la celda, el resultado proporcional esta automatizado.
I29: Semaforización
J30: Valor que requiere atención y justificación en el apartado de observaciones
J31: Valor suficiente
J32: Valor esperado
B34: CUADRO DE OBSERVACIONES
B35: Descripción | H35: No conformidad

Sheet 150152
A1: ='PANEL DE CONTROL DISTRITAL'!A1:Q1 -> INSTITUTO NACIONAL ELECTORAL SISTEMA DE GESTIÓN DE LA CALIDAD ESTADO DE MÉXICO
D2: Distrito | E2: 1 | F2: Módulo | H2: 150152 | X2: ='PANEL DE CONTROL DISTRITAL'!M2 -> Fecha de corte: 22/01/2024
A4: TABLERO DE CONTROL DE PROCESOS SUSTANTIVOS DEL SISTEMA DE GESTIÓN DE LA CALIDAD
A6: ='PANEL DE CONTROL DISTRITAL'!A6 -> Número | B6: ='PANEL DE CONTROL DISTRITAL'!B6 -> PROCESOS SUSTANTIVOS E INDICADORES | I6: SEMANA OPERATIVA | AE6: % AVANCE REGISTRADO
B7: ='PANEL DE CONTROL DISTRITAL'!B7 -> DESCRIPCIÓN | E7: ='PANEL DE CONTROL DISTRITAL'!E7 -> MEDICIÓN | I7: ='PANEL DE CONTROL DISTRITAL'!A5 -> CAMPAÑA ANUAL INTENSA 2023
B9: ='PANEL DE CONTROL DISTRITAL'!B8 -> Proceso | C9: ='PANEL DE CONTROL DISTRITAL'!C8 -> Dueño de Proceso | D9: ='PANEL DE CONTROL DISTRITAL'!D8 -> Indicador | E9: ='PANEL DE CONTROL DISTRITAL'!E8 -> Cálculo | F9: ='PANEL DE CONTROL DISTRITAL'!F8 -> Periodo | G9: ='PANEL DE CONTROL DISTRITAL'!G8 -> Estimado | H9: ='PANEL DE CONTROL DISTRITAL'!H8 -> Nominativo | I9: ='150151'!I9 -> 2023-37 | J9: ='150151'!J9 -> 2023-38 | K9: ='150151'!K9 -> 2023-39 | L9: ='150151'!L9 -> 2023-40 | M9: ='150151'!M9 -> 2023-41 | N9: ='150151'!N9 -> 2023-42 | O9: ='150151'!O9 -> 2023-43 | P9: ='150151'!P9 -> 2023-44 | ... X9: ='150151'!X9 -> 2023-52 | Y9: 2023-53 | Z9: 2023-54 | AA9: 2024-01 | AB9: 2024-02 | AC9: 2024-03 | AD9: 2024-04
A10: ='PANEL DE CONTROL DISTRITAL'!A9 -> 1 | B10: ='PANEL DE CONTROL DISTRITAL'!B9 -> ENTREVISTA | C10: ='PANEL DE CONTROL DISTRITAL'!C9 -> Auxiliar de Atención Ciudadana | D10: ='PANEL DE CONTROL DISTRITAL'!D9 -> Efectividad de la entrevista = | E10: ='PANEL DE CONTROL DISTRITAL'!E9 -> (Número de trámites aplicados / (Número de fichas requisitadas - Notificaciones de improcedencia de trámite)) x 100 | F10: ='PANEL DE CONTROL DISTRITAL'!F9 -> Semanal (remesa) | G10: ='PANEL DE CONTROL DISTRITAL'!G9 -> 0.9 | H10: ='PANEL DE CONTROL DISTRITAL'!H9 -> Número de trámites aplicados | I10: 56 | J10: 345 | K10: 342 | L10: 301 | M10: 214 | N10: 204 | O10: 236 | P10: 205 | Q10: 232 | R10: 132 | S10: 207 | T10: 230 | U10: 276 | V10: 420 | W10: 440 | X10: 404 | Y10: 429 | Z10: 275 | AA10: 376 | AB10: 553 | AC10: 685 | AD10: 196 | AE10: =IFERROR(SUM(I10:AD10)/SUM(I11:AD11),0) -> 1
H11: ='PANEL DE CONTROL DISTRITAL'!H10 -> Número de fichas requisitadas - Notificaciones de improcedencia de trámite | I11: 56 | J11: 345 | K11: 342 | L11: 301 | M11: 214 | N11: 204 | O11: 236 | P11: 205 | Q11: 232 | R11: 132 | S11: 207 | T11: 230 | U11: 276 | V11: 420 | W11: 440 | X11: 404 | Y11: 429 | Z11: 275 | AA11: 376 | AB11: 553 | AC11: 685 | AD11: 196
A13: ='PANEL DE CONTROL DISTRITAL'!A12 -> 2 | B13: ='PANEL DE CONTROL DISTRITAL'!B12 -> TRÁMITE | C13: ='PANEL DE CONTROL DISTRITAL'!C12 -> Operador de Equipo Tecnológico | D13: ='PANEL DE CONTROL DISTRITAL'!D12 -> Trámites exitosos efectivos= | E13: ='PANEL DE CONTROL DISTRITAL'!E12 -> (Número de trámites exitosos / Número de trámites aplicados) x 100 | F13: ='PANEL DE CONTROL DISTRITAL'!F12 -> Semanal (remesa) | G13: ='PANEL DE CONTROL DISTRITAL'!G12 -> 0.9 | H13: ='PANEL DE CONTROL DISTRITAL'!H12 -> Número de trámites exitosos | I13: 56 | J13: 345 | K13: 341 | L13: 301 | M13: 214 | N13: 204 | O13: 236 | P13: 205 | Q13: 232 | R13: 132 | S13: 206 | T13: 229 | U13: 276 | V13: 418 | W13: 440 | X13: 404 | Y13: 429 | Z13: 274 | AA13: 376 | AB13: 550 | AC13: 684 | AD13: 195 | AE13: =IFERROR(SUM(I13:AB13)/SUM(I14:AB14),0) -> 0.99846861
H14: ='PANEL DE CONTROL DISTRITAL'!H13 -> Número de trámites aplicados | I14: 56 | J14: 345 | K14: 342 | L14: 301 | M14: 214 | N14: 204 | O14: 236 | P14: 205 | Q14: 232 | R14: 132 | S14: 207 | T14: 230 | U14: 276 | V14: 420 | W14: 440 | X14: 404 | Y14: 429 | Z14: 275 | AA14: 376 | AB14: 553 | AC14: 685 | AD14: 196
A16: ='PANEL DE CONTROL DISTRITAL'!A15 -> 3 | B16: ='PANEL DE CONTROL DISTRITAL'!B15 -> TRANSFERENCIA | C16: ='PANEL DE CONTROL DISTRITAL'!C15 -> Responsable de Módulo | D16: ='PANEL DE CONTROL DISTRITAL'!D15 -> Transacciones exitosas = | E16: ='PANEL DE CONTROL DISTRITAL'!E15 -> (Número de Archivos de Transacción aceptados /Total de Archivos de Transacción procesados) x100 | F16: ='PANEL DE CONTROL DISTRITAL'!F15 -> Semanal (remesa) | G16: ='PANEL DE CONTROL DISTRITAL'!G15 -> 0.9 | H16: ='PANEL DE CONTROL DISTRITAL'!H15 -> Número de Archivos de Transacción aceptados | I16: 56 | J16: 345 | K16: 342 | L16: 301 | M16: 214 | N16: 204 | O16: 236 | P16: 205 | Q16: 232 | R16: 132 | S16: 207 | T16: 230 | U16: 276 | V16: 420 | W16: 440 | X16: 404 | Y16: 429 | Z16: 275 | AA16: 376 | AB16: 553 | AC16: 685 | AD16: 196 | AE16: =IFERROR(SUM(I16:AD16)/SUM(I17:AD17),0) -> 1
H17: ='PANEL DE CONTROL DISTRITAL'!H16 -> Total de Archivos de Transacción procesados | I17: 56 | J17: 345 | K17: 342 | L17: 301 | M17: 214 | N17: 204 | O17: 236 | P17: 205 | Q17: 232 | R17: 132 | S17: 207 | T17: 230 | U17: 276 | V17: 420 | W17: 440 | X17: 404 | Y17: 429 | Z17: 275 | AA17: 376 | AB17: 553 | AC17: 685 | AD17: 196
A19: ='PANEL DE CONTROL DISTRITAL'!A18 -> 4 | B19: ='PANEL DE CONTROL DISTRITAL'!B18 -> CONCILIACIÓN | C19: ='PANEL DE CONTROL DISTRITAL'!C18 -> Responsable de Módulo | D19: ='PANEL DE CONTROL DISTRITAL'!D18 -> Credenciales disponibles para entrega = | E19: ='PANEL DE CONTROL DISTRITAL'!E18 -> ((Credenciales recibidas - Credenciales inconsistentes) / Credenciales recibidas) x 100 | F19: ='PANEL DE CONTROL DISTRITAL'!F18 -> Semanal (remesa) | G19: ='PANEL DE CONTROL DISTRITAL'!G18 -> 0.9 | H19: ='PANEL DE CONTROL DISTRITAL'!H18 -> Credenciales Recibidas - Credenciales inconsistentes | I19: 0 | J19: 187 | K19: 351 | L19: 301 | M19: 305 | N19: 185 | O19: 247 | P19: 236 | Q19: 180 | R19: 179 | S19: 190 | T19: 229 | U19: 168 | V19: 227 | W19: 529 | X19: 417 | Y19: 329 | Z19: 289 | AA19: 331 | AB19: 696 | AC19: 336 | AD19: 0 | AE19: =IFERROR(SUM(I19:AD19)/SUM(I20:AD20),0) -> 1
H20: ='PANEL DE CONTROL DISTRITAL'!H19 -> Credenciales recibidas | I20: 0 | J20: 187 | K20: 351 | L20: 301 | M20: 305 | N20: 185 | O20: 247 | P20: 236 | Q20: 180 | R20: 179 | S20: 190 | T20: 229 | U20: 168 | V20: 227 | W20: 529 | X20: 417 | Y20: 329 | Z20: 289 | AA20: 331 | AB20: 696 | AC20: 336 | AD20: 0
A22: ='PANEL DE CONTROL DISTRITAL'!A21 -> 5 | B22: ='PANEL DE CONTROL DISTRITAL'!B21 -> CONCILIACIÓN | C22: ='PANEL DE CONTROL DISTRITAL'!C21 -> Responsable de Módulo | D22: ='PANEL DE CONTROL DISTRITAL'!D21 -> Credenciales disponibles para entrega = | E22: ='PANEL DE CONTROL DISTRITAL'!E21 -> (Credenciales en resguardo / Credenciales totales en SIIRFE disponibles para entrega) x 100 | F22: ='PANEL DE CONTROL DISTRITAL'!F21 -> Semanal (remesa) | G22: ='PANEL DE CONTROL DISTRITAL'!G21 -> 1 | H22: ='PANEL DE CONTROL DISTRITAL'!H21 -> Credenciales en resguardo | I22: 445 | J22: 373 | K22: 716 | L22: 747 | M22: 626 | N22: 511 | O22: 589 | P22: 638 | Q22: 531 | R22: 509 | S22: 504 | T22: 536 | U22: 557 | V22: 513 | W22: 904 | X22: 982 | Y22: 693 | Z22: 604 | AA22: 635 | AB22: 1002 | AC22: 899 | AD22: 879 | AE22: =IFERROR(SUM(I22:AD22)/SUM(I23:AD23),0) -> 1
H23: ='PANEL DE CONTROL DISTRITAL'!H22 -> Credenciales totales en SIIRFE disponibles para entrega | I23: 445 | J23: 373 | K23: 716 | L23: 747 | M23: 626 | N23: 511 | O23: 589 | P23: 638 | Q23: 531 | R23: 509 | S23: 504 | T23: 536 | U23: 557 | V23: 513 | W23: 904 | X23: 982 | Y23: 693 | Z23: 604 | AA23: 635 | AB23: 1002 | AC23: 899 | AD23: 879
A25: ='PANEL DE CONTROL DISTRITAL'!A24 -> 6 | B25: ='PANEL DE CONTROL DISTRITAL'!B24 -> ENTREGA | C25: ='PANEL DE CONTROL DISTRITAL'!C24 -> Operador de Equipo Tecnológico | D25: ='PANEL DE CONTROL DISTRITAL'!D24 -> Efectividad de entrega de CPV en MAC = | E25: ='PANEL DE CONTROL DISTRITAL'!E24 -> (Total de credenciales entregadas / Total de credenciales solicitadas) x 100 | F25: ='PANEL DE CONTROL DISTRITAL'!F24 -> Semanal (remesa) | G25: ='PANEL DE CONTROL DISTRITAL'!G24 -> 0.9 | H25: ='PANEL DE CONTROL DISTRITAL'!H24 -> Total de credenciales entregadas | I25: 149 | J25: 259 | K25: 4 | L25: 270 | M25: 418 | N25: 287 | O25: 169 | P25: 187 | Q25: 287 | R25: 201 | S25: 192 | T25: 197 | U25: 147 | V25: 271 | W25: 138 | X25: 333 | Y25: 618 | Z25: 378 | AA25: 300 | AB25: 329 | AC25: 437 | AD25: 20 | AE25: =IFERROR(SUM(I25:AD25)/SUM(I26:AD26),0) -> 0.99946371
H26: ='PANEL DE CONTROL DISTRITAL'!H25 -> Total de credenciales solicitadas | I26: 149 | J26: 259 | K26: 4 | L26: 270 | M26: 420 | N26: 287 | O26: 170 | P26: 187 | Q26: 287 | R26: 201 | S26: 192 | T26: 197 | U26: 147 | V26: 271 | W26: 138 | X26: 333 | Y26: 618 | Z26: 378 | AA26: 300 | AB26: 329 | AC26: 437 | AD26: 20
B27: *Registre el valor nominal solicitado en la celda, el resultado proporcional esta automatizado.
I29: Semaforización
J30: Valor que requiere atención y justificación en el apartado de observaciones
J31: Valor suficiente
J32: Valor esperado
B34: CUADRO DE OBSERVACIONES
B35: Descripción | H35: No conformidad

Sheet 150153
A1: ='PANEL DE CONTROL DISTRITAL'!A1:Q1 -> INSTITUTO NACIONAL ELECTORAL SISTEMA DE GESTIÓN DE LA CALIDAD ESTADO DE MÉXICO
D2: Distrito | E2: 1 | F2: Módulo | H2: 150153 | X2: ='PANEL DE CONTROL DISTRITAL'!M2 -> Fecha de corte: 22/01/2024
A4: TABLERO DE CONTROL DE PROCESOS SUSTANTIVOS DEL SISTEMA DE GESTIÓN DE LA CALIDAD
A6: ='PANEL DE CONTROL DISTRITAL'!A6 -> Número | B6: ='PANEL DE CONTROL DISTRITAL'!B6 -> PROCESOS SUSTANTIVOS E INDICADORES | I6: SEMANA OPERATIVA | AE6: % AVANCE REGISTRADO
B7: ='PANEL DE CONTROL DISTRITAL'!B7 -> DESCRIPCIÓN | E7: ='PANEL DE CONTROL DISTRITAL'!E7 -> MEDICIÓN | I7: ='PANEL DE CONTROL DISTRITAL'!A5 -> CAMPAÑA ANUAL INTENSA 2023
B9: ='PANEL DE CONTROL DISTRITAL'!B8 -> Proceso | C9: ='PANEL DE CONTROL DISTRITAL'!C8 -> Dueño de Proceso | D9: ='PANEL DE CONTROL DISTRITAL'!D8 -> Indicador | E9: ='PANEL DE CONTROL DISTRITAL'!E8 -> Cálculo | F9: ='PANEL DE CONTROL DISTRITAL'!F8 -> Periodo | G9: ='PANEL DE CONTROL DISTRITAL'!G8 -> Estimado | H9: ='PANEL DE CONTROL DISTRITAL'!H8 -> Nominativo | I9: ='150151'!I9 -> 2023-37 | J9: ='150151'!J9 -> 2023-38 | K9: ='150151'!K9 -> 2023-39 | L9: ='150151'!L9 -> 2023-40 | M9: ='150151'!M9 -> 2023-41 | N9: ='150151'!N9 -> 2023-42 | O9: ='150151'!O9 -> 2023-43 | P9: ='150151'!P9 -> 2023-44 | ... X9: ='150151'!X9 -> 2023-52 | Y9: 2023-53 | Z9: 2023-54 | AA9: 2024-01 | AB9: 2024-02 | AC9: 2024-03 | AD9: 2024-04
A10: ='PANEL DE CONTROL DISTRITAL'!A9 -> 1 | B10: ='PANEL DE CONTROL DISTRITAL'!B9 -> ENTREVISTA | C10: ='PANEL DE CONTROL DISTRITAL'!C9 -> Auxiliar de Atención Ciudadana | D10: ='PANEL DE CONTROL DISTRITAL'!D9 -> Efectividad de la entrevista = | E10: ='PANEL DE CONTROL DISTRITAL'!E9 -> (Número de trámites aplicados / (Número de fichas requisitadas - Notificaciones de improcedencia de trámite)) x 100 | F10: ='PANEL DE CONTROL DISTRITAL'!F9 -> Semanal (remesa) | G10: ='PANEL DE CONTROL DISTRITAL'!G9 -> 0.9 | H10: ='PANEL DE CONTROL DISTRITAL'!H9 -> Número de trámites aplicados | I10: 88 | J10: 493 | K10: 233 | L10: 320 | M10: 189 | N10: 253 | O10: 166 | P10: 252 | Q10: 164 | R10: 195 | S10: 177 | T10: 298 | U10: 174 | V10: 340 | W10: 343 | X10: 339 | Y10: 201 | Z10: 222 | AA10: 177 | AB10: 674 | AC10: 879 | AD10: 198 | AE10: =IFERROR(SUM(I10:AD10)/SUM(I11:AD11),0) -> 1
H11: ='PANEL DE CONTROL DISTRITAL'!H10 -> Número de fichas requisitadas - Notificaciones de improcedencia de trámite | I11: 88 | J11: 493 | K11: 233 | L11: 320 | M11: 189 | N11: 253 | O11: 166 | P11: 252 | Q11: 164 | R11: 195 | S11: 177 | T11: 298 | U11: 174 | V11: 340 | W11: 343 | X11: 339 | Y11: 201 | Z11: 222 | AA11: 177 | AB11: 674 | AC11: 879 | AD11: 198
A13: ='PANEL DE CONTROL DISTRITAL'!A12 -> 2 | B13: ='PANEL DE CONTROL DISTRITAL'!B12 -> TRÁMITE | C13: ='PANEL DE CONTROL DISTRITAL'!C12 -> Operador de Equipo Tecnológico | D13: ='PANEL DE CONTROL DISTRITAL'!D12 -> Trámites exitosos efectivos= | E13: ='PANEL DE CONTROL DISTRITAL'!E12 -> (Número de trámites exitosos / Número de trámites aplicados) x 100 | F13: ='PANEL DE CONTROL DISTRITAL'!F12 -> Semanal (remesa) | G13: ='PANEL DE CONTROL DISTRITAL'!G12 -> 0.9 | H13: ='PANEL DE CONTROL DISTRITAL'!H12 -> Número de trámites exitosos | I13: 88 | J13: 490 | K13: 232 | L13: 316 | M13: 188 | N13: 253 | O13: 164 | P13: 252 | Q13: 164 | R13: 192 | S13: 176 | T13: 298 | U13: 172 | V13: 339 | W13: 341 | X13: 339 | Y13: 200 | Z13: 222 | AA13: 177 | AB13: 673 | AC13: 877 | AD13: 195 | AE13: =IFERROR(SUM(I13:AD13)/SUM(I14:AD14),0) -> 0.99576471
H14: ='PANEL DE CONTROL DISTRITAL'!H13 -> Número de trámites aplicados | I14: 88 | J14: 493 | K14: 233 | L14: 320 | M14: 189 | N14: 253 | O14: 166 | P14: 252 | Q14: 164 | R14: 195 | S14: 177 | T14: 298 | U14: 174 | V14: 340 | W14: 343 | X14: 339 | Y14: 201 | Z14: 222 | AA14: 177 | AB14: 674 | AC14: 879 | AD14: 198
A16: ='PANEL DE CONTROL DISTRITAL'!A15 -> 3 | B16: ='PANEL DE CONTROL DISTRITAL'!B15 -> TRANSFERENCIA | C16: ='PANEL DE CONTROL DISTRITAL'!C15 -> Responsable de Módulo | D16: ='PANEL DE CONTROL DISTRITAL'!D15 -> Transacciones exitosas = | E16: ='PANEL DE CONTROL DISTRITAL'!E15 -> (Número de Archivos de Transacción aceptados /Total de Archivos de Transacción procesados) x100 | F16: ='PANEL DE CONTROL DISTRITAL'!F15 -> Semanal (remesa) | G16: ='PANEL DE CONTROL DISTRITAL'!G15 -> 0.9 | H16: ='PANEL DE CONTROL DISTRITAL'!H15 -> Número de Archivos de Transacción aceptados | I16: 88 | J16: 493 | K16: 233 | L16: 320 | M16: 189 | N16: 253 | O16: 166 | P16: 252 | Q16: 164 | R16: 195 | S16: 177 | T16: 298 | U16: 174 | V16: 340 | W16: 343 | X16: 339 | Y16: 201 | Z16: 222 | AA16: 177 | AB16: 674 | AC16: 879 | AD16: 198 | AE16: =IFERROR(SUM(I16:AD16)/SUM(I17:AD17),0) -> 1
H17: ='PANEL DE CONTROL DISTRITAL'!H16 -> Total de Archivos de Transacción procesados | I17: 88 | J17: 493 | K17: 233 | L17: 320 | M17: 189 | N17: 253 | O17: 166 | P17: 252 | Q17: 164 | R17: 195 | S17: 177 | T17: 298 | U17: 174 | V17: 340 | W17: 343 | X17: 339 | Y17: 201 | Z17: 222 | AA17: 177 | AB17: 674 | AC17: 879 | AD17: 198
A19: ='PANEL DE CONTROL DISTRITAL'!A18 -> 4 | B19: ='PANEL DE CONTROL DISTRITAL'!B18 -> CONCILIACIÓN | C19: ='PANEL DE CONTROL DISTRITAL'!C18 -> Responsable de Módulo | D19: ='PANEL DE CONTROL DISTRITAL'!D18 -> Credenciales disponibles para entrega = | E19: ='PANEL DE CONTROL DISTRITAL'!E18 -> ((Credenciales recibidas - Credenciales inconsistentes) / Credenciales recibidas) x 100 | F19: ='PANEL DE CONTROL DISTRITAL'!F18 -> Semanal (remesa) | G19: ='PANEL DE CONTROL DISTRITAL'!G18 -> 0.9 | H19: ='PANEL DE CONTROL DISTRITAL'!H18 -> Credenciales Recibidas - Credenciales inconsistentes | I19: 0 | J19: 0 | K19: 0 | L19: 1.037 | M19: 276 | N19: 144 | O19: 200 | P19: 253 | Q19: 169 | R19: 163 | S19: 195 | T19: 240 | U19: 227 | V19: 124 | W19: 419 | X19: 336 | Y19: 285 | Z19: 112 | AA19: 226 | AB19: 470 | AC19: 489 | AD19: 0 | AE19: =IFERROR(SUM(I19:AD19)/SUM(I20:AD20),0) -> 1
H20: ='PANEL DE CONTROL DISTRITAL'!H19 -> Credenciales recibidas | I20: 0 | J20: 0 | K20: 0 | L20: 1.037 | M20: 276 | N20: 144 | O20: 200 | P20: 253 | Q20: 169 | R20: 163 | S20: 195 | T20: 240 | U20: 227 | V20: 124 | W20: 419 | X20: 336 | Y20: 285 | Z20: 112 | AA20: 226 | AB20: 470 | AC20: 489 | AD20: 0
A22: ='PANEL DE CONTROL DISTRITAL'!A21 -> 5 | B22: ='PANEL DE CONTROL DISTRITAL'!B21 -> CONCILIACIÓN | C22: ='PANEL DE CONTROL DISTRITAL'!C21 -> Responsable de Módulo | D22: ='PANEL DE CONTROL DISTRITAL'!D21 -> Credenciales disponibles para entrega = | E22: ='PANEL DE CONTROL DISTRITAL'!E21 -> (Credenciales en resguardo / Credenciales totales en SIIRFE disponibles para entrega) x 100 | F22: ='PANEL DE CONTROL DISTRITAL'!F21 -> Semanal (remesa) | G22: ='PANEL DE CONTROL DISTRITAL'!G21 -> 1 | H22: ='PANEL DE CONTROL DISTRITAL'!H21 -> Credenciales en resguardo | I22: 53 | J22: 51 | K22: 40 | L22: 738 | M22: 761 | N22: 512 | O22: 332 | P22: 379 | Q22: 344 | R22: 317 | S22: 353 | T22: 367 | U22: 473 | V22: 282 | W22: 480 | X22: 395 | Y22: 338 | Z22: 209 | AA22: 333 | AB22: 580 | AC22: 628 | AD22: 531 | AE22: =IFERROR(SUM(I22:AD22)/SUM(I23:AD23),0) -> 1
H23: ='PANEL DE CONTROL DISTRITAL'!H22 -> Credenciales totales en SIIRFE disponibles para entrega | I23: 53 | J23: 51 | K23: 40 | L23: 738 | M23: 761 | N23: 512 | O23: 332 | P23: 379 | Q23: 344 | R23: 317 | S23: 353 | T23: 367 | U23: 473 | V23: 282 | W23: 480 | X23: 395 | Y23: 338 | Z23: 209 | AA23: 333 | AB23: 580 | AC23: 628 | AD23: 531
A25: ='PANEL DE CONTROL DISTRITAL'!A24 -> 6 | B25: ='PANEL DE CONTROL DISTRITAL'!B24 -> ENTREGA | C25: ='PANEL DE CONTROL DISTRITAL'!C24 -> Operador de Equipo Tecnológico | D25: ='PANEL DE CONTROL DISTRITAL'!D24 -> Efectividad de entrega de CPV en MAC = | E25: ='PANEL DE CONTROL DISTRITAL'!E24 -> (Total de credenciales entregadas / Total de credenciales solicitadas) x 100 | F25: ='PANEL DE CONTROL DISTRITAL'!F24 -> Semanal (remesa) | G25: ='PANEL DE CONTROL DISTRITAL'!G24 -> 0.9 | H25: ='PANEL DE CONTROL DISTRITAL'!H24 -> Total de credenciales entregadas | I25: 0 | J25: 2 | K25: 10 | L25: 339 | M25: 253 | N25: 439 | O25: 380 | P25: 206 | Q25: 204 | R25: 190 | S25: 159 | T25: 226 | U25: 121 | V25: 315 | W25: 221 | X25: 418 | Y25: 342 | Z25: 241 | AA25: 102 | AB25: 223 | AC25: 437 | AD25: 97 | AE25: =IFERROR(SUM(I25:AD25)/SUM(I26:AD26),0) -> 0.99134461
H26: ='PANEL DE CONTROL DISTRITAL'!H25 -> Total de credenciales solicitadas | I26: 0 | J26: 2 | K26: 39 | L26: 351 | M26: 253 | N26: 440 | O26: 380 | P26: 206 | Q26: 204 | R26: 190 | S26: 159 | T26: 226 | U26: 121 | V26: 315 | W26: 221 | X26: 418 | Y26: 342 | Z26: 241 | AA26: 102 | AB26: 223 | AC26: 438 | AD26: 97
B27: *Registre el valor nominal solicitado en la celda, el resultado proporcional esta automatizado.
I29: Semaforización
J30: Valor que requiere atención y justificación en el apartado de observaciones
J31: Valor suficiente
J32: Valor esperado
B34: CUADRO DE OBSERVACIONES
B35: Descripción | H35: No conformidad

Sheet 150251
A1: ='PANEL DE CONTROL DISTRITAL'!A1:Q1 -> INSTITUTO NACIONAL ELECTORAL SISTEMA DE GESTIÓN DE LA CALIDAD ESTADO DE MÉXICO
D2: Distrito | E2: 2 | F2: Módulo | H2: 150251 | X2: ='PANEL DE CONTROL DISTRITAL'!M2 -> Fecha de corte: 22/01/2024
A4: TABLERO DE CONTROL DE PROCESOS SUSTANTIVOS DEL SISTEMA DE GESTIÓN DE LA CALIDAD
A6: ='PANEL DE CONTROL DISTRITAL'!A6 -> Número | B6: ='PANEL DE CONTROL DISTRITAL'!B6 -> PROCESOS SUSTANTIVOS E INDICADORES | I6: SEMANA OPERATIVA | AE6: % AVANCE REGISTRADO
B7: ='PANEL DE CONTROL DISTRITAL'!B7 -> DESCRIPCIÓN | E7: ='PANEL DE CONTROL DISTRITAL'!E7 -> MEDICIÓN | I7: ='PANEL DE CONTROL DISTRITAL'!A5 -> CAMPAÑA ANUAL INTENSA 2023
B9: ='PANEL DE CONTROL DISTRITAL'!B8 -> Proceso | C9: ='PANEL DE CONTROL DISTRITAL'!C8 -> Dueño de Proceso | D9: ='PANEL DE CONTROL DISTRITAL'!D8 -> Indicador | E9: ='PANEL DE CONTROL DISTRITAL'!E8 -> Cálculo | F9: ='PANEL DE CONTROL DISTRITAL'!F8 -> Periodo | G9: ='PANEL DE CONTROL DISTRITAL'!G8 -> Estimado | H9: ='PANEL DE CONTROL DISTRITAL'!H8 -> Nominativo | I9: ='150151'!I9 -> 2023-37 | J9: ='150151'!J9 -> 2023-38 | K9: ='150151'!K9 -> 2023-39 | L9: ='150151'!L9 -> 2023-40 | M9: ='150151'!M9 -> 2023-41 | N9: ='150151'!N9 -> 2023-42 | O9: ='150151'!O9 -> 2023-43 | P9: ='150151'!P9 -> 2023-44 | ... X9: ='150151'!X9 -> 2023-52 | Y9: 2023-53 | Z9: 2023-54 | AA9: 2024-01 | AB9: 2024-02 | AC9: 2024-03 | AD9: 2024-04
A10: ='PANEL DE CONTROL DISTRITAL'!A9 -> 1 | B10: ='PANEL DE CONTROL DISTRITAL'!B9 -> ENTREVISTA | C10: ='PANEL DE CONTROL DISTRITAL'!C9 -> Auxiliar de Atención Ciudadana | D10: ='PANEL DE CONTROL DISTRITAL'!D9 -> Efectividad de la entrevista = | E10: ='PANEL DE CONTROL DISTRITAL'!E9 -> (Número de trámites aplicados / (Número de fichas requisitadas - Notificaciones de improcedencia de trámite)) x 100 | F10: ='PANEL DE CONTROL DISTRITAL'!F9 -> Semanal (remesa) | G10: ='PANEL DE CONTROL DISTRITAL'!G9 -> 0.9 | H10: ='PANEL DE CONTROL DISTRITAL'!H9 -> Número de trámites aplicados | I10: 118 | J10: 528 | K10: 480 | L10: 571 | M10: 579 | N10: 606 | O10: 562 | P10: 554 | Q10: 548 | R10: 435 | S10: 781 | T10: 658 | U10: 637 | V10: 983 | W10: 854 | X10: 784 | Y10: 791 | Z10: 718 | AA10: 1065 | AB10: 1473 | AC10: 1451 | AD10: 660 | AE10: =IFERROR(SUM(I10:AD10)/SUM(I11:AD11),0) -> 0.99628814
H11: ='PANEL DE CONTROL DISTRITAL'!H10 -> Número de fichas requisitadas - Notificaciones de improcedencia de trámite | I11: 120 | J11: 535 | K11: 483 | L11: 573 | M11: 582 | N11: 613 | O11: 570 | P11: 556 | Q11: 557 | R11: 437 | S11: 782 | T11: 658 | U11: 637 | V11: 984 | W11: 858 | X11: 785 | Y11: 791 | Z11: 719 | AA11: 1067 | AB11: 1477 | AC11: 1451 | AD11: 660
A13: ='PANEL DE CONTROL DISTRITAL'!A12 -> 2 | B13: ='PANEL DE CONTROL DISTRITAL'!B12 -> TRÁMITE | C13: ='PANEL DE CONTROL DISTRITAL'!C12 -> Operador de Equipo Tecnológico | D13: ='PANEL DE CONTROL DISTRITAL'!D12 -> Trámites exitosos efectivos= | E13: ='PANEL DE CONTROL DISTRITAL'!E12 -> (Número de trámites exitosos / Número de trámites aplicados) x 100 | F13: ='PANEL DE CONTROL DISTRITAL'!F12 -> Semanal (remesa) | G13: ='PANEL DE CONTROL DISTRITAL'!G12 -> 0.9 | H13: ='PANEL DE CONTROL DISTRITAL'!H12 -> Número de trámites exitosos | I13: 118 | J13: 527 | K13: 480 | L13: 571 | M13: 576 | N13: 605 | O13: 561 | P13: 554 | Q13: 546 | R13: 435 | S13: 781 | T13: 658 | U13: 635 | V13: 983 | W13: 852 | X13: 783 | Y13: 791 | Z13: 718 | AA13: 1063 | AB13: 1471 | AC13: 1442 | AD13: 655 | AE13: =IFERROR(SUM(I13:AD13)/SUM(I14:AD14),0) -> 0.9981685
H14: ='PANEL DE CONTROL DISTRITAL'!H13 -> Número de trámites aplicados | I14: 118 | J14: 528 | K14: 480 | L14: 571 | M14: 579 | N14: 606 | O14: 562 | P14: 554 | Q14: 548 | R14: 435 | S14: 781 | T14: 658 | U14: 637 | V14: 983 | W14: 854 | X14: 784 | Y14: 791 | Z14: 718 | AA14: 1063 | AB14: 1473 | AC14: 1451 | AD14: 660
A16: ='PANEL DE CONTROL DISTRITAL'!A15 -> 3 | B16: ='PANEL DE CONTROL DISTRITAL'!B15 -> TRANSFERENCIA | C16: ='PANEL DE CONTROL DISTRITAL'!C15 -> Responsable de Módulo | D16: ='PANEL DE CONTROL DISTRITAL'!D15 -> Transacciones exitosas = | E16: ='PANEL DE CONTROL DISTRITAL'!E15 -> (Número de Archivos de Transacción aceptados /Total de Archivos de Transacción procesados) x100 | F16: ='PANEL DE CONTROL DISTRITAL'!F15 -> Semanal (remesa) | G16: ='PANEL DE CONTROL DISTRITAL'!G15 -> 0.9 | H16: ='PANEL DE CONTROL DISTRITAL'!H15 -> Número de Archivos de Transacción aceptados | I16: 118 | J16: 528 | K16: 480 | L16: 571 | M16: 579 | N16: 606 | O16: 562 | P16: 554 | Q16: 548 | R16: 435 | S16: 781 | T16: 658 | U16: 637 | V16: 983 | W16: 854 | X16: 784 | Y16: 791 | Z16: 718 | AA16: 1065 | AB16: 1472 | AC16: 1451 | AD16: 660 | AE16: =IFERROR(SUM(I16:AD16)/SUM(I17:AD17),0) -> 1
H17: ='PANEL DE CONTROL DISTRITAL'!H16 -> Total de Archivos de Transacción procesados | I17: 118 | J17: 528 | K17: 480 | L17: 571 | M17: 579 | N17: 606 | O17: 562 | P17: 554 | Q17: 548 | R17: 435 | S17: 781 | T17: 658 | U17: 637 | V17: 983 | W17: 854 | X17: 784 | Y17: 791 | Z17: 718 | AA17: 1065 | AB17: 1472 | AC17: 1451 | AD17: 660
A18: 698
A19: ='PANEL DE CONTROL DISTRITAL'!A18 -> 4 | B19: ='PANEL DE CONTROL DISTRITAL'!B18 -> CONCILIACIÓN | C19: ='PANEL DE CONTROL DISTRITAL'!C18 -> Responsable de Módulo | D19: ='PANEL DE CONTROL DISTRITAL'!D18 -> Credenciales disponibles para entrega = | E19: ='PANEL DE CONTROL DISTRITAL'!E18 -> ((Credenciales recibidas - Credenciales inconsistentes) / Credenciales recibidas) x 100 | F19: ='PANEL DE CONTROL DISTRITAL'!F18 -> Semanal (remesa) | G19: ='PANEL DE CONTROL DISTRITAL'!G18 -> 0.9 | H19: ='PANEL DE CONTROL DISTRITAL'!H18 -> Credenciales Recibidas - Credenciales inconsistentes | I19: 94 | J19: 616 | K19: 535 | L19: 468 | M19: 573 | N19: 609 | O19: 592 | P19: 531 | Q19: 555 | R19: 443 | S19: 645 | T19: 709 | U19: 553 | V19: 908 | W19: 795 | X19: 917 | Y19: 698 | Z19: 290 | AA19: 687 | AB19: 1539 | AC19: 1277 | AD19: 143 | AE19: =IFERROR(SUM(I19:AD19)/SUM(I20:AD20),0) -> 1
H20: ='PANEL DE CONTROL DISTRITAL'!H19 -> Credenciales recibidas | I20: 94 | J20: 616 | K20: 535 | L20: 468 | M20: 573 | N20: 609 | O20: 592 | P20: 531 | Q20: 555 | R20: 443 | S20: 645 | T20: 709 | U20: 553 | V20: 908 | W20: 795 | X20: 917 | Y20: 698 | Z20: 290 | AA20: 687 | AB20: 1539 | AC20: 1277 | AD20: 143
A22: ='PANEL DE CONTROL DISTRITAL'!A21 -> 5 | B22: ='PANEL DE CONTROL DISTRITAL'!B21 -> CONCILIACIÓN | C22: ='PANEL DE CONTROL DISTRITAL'!C21 -> Responsable de Módulo | D22: ='PANEL DE CONTROL DISTRITAL'!D21 -> Credenciales disponibles para entrega = | E22: ='PANEL DE CONTROL DISTRITAL'!E21 -> (Credenciales en resguardo / Credenciales totales en SIIRFE disponibles para entrega) x 100 | F22: ='PANEL DE CONTROL DISTRITAL'!F21 -> Semanal (remesa) | G22: ='PANEL DE CONTROL DISTRITAL'!G21 -> 1 | H22: ='PANEL DE CONTROL DISTRITAL'!H21 -> Credenciales en resguardo | I22: 1089 | J22: 1126 | K22: 1084 | L22: 990 | M22: 1000 | N22: 1067 | O22: 1091 | P22: 1006 | Q22: 1003 | R22: 990 | S22: 995 | T22: 1050 | U22: 986 | V22: 1323 | W22: 1270 | X22: 1317 | Y22: 1186 | Z22: 725 | AA22: 716 | AB22: 1262 | AC22: 1188 | AD22: 1178 | AE22: =IFERROR(SUM(I22:AD22)/SUM(I23:AD23),0) -> 1
H23: ='PANEL DE CONTROL DISTRITAL'!H22 -> Credenciales totales en SIIRFE disponibles para entrega | I23: 1089 | J23: 1126 | K23: 1084 | L23: 990 | M23: 1000 | N23: 1067 | O23: 1091 | P23: 1006 | Q23: 1003 | R23: 990 | S23: 995 | T23: 1050 | U23: 986 | V23: 1323 | W23: 1270 | X23: 1317 | Y23: 1186 | Z23: 725 | AA23: 716 | AB23: 1262 | AC23: 1188 | AD23: 1178
A25: ='PANEL DE CONTROL DISTRITAL'!A24 -> 6 | B25: ='PANEL DE CONTROL DISTRITAL'!B24 -> ENTREGA | C25: ='PANEL DE CONTROL DISTRITAL'!C24 -> Operador de Equipo Tecnológico | D25: ='PANEL DE CONTROL DISTRITAL'!D24 -> Efectividad de entrega de CPV en MAC = | E25: ='PANEL DE CONTROL DISTRITAL'!E24 -> (Total de credenciales entregadas / Total de credenciales solicitadas) x 100 | F25: ='PANEL DE CONTROL DISTRITAL'!F24 -> Semanal (remesa) | G25: ='PANEL DE CONTROL DISTRITAL'!G24 -> 0.9 | H25: ='PANEL DE CONTROL DISTRITAL'!H24 -> Total de credenciales entregadas | I25: 110 | J25: 548 | K25: 563 | L25: 562 | M25: 563 | N25: 533 | O25: 568 | P25: 616 | Q25: 558 | R25: 456 | S25: 631 | T25: 654 | U25: 617 | V25: 571 | W25: 847 | X25: 870 | Y25: 829 | Z25: 751 | AA25: 696 | AB25: 993 | AC25: 1340 | AD25: 153 | AE25: =IFERROR(SUM(I25:AD25)/SUM(I26:AD26),0) -> 0.99950128
H26: ='PANEL DE CONTROL DISTRITAL'!H25 -> Total de credenciales solicitadas | I26: 110 | J26: 548 | K26: 565 | L26: 562 | M26: 563 | N26: 533 | O26: 569 | P26: 616 | Q26: 558 | R26: 456 | S26: 634 | T26: 655 | U26: 617 | V26: 571 | W26: 847 | X26: 870 | Y26: 829 | Z26: 751 | AA26: 696 | AB26: 993 | AC26: 1340 | AD26: 153
B27: *Registre el valor nominal solicitado en la celda, el resultado proporcional esta automatizado.
I29: Semaforización
J30: Valor que requiere atención y justificación en el apartado de observaciones
J31: Valor suficiente
J32: Valor esperado
B34: CUADRO DE OBSERVACIONES
B35: Descripción | H35: No conformidad

Sheet 150253
A1: ='PANEL DE CONTROL DISTRITAL'!A1:Q1 -> INSTITUTO NACIONAL ELECTORAL SISTEMA DE GESTIÓN DE LA CALIDAD ESTADO DE MÉXICO
D2: Distrito | E2: 2 | F2: Módulo | H2: 150253 | X2: ='PANEL DE CONTROL DISTRITAL'!M2 -> Fecha de corte: 22/01/2024
A4: TABLERO DE CONTROL DE PROCESOS SUSTANTIVOS DEL SISTEMA DE GESTIÓN DE LA CALIDAD
A6: ='PANEL DE CONTROL DISTRITAL'!A6 -> Número | B6: ='PANEL DE CONTROL DISTRITAL'!B6 -> PROCESOS SUSTANTIVOS E INDICADORES | I6: SEMANA OPERATIVA | AE6: % AVANCE REGISTRADO
B7: ='PANEL DE CONTROL DISTRITAL'!B7 -> DESCRIPCIÓN | E7: ='PANEL DE CONTROL DISTRITAL'!E7 -> MEDICIÓN | I7: ='PANEL DE CONTROL DISTRITAL'!A5 -> CAMPAÑA ANUAL INTENSA 2023
B9: ='PANEL DE CONTROL DISTRITAL'!B8 -> Proceso | C9: ='PANEL DE CONTROL DISTRITAL'!C8 -> Dueño de Proceso | D9: ='PANEL DE CONTROL DISTRITAL'!D8 -> Indicador | E9: ='PANEL DE CONTROL DISTRITAL'!E8 -> Cálculo | F9: ='PANEL DE CONTROL DISTRITAL'!F8 -> Periodo | G9: ='PANEL DE CONTROL DISTRITAL'!G8 -> Estimado | H9: ='PANEL DE CONTROL DISTRITAL'!H8 -> Nominativo | I9: ='150151'!I9 -> 2023-37 | J9: ='150151'!J9 -> 2023-38 | K9: ='150151'!K9 -> 2023-39 | L9: ='150151'!L9 -> 2023-40 | M9: ='150151'!M9 -> 2023-41 | N9: ='150151'!N9 -> 2023-42 | O9: ='150151'!O9 -> 2023-43 | P9: ='150151'!P9 -> 2023-44 | ... X9: ='150151'!X9 -> 2023-52 | Y9: 2023-53 | Z9: 2023-54 | AA9: 2024-01 | AB9: 2024-02 | AC9: 2024-03 | AD9: 2024-04
A10: ='PANEL DE CONTROL DISTRITAL'!A9 -> 1 | B10: ='PANEL DE CONTROL DISTRITAL'!B9 -> ENTREVISTA | C10: ='PANEL DE CONTROL DISTRITAL'!C9 -> Auxiliar de Atención Ciudadana | D10: ='PANEL DE CONTROL DISTRITAL'!D9 -> Efectividad de la entrevista = | E10: ='PANEL DE CONTROL DISTRITAL'!E9 -> (Número de trámites aplicados / (Número de fichas requisitadas - Notificaciones de improcedencia de trámite)) x 100 | F10: ='PANEL DE CONTROL DISTRITAL'!F9 -> Semanal (remesa) | G10: ='PANEL DE CONTROL DISTRITAL'!G9 -> 0.9 | H10: ='PANEL DE CONTROL DISTRITAL'!H9 -> Número de trámites aplicados | I10: 119 | J10: 586 | K10: 492 | L10: 615 | M10: 657 | N10: 613 | O10: 861 | P10: 940 | Q10: 804 | R10: 601 | S10: 893 | T10: 1074 | U10: 901 | V10: 1330 | W10: 1237 | X10: 1014 | Y10: 1216 | Z10: 1042 | AA10: 1496 | AB10: 2003 | AC10: 2030 | AD10: 835 | AE10: =IFERROR(SUM(I10:AD10)/SUM(I11:AD11),0) -> 0.98022028
H11: ='PANEL DE CONTROL DISTRITAL'!H10 -> Número de fichas requisitadas - Notificaciones de improcedencia de trámite | I11: 119 | J11: 588 | K11: 492 | L11: 619 | M11: 657 | N11: 638 | O11: 888 | P11: 961 | Q11: 827 | R11: 589 | S11: 950 | T11: 1037 | U11: 903 | V11: 1375 | W11: 1248 | X11: 1069 | Y11: 1248 | Z11: 1083 | AA11: 1533 | AB11: 2055 | AC11: 2069 | AD11: 842
A13: ='PANEL DE CONTROL DISTRITAL'!A12 -> 2 | B13: ='PANEL DE CONTROL DISTRITAL'!B12 -> TRÁMITE | C13: ='PANEL DE CONTROL DISTRITAL'!C12 -> Operador de Equipo Tecnológico | D13: ='PANEL DE CONTROL DISTRITAL'!D12 -> Trámites exitosos efectivos= | E13: ='PANEL DE CONTROL DISTRITAL'!E12 -> (Número de trámites exitosos / Número de trámites aplicados) x 100 | F13: ='PANEL DE CONTROL DISTRITAL'!F12 -> Semanal (remesa) | G13: ='PANEL DE CONTROL DISTRITAL'!G12 -> 0.9 | H13: ='PANEL DE CONTROL DISTRITAL'!H12 -> Número de trámites exitosos | I13: 118 | J13: 586 | K13: 491 | L13: 618 | M13: 657 | N13: 612 | O13: 861 | P13: 939 | Q13: 476 | R13: 600 | S13: 893 | T13: 1072 | U13: 900 | V13: 1324 | W13: 1237 | X13: 1013 | Y13: 1210 | Z13: 1038 | AA13: 1493 | AB13: 1999 | AC13: 2015 | AD13: 830 | AE13: =IFERROR(SUM(I13:AD13)/SUM(I14:AD14),0) -> 0.98216543
